Workbook

Sheet OVERZICHT VOOR ORGANISATIE
A1: ZORGINSCHALINGSINSTRUMENT KIND AAN ZET - STAD ANTWERPEN Inschalingsinstrument voor kinderen met een ondersteuningsbehoefte
A2: Om tot een zorginschaling te komen, vul je per kind een tabblad in. Wanneer je bij elke vraag een antwoord selecteert, wordt automatisch een zorgscore en een type begeleiding berekend. De gegevens van de afzonderlijke tabbladen worden automatisch overgenomen in de rode kolommen. Alle antwoorden op de vragen dragen bij tot de zorgscore. De zorgscore levert via onderstaande grijze tabel een type begeleiding op.
A4: VAN | B4: TOT | C4: TYPE BEGELEIDING
A5: 0 | B5: 6 | C5: Geen zorgondersteuning
A6: 7 | B6: 15 | C6: Type begeleiding 1 op 8
A7: 16 | B7: 25 | C7: Type begeleiding 1 op 4
A8: 26 | B8: 40 | C8: Type begeleiding 1 op 2
A9: 41 | B9: 55 | C9: Type begeleiding 1 op 1
C12: NAAM | D12: RIJKSREGISTERNR | E12: ZORGSCORE | F12: TYPE BEGELEIDING
A13: DEELNEMER | B13: 1 | C13: =IFERROR(IF(INDIRECT(""&$B13&"!B1")="(vul hier een naam in)","",INDIRECT(""&$B13&"!B1")),"") | D13: =IFERROR(IF(INDIRECT(""&$B13&"!B2")="(vul hier het rijksregisternummer in)","",INDIRECT(""&$B13&"!B2")),"") | E13: =IFERROR(IF(ISNUMBER(INDIRECT(""&$B13&"!B3"))=TRUE,INDIRECT(""&$B13&"!B3"),""),"") | F13: =IFERROR(INDIRECT(""&$B13&"!B4"),"")
A14: DEELNEMER | B14: 2 | C14: =IFERROR(IF(INDIRECT(""&$B14&"!B1")="(vul hier een naam in)","",INDIRECT(""&$B14&"!B1")),"") | D14: =IFERROR(IF(INDIRECT(""&$B14&"!B2")="(vul hier het rijksregisternummer in)","",INDIRECT(""&$B14&"!B2")),"") | E14: =IFERROR(IF(ISNUMBER(INDIRECT(""&$B14&"!B3"))=TRUE,INDIRECT(""&$B14&"!B3"),""),"") | F14: =IFERROR(INDIRECT(""&$B14&"!B4"),"")
A15: DEELNEMER | B15: 3 | C15: =IFERROR(IF(INDIRECT(""&$B15&"!B1")="(vul hier een naam in)","",INDIRECT(""&$B15&"!B1")),"") | D15: =IFERROR(IF(INDIRECT(""&$B15&"!B2")="(vul hier het rijksregisternummer in)","",INDIRECT(""&$B15&"!B2")),"") | E15: =IFERROR(IF(ISNUMBER(INDIRECT(""&$B15&"!B3"))=TRUE,INDIRECT(""&$B15&"!B3"),""),"") | F15: =IFERROR(INDIRECT(""&$B15&"!B4"),"")
A16: DEELNEMER | B16: 4 | C16: =IFERROR(IF(INDIRECT(""&$B16&"!B1")="(vul hier een naam in)","",INDIRECT(""&$B16&"!B1")),"") | D16: =IFERROR(IF(INDIRECT(""&$B16&"!B2")="(vul hier het rijksregisternummer in)","",INDIRECT(""&$B16&"!B2")),"") | E16: =IFERROR(IF(ISNUMBER(INDIRECT(""&$B16&"!B3"))=TRUE,INDIRECT(""&$B16&"!B3"),""),"") | F16: =IFERROR(INDIRECT(""&$B16&"!B4"),"")
A17: DEELNEMER | B17: 5 | C17: =IFERROR(IF(INDIRECT(""&$B17&"!B1")="(vul hier een naam in)","",INDIRECT(""&$B17&"!B1")),"") | D17: =IFERROR(IF(INDIRECT(""&$B17&"!B2")="(vul hier het rijksregisternummer in)","",INDIRECT(""&$B17&"!B2")),"") | E17: =IFERROR(IF(ISNUMBER(INDIRECT(""&$B17&"!B3"))=TRUE,INDIRECT(""&$B17&"!B3"),""),"") | F17: =IFERROR(INDIRECT(""&$B17&"!B4"),"")
A18: DEELNEMER | B18: 6 | C18: =IFERROR(IF(INDIRECT(""&$B18&"!B1")="(vul hier een naam in)","",INDIRECT(""&$B18&"!B1")),"") | D18: =IFERROR(IF(INDIRECT(""&$B18&"!B2")="(vul hier het rijksregisternummer in)","",INDIRECT(""&$B18&"!B2")),"") | E18: =IFERROR(IF(ISNUMBER(INDIRECT(""&$B18&"!B3"))=TRUE,INDIRECT(""&$B18&"!B3"),""),"") | F18: =IFERROR(INDIRECT(""&$B18&"!B4"),"")
A19: DEELNEMER | B19: 7 | C19: =IFERROR(IF(INDIRECT(""&$B19&"!B1")="(vul hier een naam in)","",INDIRECT(""&$B19&"!B1")),"") | D19: =IFERROR(IF(INDIRECT(""&$B19&"!B2")="(vul hier het rijksregisternummer in)","",INDIRECT(""&$B19&"!B2")),"") | E19: =IFERROR(IF(ISNUMBER(INDIRECT(""&$B19&"!B3"))=TRUE,INDIRECT(""&$B19&"!B3"),""),"") | F19: =IFERROR(INDIRECT(""&$B19&"!B4"),"")
A20: DEELNEMER | B20: 8 | C20: =IFERROR(IF(INDIRECT(""&$B20&"!B1")="(vul hier een naam in)","",INDIRECT(""&$B20&"!B1")),"") | D20: =IFERROR(IF(INDIRECT(""&$B20&"!B2")="(vul hier het rijksregisternummer in)","",INDIRECT(""&$B20&"!B2")),"") | E20: =IFERROR(IF(ISNUMBER(INDIRECT(""&$B20&"!B3"))=TRUE,INDIRECT(""&$B20&"!B3"),""),"") | F20: =IFERROR(INDIRECT(""&$B20&"!B4"),"")
A21: DEELNEMER | B21: 9 | C21: =IFERROR(IF(INDIRECT(""&$B21&"!B1")="(vul hier een naam in)","",INDIRECT(""&$B21&"!B1")),"") | D21: =IFERROR(IF(INDIRECT(""&$B21&"!B2")="(vul hier het rijksregisternummer in)","",INDIRECT(""&$B21&"!B2")),"") | E21: =IFERROR(IF(ISNUMBER(INDIRECT(""&$B21&"!B3"))=TRUE,INDIRECT(""&$B21&"!B3"),""),"") | F21: =IFERROR(INDIRECT(""&$B21&"!B4"),"")
A22: DEELNEMER | B22: 10 | C22: =IFERROR(IF(INDIRECT(""&$B22&"!B1")="(vul hier een naam in)","",INDIRECT(""&$B22&"!B1")),"") | D22: =IFERROR(IF(INDIRECT(""&$B22&"!B2")="(vul hier het rijksregisternummer in)","",INDIRECT(""&$B22&"!B2")),"") | E22: =IFERROR(IF(ISNUMBER(INDIRECT(""&$B22&"!B3"))=TRUE,INDIRECT(""&$B22&"!B3"),""),"") | F22: =IFERROR(INDIRECT(""&$B22&"!B4"),"")
A23: DEELNEMER | B23: 11 | C23: =IFERROR(IF(INDIRECT(""&$B23&"!B1")="(vul hier een naam in)","",INDIRECT(""&$B23&"!B1")),"") | D23: =IFERROR(IF(INDIRECT(""&$B23&"!B2")="(vul hier het rijksregisternummer in)","",INDIRECT(""&$B23&"!B2")),"") | E23: =IFERROR(IF(ISNUMBER(INDIRECT(""&$B23&"!B3"))=TRUE,INDIRECT(""&$B23&"!B3"),""),"") | F23: =IFERROR(INDIRECT(""&$B23&"!B4"),"")
A24: DEELNEMER | B24: 12 | C24: =IFERROR(IF(INDIRECT(""&$B24&"!B1")="(vul hier een naam in)","",INDIRECT(""&$B24&"!B1")),"") | D24: =IFERROR(IF(INDIRECT(""&$B24&"!B2")="(vul hier het rijksregisternummer in)","",INDIRECT(""&$B24&"!B2")),"") | E24: =IFERROR(IF(ISNUMBER(INDIRECT(""&$B24&"!B3"))=TRUE,INDIRECT(""&$B24&"!B3"),""),"") | F24: =IFERROR(INDIRECT(""&$B24&"!B4"),"")
... A62: DEELNEMER | B62: 50 | C62: =IFERROR(IF(INDIRECT(""&$B62&"!B1")="(vul hier een naam in)","",INDIRECT(""&$B62&"!B1")),"") | D62: =IFERROR(IF(INDIRECT(""&$B62&"!B2")="(vul hier het rijksregisternummer in)","",INDIRECT(""&$B62&"!B2")),"") | E62: =IFERROR(IF(ISNUMBER(INDIRECT(""&$B62&"!B3"))=TRUE,INDIRECT(""&$B62&"!B3"),""),"") | F62: =IFERROR(INDIRECT(""&$B62&"!B4"),"")
A63: DEELNEMER | B63: 51 | D63: =IFERROR(IF(INDIRECT(""&$B63&"!B2")="(vul hier het rijksregisternummer in)","",INDIRECT(""&$B63&"!B2")),"") | E63: =IFERROR(IF(ISNUMBER(INDIRECT(""&$B63&"!B3"))=TRUE,INDIRECT(""&$B63&"!B3"),""),"") | F63: =IFERROR(INDIRECT(""&$B63&"!B4"),"")
A64: DEELNEMER | B64: 52 | D64: =IFERROR(IF(INDIRECT(""&$B64&"!B2")="(vul hier het rijksregisternummer in)","",INDIRECT(""&$B64&"!B2")),"") | E64: =IFERROR(IF(ISNUMBER(INDIRECT(""&$B64&"!B3"))=TRUE,INDIRECT(""&$B64&"!B3"),""),"") | F64: =IFERROR(INDIRECT(""&$B64&"!B4"),"")
A65: DEELNEMER | B65: 53 | D65: =IFERROR(IF(INDIRECT(""&$B65&"!B2")="(vul hier het rijksregisternummer in)","",INDIRECT(""&$B65&"!B2")),"") | E65: =IFERROR(IF(ISNUMBER(INDIRECT(""&$B65&"!B3"))=TRUE,INDIRECT(""&$B65&"!B3"),""),"") | F65: =IFERROR(INDIRECT(""&$B65&"!B4"),"")
A66: DEELNEMER | B66: 54 | D66: =IFERROR(IF(INDIRECT(""&$B66&"!B2")="(vul hier het rijksregisternummer in)","",INDIRECT(""&$B66&"!B2")),"") | E66: =IFERROR(IF(ISNUMBER(INDIRECT(""&$B66&"!B3"))=TRUE,INDIRECT(""&$B66&"!B3"),""),"") | F66: =IFERROR(INDIRECT(""&$B66&"!B4"),"")
A67: DEELNEMER | B67: 55 | D67: =IFERROR(IF(INDIRECT(""&$B67&"!B2")="(vul hier het rijksregisternummer in)","",INDIRECT(""&$B67&"!B2")),"") | E67: =IFERROR(IF(ISNUMBER(INDIRECT(""&$B67&"!B3"))=TRUE,INDIRECT(""&$B67&"!B3"),""),"") | F67: =IFERROR(INDIRECT(""&$B67&"!B4"),"")
A68: DEELNEMER | B68: 56 | D68: =IFERROR(IF(INDIRECT(""&$B68&"!B2")="(vul hier het rijksregisternummer in)","",INDIRECT(""&$B68&"!B2")),"") | E68: =IFERROR(IF(ISNUMBER(INDIRECT(""&$B68&"!B3"))=TRUE,INDIRECT(""&$B68&"!B3"),""),"") | F68: =IFERROR(INDIRECT(""&$B68&"!B4"),"")
A69: DEELNEMER | B69: 57 | D69: =IFERROR(IF(INDIRECT(""&$B69&"!B2")="(vul hier het rijksregisternummer in)","",INDIRECT(""&$B69&"!B2")),"") | E69: =IFERROR(IF(ISNUMBER(INDIRECT(""&$B69&"!B3"))=TRUE,INDIRECT(""&$B69&"!B3"),""),"") | F69: =IFERROR(INDIRECT(""&$B69&"!B4"),"")
A70: DEELNEMER | B70: 58 | D70: =IFERROR(IF(INDIRECT(""&$B70&"!B2")="(vul hier het rijksregisternummer in)","",INDIRECT(""&$B70&"!B2")),"") | E70: =IFERROR(IF(ISNUMBER(INDIRECT(""&$B70&"!B3"))=TRUE,INDIRECT(""&$B70&"!B3"),""),"") | F70: =IFERROR(INDIRECT(""&$B70&"!B4"),"")
A71: DEELNEMER | B71: 59 | D71: =IFERROR(IF(INDIRECT(""&$B71&"!B2")="(vul hier het rijksregisternummer in)","",INDIRECT(""&$B71&"!B2")),"") | E71: =IFERROR(IF(ISNUMBER(INDIRECT(""&$B71&"!B3"))=TRUE,INDIRECT(""&$B71&"!B3"),""),"") | F71: =IFERROR(INDIRECT(""&$B71&"!B4"),"")
A72: DEELNEMER | B72: 60 | D72: =IFERROR(IF(INDIRECT(""&$B72&"!B2")="(vul hier het rijksregisternummer in)","",INDIRECT(""&$B72&"!B2")),"") | E72: =IFERROR(IF(ISNUMBER(INDIRECT(""&$B72&"!B3"))=TRUE,INDIRECT(""&$B72&"!B3"),""),"") | F72: =IFERROR(INDIRECT(""&$B72&"!B4"),"")
A73: DEELNEMER | B73: 61 | D73: =IFERROR(IF(INDIRECT(""&$B73&"!B2")="(vul hier het rijksregisternummer in)","",INDIRECT(""&$B73&"!B2")),"") | E73: =IFERROR(IF(ISNUMBER(INDIRECT(""&$B73&"!B3"))=TRUE,INDIRECT(""&$B73&"!B3"),""),"") | F73: =IFERROR(INDIRECT(""&$B73&"!B4"),"")
A74: DEELNEMER | B74: 62 | D74: =IFERROR(IF(INDIRECT(""&$B74&"!B2")="(vul hier het rijksregisternummer in)","",INDIRECT(""&$B74&"!B2")),"") | E74: =IFERROR(IF(ISNUMBER(INDIRECT(""&$B74&"!B3"))=TRUE,INDIRECT(""&$B74&"!B3"),""),"") | F74: =IFERROR(INDIRECT(""&$B74&"!B4"),"")
... A112: DEELNEMER | B112: 100 | D112: =IFERROR(IF(INDIRECT(""&$B112&"!B2")="(vul hier het rijksregisternummer in)","",INDIRECT(""&$B112&"!B2")),"") | E112: =IFERROR(IF(ISNUMBER(INDIRECT(""&$B112&"!B3"))=TRUE,INDIRECT(""&$B112&"!B3"),""),"") | F112: =IFERROR(INDIRECT(""&$B112&"!B4"),"")

Sheet RAPPORTAGE KIND AAN ZET
A1: RAPPORTAGE AAN KIND AAN ZET - STAD ANTWERPEN Dit tabblad is in functie van je rapportage aan kind aan zet.
A2: Dit rode kolommen wordt automatisch opgemaakt aan de hand van de gegevens die je invult in de overige tabbladen per kind. De persoonsgevoelige gegevens worden niet meegenomen. In de oranje kolommen kan je aangeven hoeveel dagen het kind aanwezig was en eventueel een bijkomende nota maken. In de grijze tabel staat een overzicht van alle kinderen volgens de type begeleiding.
A4: TYPE BEGELEIDING | D4: AANTAL UNIEKE KINDEREN | E4: AANTAL DAGEN
A5: Geen zorgondersteuning | D5: =COUNTIF($D$13:$D$1000,A5) -> 0 | E5: =SUMIF($D$13:$D$1000,A5,$E$13:$E$1000) -> 0
A6: Type begeleiding 1 op 8 | D6: =COUNTIF($D$13:$D$1000,A6) -> 0 | E6: =SUMIF($D$13:$D$1000,A6,$E$13:$E$1000) -> 0
A7: Type begeleiding 1 op 4 | D7: =COUNTIF($D$13:$D$1000,A7) -> 0 | E7: =SUMIF($D$13:$D$1000,A7,$E$13:$E$1000) -> 0
A8: Type begeleiding 1 op 2 | D8: =COUNTIF($D$13:$D$1000,A8) -> 0 | E8: =SUMIF($D$13:$D$1000,A8,$E$13:$E$1000) -> 0
A9: Type begeleiding 1 op 1 | D9: =COUNTIF($D$13:$D$1000,A9) -> 0 | E9: =SUMIF($D$13:$D$1000,A9,$E$13:$E$1000) -> 0
C12: ZORGSCORE | D12: TYPE BEGELEIDING | E12: AANTAL DAGEN | F12: NOTA
A13: DEELNEMER | B13: 1 | C13: =IFERROR(IF(ISNUMBER(INDIRECT(""&$B13&"!B3"))=TRUE,INDIRECT(""&$B13&"!B3"),""),"") | D13: =IFERROR(INDIRECT(""&$B13&"!B4"),"")
A14: DEELNEMER | B14: 2 | C14: =IFERROR(IF(ISNUMBER(INDIRECT(""&$B14&"!B3"))=TRUE,INDIRECT(""&$B14&"!B3"),""),"") | D14: =IFERROR(INDIRECT(""&$B14&"!B4"),"")
A15: DEELNEMER | B15: 3 | C15: =IFERROR(IF(ISNUMBER(INDIRECT(""&$B15&"!B3"))=TRUE,INDIRECT(""&$B15&"!B3"),""),"") | D15: =IFERROR(INDIRECT(""&$B15&"!B4"),"")
A16: DEELNEMER | B16: 4 | C16: =IFERROR(IF(ISNUMBER(INDIRECT(""&$B16&"!B3"))=TRUE,INDIRECT(""&$B16&"!B3"),""),"") | D16: =IFERROR(INDIRECT(""&$B16&"!B4"),"")
A17: DEELNEMER | B17: 5 | C17: =IFERROR(IF(ISNUMBER(INDIRECT(""&$B17&"!B3"))=TRUE,INDIRECT(""&$B17&"!B3"),""),"") | D17: =IFERROR(INDIRECT(""&$B17&"!B4"),"")
A18: DEELNEMER | B18: 6 | C18: =IFERROR(IF(ISNUMBER(INDIRECT(""&$B18&"!B3"))=TRUE,INDIRECT(""&$B18&"!B3"),""),"") | D18: =IFERROR(INDIRECT(""&$B18&"!B4"),"")
A19: DEELNEMER | B19: 7 | C19: =IFERROR(IF(ISNUMBER(INDIRECT(""&$B19&"!B3"))=TRUE,INDIRECT(""&$B19&"!B3"),""),"") | D19: =IFERROR(INDIRECT(""&$B19&"!B4"),"")
A20: DEELNEMER | B20: 8 | C20: =IFERROR(IF(ISNUMBER(INDIRECT(""&$B20&"!B3"))=TRUE,INDIRECT(""&$B20&"!B3"),""),"") | D20: =IFERROR(INDIRECT(""&$B20&"!B4"),"")
A21: DEELNEMER | B21: 9 | C21: =IFERROR(IF(ISNUMBER(INDIRECT(""&$B21&"!B3"))=TRUE,INDIRECT(""&$B21&"!B3"),""),"") | D21: =IFERROR(INDIRECT(""&$B21&"!B4"),"")
A22: DEELNEMER | B22: 10 | C22: =IFERROR(IF(ISNUMBER(INDIRECT(""&$B22&"!B3"))=TRUE,INDIRECT(""&$B22&"!B3"),""),"") | D22: =IFERROR(INDIRECT(""&$B22&"!B4"),"")
A23: DEELNEMER | B23: 11 | C23: =IFERROR(IF(ISNUMBER(INDIRECT(""&$B23&"!B3"))=TRUE,INDIRECT(""&$B23&"!B3"),""),"") | D23: =IFERROR(INDIRECT(""&$B23&"!B4"),"")
A24: DEELNEMER | B24: 12 | C24: =IFERROR(IF(ISNUMBER(INDIRECT(""&$B24&"!B3"))=TRUE,INDIRECT(""&$B24&"!B3"),""),"") | D24: =IFERROR(INDIRECT(""&$B24&"!B4"),"")
... A112: DEELNEMER | B112: 100 | C112: =IFERROR(IF(ISNUMBER(INDIRECT(""&$B112&"!B3"))=TRUE,INDIRECT(""&$B112&"!B3"),""),"") | D112: =IFERROR(INDIRECT(""&$B112&"!B4"),"")

Sheet 1
A1: NAAM | B1: (vul hier een naam in)
A2: RIJKSREGISTERNR | B2: (vul hier het rijksregisternummer in)
A3: ZORGSCORE | B3: =IF(( COUNTIF(B10,"Selecteer een antwoord")+ COUNTIF(B19,"Selecteer een antwoord")+ COUNTIF(B28,"Selecteer een antwoord")+ COUNTIF(B37,"Selecteer een antwoord")+ COUNTIF(B46,"Selecteer een antwoord")+ COUNTIF(B60,"Selecteer een antwoord")+ COUNTIF(B69,"Selecteer een antwoord")+ COUNTIF(B78,"Selecteer een antwoord")+ COUNTIF(B87,"Selecteer een antwoord")+ COUNTIF(B96,"Selecteer een antwoord"))>=1,"Zodra je per vraag 1 antwoord selecteert, verschijnt hieronder een zorgscore en een type begeleiding. Wanneer je meerdere antwoorden per vraag selecteert, verschijnt hieronder een foutcode.", IFERROR(B10+B19+B28+B37+B46+B60+B69+B78+B87+B96,"FOUTCODE: Je selecteerde meerdere antwoorden bij een vraag. Controleer je antwoorden en pas aan.")) -> Zodra je per vraag 1 antwoord selecteert, verschijnt hieronder een zorgscore en een type begeleiding. Wanneer je meerdere antwoorden per vraag selecteert, verschijnt hieronder een foutcode.
A4: TYPE BEGELEIDING | B4: =IF(ISTEXT(B3),"",_xlfn.XLOOKUP(B3,'OVERZICHT VOOR ORGANISATIE'!A5:A9,'OVERZICHT VOOR ORGANISATIE'!C5:C9,"",-1))
A6: VRAGEN ROND DE BEGELEIDING (planbare interventies)
A7: Begeleidingsintensiteit gaat over de mate waarin het kind met een ondersteuningsnood tijdens de activiteit ondersteuning nodig heeft van andere personen. We brengen daarbij alle ondersteuning in kaart, ongeacht wie die ondersteuning biedt. Deze planbare ondersteuning kan eventueel ook opgenomen worden door andere deelnemers aan de activiteit.
A9: ZELFREDZAAMHEID TIJDENS SPEL / ACTIVITEIT
A10: SCORE | B10: =IF(COUNTIF(A11:A15,TRUE)=0,"Selecteer een antwoord",IF(COUNTIF(A11:A15,TRUE)>1,"Je kan maar 1 antwoord selecteren",IF(A11=TRUE,0,IF(A12=TRUE,1,IF(A13=TRUE,2,IF(A14=TRUE,3,IF(A15=TRUE,4))))))) -> Selecteer een antwoord
A11: FALSE | B11: Speelt doorgaans volledig zelfstandig (al dan niet in groep).
A12: FALSE | B12: Heeft soms hulp nodig om tot spelen te komen, maar speelt vervolgens zelfstandig (al dan niet in groep).
A13: FALSE | B13: Heeft doorgaans begeleiding nodig om tot spelen te komen en te blijven spelen.
A14: FALSE | B14: Frequente acties van de begeleiding zijn noodzakelijk om tot spelen te komen en te blijven spelen.
A15: FALSE | B15: Blijvende begeleiding is noodzakelijk om tot spelen te komen.
A18: BEGRIJPEN VAN REGELS Bv. bij speluitleg, activiteit, ‘huisregels’...
A19: SCORE | B19: =IF(COUNTIF(A20:A24,TRUE)=0,"Selecteer een antwoord",IF(COUNTIF(A20:A24,TRUE)>1,"Je kan maar 1 antwoord selecteren",IF(A20=TRUE,0,IF(A21=TRUE,1,IF(A22=TRUE,2,IF(A23=TRUE,3,IF(A24=TRUE,4))))))) -> Selecteer een antwoord
A20: FALSE | B20: Begrijpt snel uitleg en heeft geen hulp nodig.
A21: FALSE | B21: Heeft soms extra verduidelijking nodig.
A22: FALSE | B22: Heeft een eenvoudige versie van de uitleg nodig, bv: gebracht in kleinere groep.
A23: FALSE | B23: Heeft meerdere keren extra individuele uitleg nodig op een aangepaste manier.
A24: FALSE | B24: Heeft blijvende individuele begeleiding nodig om regels (of uitleg/ de context) te begrijpen.
A27: ZORG ROND GEZONDHEID
A28: SCORE | B28: =IF(COUNTIF(A29:A33,TRUE)=0,"Selecteer een antwoord",IF(COUNTIF(A29:A33,TRUE)>1,"Je kan maar 1 antwoord selecteren",IF(A29=TRUE,0,IF(A30=TRUE,1,IF(A31=TRUE,2,IF(A32=TRUE,3,IF(A33=TRUE,4))))))) -> Selecteer een antwoord
A29: FALSE | B29: Er zijn geen bijzondere aandachtspunten rond gezondheid.
A30: FALSE | B30: Kleine aandachtspunten waar de begeleiding rekening mee houdt. (Bv: zelfstandig medicatie inname)
A31: FALSE | B31: Af en toe hulp of herinnering nodig van de begeleiding. (Bv: Herinneren aan eten of drinken, hulp bij inname medicatie, rekening houden met dieet)
A32: FALSE | B32: Regelmatig opvolging of hulp nodig door de begeleiding. (Bv: astma-aanval, epilepsie in het oog houden, bloedsuiker controleren)
A33: FALSE | B33: Veel en specifieke zorg nodig tijdens de werking. (Bv: sondevoeding, medische handelingen door een bekwame helper, hulp van thuisverpleging, intensieve opvolging van gezondheid)
A36: WELBEVINDEN VAN HET KIND TIJDENS DE WERKING
A37: SCORE | B37: =IF(COUNTIF(A38:A42,TRUE)=0,"Selecteer een antwoord",IF(COUNTIF(A38:A42,TRUE)>1,"Je kan maar 1 antwoord selecteren",IF(A38=TRUE,0,IF(A39=TRUE,1,IF(A40=TRUE,2,IF(A41=TRUE,3,IF(A42=TRUE,4))))))) -> Selecteer een antwoord
A38: FALSE | B38: Voelt zich tijdens de werking goed en is ontspannen.
A39: FALSE | B39: Aanwezigheid van de begeleiders in de ruimte is voldoende ondersteuning, voelt zich meestal goed.
A40: FALSE | B40: Soms is ondersteuning en geruststelling nodig, want emoties zijn vaak wisselend.
A41: FALSE | B41: Actieve ondersteuning is nodig, want er zijn regelmatig signalen dat het kind zich niet goed voelt. (Bv: zich terugtrekken, stil worden, sneller gefrustreerd raken)
A42: FALSE | B42: Voortdurende ondersteuning is nodig om zich veilig en goed te voelen.
A45: ONDERSTEUNING WEGENS VERMINDERDE FYSIEKE MOGELIJKHEDEN
A46: SCORE | B46: =IF(COUNTIF(A47:A51,TRUE)=0,"Selecteer een antwoord",IF(COUNTIF(A47:A51,TRUE)>1,"Je kan maar 1 antwoord selecteren",IF(A47=TRUE,0,IF(A48=TRUE,1,IF(A49=TRUE,2,IF(A50=TRUE,3,IF(A51=TRUE,4))))))) -> Selecteer een antwoord
A47: FALSE | B47: Er is geen hulp nodig.
A48: FALSE | B48: Soms hulp nodig bij korte momenten.
A49: FALSE | B49: Gedurende de dag is regelmatig hulp nodig. (Bv: begeleiden naar het toilet, ondersteuning door eten en drinken klaar te zetten, kleren klaarleggen)
A50: FALSE | B50: Constante hulp nodig. (Bv: volledige hulp nodig bij toiletbezoek, eten, drinken, aankleden, langere verplaatsingen of traplopen)
A51: FALSE | B51: Intensieve zorg: volledig afhankelijk van hulp van anderen. (Bv: toiletbezoek, eten en drinken, aankleden, verplaatsen; begeleiding moet continu aanwezig zijn en veel handelingen overnemen)
A56: VRAGEN ROND DE PERMANENTIE (niet planbare interventies)
A57: Permanentienood gaat over de mate waarin het kind met een ondersteuningsnood nood heeft aan nabijheid van een begeleider. Het gaat over de vraag of je het kind voor kortere of langere periode alleen kan laten in de groep zonder onmiddellijke beschikbaarheid van een begeleider. Wie nood heeft aan permanentie, heeft niet-planbare ondersteuning door begeleiders nodig. Het gaat dus om ondersteuning wanneer zich iets onverwachts voordoet. Dit is soms locatie afhankelijk.
A59: OVERPRIKKELING EN RUSTMOMENTEN
A60: SCORE | B60: =IF(COUNTIF(A61:A65,TRUE)=0,"Selecteer een antwoord",IF(COUNTIF(A61:A65,TRUE)>1,"Je kan maar 1 antwoord selecteren",IF(A61=TRUE,0,IF(A62=TRUE,1,IF(A63=TRUE,3,IF(A64=TRUE,5,IF(A65=TRUE,7))))))) -> Selecteer een antwoord
A61: FALSE | B61: Kan functioneren in een groep met veel prikkels.
A62: FALSE | B62: Heeft soms rustige momenten nodig, maar zoekt deze zelf op.
A63: FALSE | B63: Kan in groep functioneren als er regelmatig geplande rustmomenten zijn ingebouwd.
A64: FALSE | B64: Snel overprikkeld en moet door begeleiding begeleid worden naar rustmomenten.
A65: FALSE | B65: Heeft structureel een afzonderlijke ruimte nodig om tot rust te komen.
A68: WEGLOOPGEDRAG
A69: SCORE | B69: =IF(COUNTIF(A70:A74,TRUE)=0,"Selecteer een antwoord",IF(COUNTIF(A70:A74,TRUE)>1,"Je kan maar 1 antwoord selecteren",IF(A70=TRUE,0,IF(A71=TRUE,1,IF(A72=TRUE,3,IF(A73=TRUE,5,IF(A74=TRUE,7))))))) -> Selecteer een antwoord
A70: FALSE | B70: Er is geen risico op wegloopgedrag.
A71: FALSE | B71: Blijft bij de groep, maar het kan voorvallen dat uit verstrooiing de groep niet gevolgd wordt.
A72: FALSE | B72: Blijft op het terrein, maar neemt weinig deel aan de activiteit en speelt in eigen leefwereld.
A73: FALSE | B73: Probeert soms richting uitgang of onbekende zones te gaan; begeleiding moet actief opvolgen om weggaan te voorkomen.
A74: FALSE | B74: Als de infrastructuur open is, loopt het kind weg.
A77: EMOTIONELE EN / OF GEDRAGSMATIGE ONDERSTEUNING
A78: SCORE | B78: =IF(COUNTIF(A79:A83,TRUE)=0,"Selecteer een antwoord",IF(COUNTIF(A79:A83,TRUE)>1,"Je kan maar 1 antwoord selecteren",IF(A79=TRUE,0,IF(A80=TRUE,1,IF(A81=TRUE,3,IF(A82=TRUE,5,IF(A83=TRUE,7))))))) -> Selecteer een antwoord
A79: FALSE | B79: Er zijn geen bijzondere aandachtspunten.
A80: FALSE | B80: Zoekt uit zichzelf de nabijheid van een begeleider.
A81: FALSE | B81: Heeft bij overgangsmomenten een begeleider in de buurt nodig.
A82: FALSE | B82: Heeft de hele dag een vaste begeleider nodig in dezelfde ruimte.
A83: FALSE | B83: Heeft de hele dag een vaste begeleider nodig in dezelfde ruimte om de veiligheid te bewaken.
A86: COMMUNICATIE UITDAGINGEN EIGEN AAN DE ONDERSTEUNINGSNOOD
A87: SCORE | B87: =IF(COUNTIF(A88:A92,TRUE)=0,"Selecteer een antwoord",IF(COUNTIF(A88:A92,TRUE)>1,"Je kan maar 1 antwoord selecteren",IF(A88=TRUE,0,IF(A89=TRUE,1,IF(A90=TRUE,3,IF(A91=TRUE,5,IF(A92=TRUE,7))))))) -> Selecteer een antwoord
A88: FALSE | B88: Is verbaal en begrijpt instructies zonder moeite.
A89: FALSE | B89: Soms is verduidelijking nodig, maar begrijpt de basis.
A90: FALSE | B90: Moeilijkheden om zich verbaal uit te drukken of begrijpt opdrachten slechts gedeeltelijk.
A91: FALSE | B91: Spreekt niet of zeer beperkt, communicatie enkel mogelijk met ondersteuning.
A92: FALSE | B92: Volledig afhankelijk van hulpmiddelen of begeleider om te communiceren.
A95: ESCALATIE EN CONFLICTEN MET KINDEREN EN BEGELEIDING
A96: SCORE | B96: =IF(COUNTIF(A97:A101,TRUE)=0,"Selecteer een antwoord",IF(COUNTIF(A97:A101,TRUE)>1,"Je kan maar 1 antwoord selecteren",IF(A97=TRUE,0,IF(A98=TRUE,1,IF(A99=TRUE,3,IF(A100=TRUE,5,IF(A101=TRUE,7))))))) -> Selecteer een antwoord
A97: FALSE | B97: Er zijn geen aandachtspunten.
A98: FALSE | B98: Komt af en toe eens in conflict, maar kan zichzelf bijsturen.
A99: FALSE | B99: Regelmatig in conflict, heeft structuur en begeleiding nodig.
A100: FALSE | B100: Vaak conflict, moeite in het samen spelen in groep. Heeft constante begeleiding nodig tijdens ongestructureerde momenten.
A101: FALSE | B101: Agressie en gevaarlijk gedrag vormen een risico voor zichzelf of anderen. Heeft constante begeleiding nodig.

Sheet 2
A1: NAAM | B1: (vul hier een naam in)
A2: RIJKSREGISTERNR | B2: (vul hier het rijksregisternummer in)
A3: ZORGSCORE | B3: =IF(( COUNTIF(B10,"Selecteer een antwoord")+ COUNTIF(B19,"Selecteer een antwoord")+ COUNTIF(B28,"Selecteer een antwoord")+ COUNTIF(B37,"Selecteer een antwoord")+ COUNTIF(B46,"Selecteer een antwoord")+ COUNTIF(B60,"Selecteer een antwoord")+ COUNTIF(B69,"Selecteer een antwoord")+ COUNTIF(B78,"Selecteer een antwoord")+ COUNTIF(B87,"Selecteer een antwoord")+ COUNTIF(B96,"Selecteer een antwoord"))>=1,"Zodra je per vraag 1 antwoord selecteert, verschijnt hieronder een zorgscore en een type begeleiding. Wanneer je meerdere antwoorden per vraag selecteert, verschijnt hieronder een foutcode.", IFERROR(B10+B19+B28+B37+B46+B60+B69+B78+B87+B96,"FOUTCODE: Je selecteerde meerdere antwoorden bij een vraag. Controleer je antwoorden en pas aan.")) -> Zodra je per vraag 1 antwoord selecteert, verschijnt hieronder een zorgscore en een type begeleiding. Wanneer je meerdere antwoorden per vraag selecteert, verschijnt hieronder een foutcode.
A4: TYPE BEGELEIDING | B4: =IF(ISTEXT(B3),"",_xlfn.XLOOKUP(B3,'OVERZICHT VOOR ORGANISATIE'!A5:A9,'OVERZICHT VOOR ORGANISATIE'!C5:C9,"",-1))
A6: VRAGEN ROND DE BEGELEIDING (planbare interventies)
A7: Begeleidingsintensiteit gaat over de mate waarin het kind met een ondersteuningsnood tijdens de activiteit ondersteuning nodig heeft van andere personen. We brengen daarbij alle ondersteuning in kaart, ongeacht wie die ondersteuning biedt. Deze planbare ondersteuning kan eventueel ook opgenomen worden door andere deelnemers aan de activiteit.
A9: ZELFREDZAAMHEID TIJDENS SPEL / ACTIVITEIT
A10: SCORE | B10: =IF(COUNTIF(A11:A15,TRUE)=0,"Selecteer een antwoord",IF(COUNTIF(A11:A15,TRUE)>1,"Je kan maar 1 antwoord selecteren",IF(A11=TRUE,0,IF(A12=TRUE,1,IF(A13=TRUE,2,IF(A14=TRUE,3,IF(A15=TRUE,4))))))) -> Selecteer een antwoord
A11: FALSE | B11: Speelt doorgaans volledig zelfstandig (al dan niet in groep).
A12: FALSE | B12: Heeft soms hulp nodig om tot spelen te komen, maar speelt vervolgens zelfstandig (al dan niet in groep).
A13: FALSE | B13: Heeft doorgaans begeleiding nodig om tot spelen te komen en te blijven spelen.
A14: FALSE | B14: Frequente acties van de begeleiding zijn noodzakelijk om tot spelen te komen en te blijven spelen.
A15: FALSE | B15: Blijvende begeleiding is noodzakelijk om tot spelen te komen.
A18: BEGRIJPEN VAN REGELS Bv. bij speluitleg, activiteit, ‘huisregels’...
A19: SCORE | B19: =IF(COUNTIF(A20:A24,TRUE)=0,"Selecteer een antwoord",IF(COUNTIF(A20:A24,TRUE)>1,"Je kan maar 1 antwoord selecteren",IF(A20=TRUE,0,IF(A21=TRUE,1,IF(A22=TRUE,2,IF(A23=TRUE,3,IF(A24=TRUE,4))))))) -> Selecteer een antwoord
A20: FALSE | B20: Begrijpt snel uitleg en heeft geen hulp nodig.
A21: FALSE | B21: Heeft soms extra verduidelijking nodig.
A22: FALSE | B22: Heeft een eenvoudige versie van de uitleg nodig, bv: gebracht in kleinere groep.
A23: FALSE | B23: Heeft meerdere keren extra individuele uitleg nodig op een aangepaste manier.
A24: FALSE | B24: Heeft blijvende individuele begeleiding nodig om regels (of uitleg/ de context) te begrijpen.
A27: ZORG ROND GEZONDHEID
A28: SCORE | B28: =IF(COUNTIF(A29:A33,TRUE)=0,"Selecteer een antwoord",IF(COUNTIF(A29:A33,TRUE)>1,"Je kan maar 1 antwoord selecteren",IF(A29=TRUE,0,IF(A30=TRUE,1,IF(A31=TRUE,2,IF(A32=TRUE,3,IF(A33=TRUE,4))))))) -> Selecteer een antwoord
A29: FALSE | B29: Er zijn geen bijzondere aandachtspunten rond gezondheid.
A30: FALSE | B30: Kleine aandachtspunten waar de begeleiding rekening mee houdt. (Bv: zelfstandig medicatie inname)
A31: FALSE | B31: Af en toe hulp of herinnering nodig van de begeleiding. (Bv: Herinneren aan eten of drinken, hulp bij inname medicatie, rekening houden met dieet)
A32: FALSE | B32: Regelmatig opvolging of hulp nodig door de begeleiding. (Bv: astma-aanval, epilepsie in het oog houden, bloedsuiker controleren)
A33: FALSE | B33: Veel en specifieke zorg nodig tijdens de werking. (Bv: sondevoeding, medische handelingen door een bekwame helper, hulp van thuisverpleging, intensieve opvolging van gezondheid)
A36: WELBEVINDEN VAN HET KIND TIJDENS DE WERKING
A37: SCORE | B37: =IF(COUNTIF(A38:A42,TRUE)=0,"Selecteer een antwoord",IF(COUNTIF(A38:A42,TRUE)>1,"Je kan maar 1 antwoord selecteren",IF(A38=TRUE,0,IF(A39=TRUE,1,IF(A40=TRUE,2,IF(A41=TRUE,3,IF(A42=TRUE,4))))))) -> Selecteer een antwoord
A38: FALSE | B38: Voelt zich tijdens de werking goed en is ontspannen.
A39: FALSE | B39: Aanwezigheid van de begeleiders in de ruimte is voldoende ondersteuning, voelt zich meestal goed.
A40: FALSE | B40: Soms is ondersteuning en geruststelling nodig, want emoties zijn vaak wisselend.
A41: FALSE | B41: Actieve ondersteuning is nodig, want er zijn regelmatig signalen dat het kind zich niet goed voelt. (Bv: zich terugtrekken, stil worden, sneller gefrustreerd raken)
A42: FALSE | B42: Voortdurende ondersteuning is nodig om zich veilig en goed te voelen.
A45: ONDERSTEUNING WEGENS VERMINDERDE FYSIEKE MOGELIJKHEDEN
A46: SCORE | B46: =IF(COUNTIF(A47:A51,TRUE)=0,"Selecteer een antwoord",IF(COUNTIF(A47:A51,TRUE)>1,"Je kan maar 1 antwoord selecteren",IF(A47=TRUE,0,IF(A48=TRUE,1,IF(A49=TRUE,2,IF(A50=TRUE,3,IF(A51=TRUE,4))))))) -> Selecteer een antwoord
A47: FALSE | B47: Er is geen hulp nodig.
A48: FALSE | B48: Soms hulp nodig bij korte momenten.
A49: FALSE | B49: Gedurende de dag is regelmatig hulp nodig. (Bv: begeleiden naar het toilet, ondersteuning door eten en drinken klaar te zetten, kleren klaarleggen)
A50: FALSE | B50: Constante hulp nodig. (Bv: volledige hulp nodig bij toiletbezoek, eten, drinken, aankleden, langere verplaatsingen of traplopen)
A51: FALSE | B51: Intensieve zorg: volledig afhankelijk van hulp van anderen. (Bv: toiletbezoek, eten en drinken, aankleden, verplaatsen; begeleiding moet continu aanwezig zijn en veel handelingen overnemen)
A56: VRAGEN ROND DE PERMANENTIE (niet planbare interventies)
A57: Permanentienood gaat over de mate waarin het kind met een ondersteuningsnood nood heeft aan nabijheid van een begeleider. Het gaat over de vraag of je het kind voor kortere of langere periode alleen kan laten in de groep zonder onmiddellijke beschikbaarheid van een begeleider. Wie nood heeft aan permanentie, heeft niet-planbare ondersteuning door begeleiders nodig. Het gaat dus om ondersteuning wanneer zich iets onverwachts voordoet. Dit is soms locatie afhankelijk.
A59: OVERPRIKKELING EN RUSTMOMENTEN
A60: SCORE | B60: =IF(COUNTIF(A61:A65,TRUE)=0,"Selecteer een antwoord",IF(COUNTIF(A61:A65,TRUE)>1,"Je kan maar 1 antwoord selecteren",IF(A61=TRUE,0,IF(A62=TRUE,1,IF(A63=TRUE,3,IF(A64=TRUE,5,IF(A65=TRUE,7))))))) -> Selecteer een antwoord
A61: FALSE | B61: Kan functioneren in een groep met veel prikkels.
A62: FALSE | B62: Heeft soms rustige momenten nodig, maar zoekt deze zelf op.
A63: FALSE | B63: Kan in groep functioneren als er regelmatig geplande rustmomenten zijn ingebouwd.
A64: FALSE | B64: Snel overprikkeld en moet door begeleiding begeleid worden naar rustmomenten.
A65: FALSE | B65: Heeft structureel een afzonderlijke ruimte nodig om tot rust te komen.
A68: WEGLOOPGEDRAG
A69: SCORE | B69: =IF(COUNTIF(A70:A74,TRUE)=0,"Selecteer een antwoord",IF(COUNTIF(A70:A74,TRUE)>1,"Je kan maar 1 antwoord selecteren",IF(A70=TRUE,0,IF(A71=TRUE,1,IF(A72=TRUE,3,IF(A73=TRUE,5,IF(A74=TRUE,7))))))) -> Selecteer een antwoord
A70: FALSE | B70: Er is geen risico op wegloopgedrag.
A71: FALSE | B71: Blijft bij de groep, maar het kan voorvallen dat uit verstrooiing de groep niet gevolgd wordt.
A72: FALSE | B72: Blijft op het terrein, maar neemt weinig deel aan de activiteit en speelt in eigen leefwereld.
A73: FALSE | B73: Probeert soms richting uitgang of onbekende zones te gaan; begeleiding moet actief opvolgen om weggaan te voorkomen.
A74: FALSE | B74: Als de infrastructuur open is, loopt het kind weg.
A77: EMOTIONELE EN / OF GEDRAGSMATIGE ONDERSTEUNING
A78: SCORE | B78: =IF(COUNTIF(A79:A83,TRUE)=0,"Selecteer een antwoord",IF(COUNTIF(A79:A83,TRUE)>1,"Je kan maar 1 antwoord selecteren",IF(A79=TRUE,0,IF(A80=TRUE,1,IF(A81=TRUE,3,IF(A82=TRUE,5,IF(A83=TRUE,7))))))) -> Selecteer een antwoord
A79: FALSE | B79: Er zijn geen bijzondere aandachtspunten.
A80: FALSE | B80: Zoekt uit zichzelf de nabijheid van een begeleider.
A81: FALSE | B81: Heeft bij overgangsmomenten een begeleider in de buurt nodig.
A82: FALSE | B82: Heeft de hele dag een vaste begeleider nodig in dezelfde ruimte.
A83: FALSE | B83: Heeft de hele dag een vaste begeleider nodig in dezelfde ruimte om de veiligheid te bewaken.
A86: COMMUNICATIE UITDAGINGEN EIGEN AAN DE ONDERSTEUNINGSNOOD
A87: SCORE | B87: =IF(COUNTIF(A88:A92,TRUE)=0,"Selecteer een antwoord",IF(COUNTIF(A88:A92,TRUE)>1,"Je kan maar 1 antwoord selecteren",IF(A88=TRUE,0,IF(A89=TRUE,1,IF(A90=TRUE,3,IF(A91=TRUE,5,IF(A92=TRUE,7))))))) -> Selecteer een antwoord
A88: FALSE | B88: Is verbaal en begrijpt instructies zonder moeite.
A89: FALSE | B89: Soms is verduidelijking nodig, maar begrijpt de basis.
A90: FALSE | B90: Moeilijkheden om zich verbaal uit te drukken of begrijpt opdrachten slechts gedeeltelijk.
A91: FALSE | B91: Spreekt niet of zeer beperkt, communicatie enkel mogelijk met ondersteuning.
A92: FALSE | B92: Volledig afhankelijk van hulpmiddelen of begeleider om te communiceren.
A95: ESCALATIE EN CONFLICTEN MET KINDEREN EN BEGELEIDING
A96: SCORE | B96: =IF(COUNTIF(A97:A101,TRUE)=0,"Selecteer een antwoord",IF(COUNTIF(A97:A101,TRUE)>1,"Je kan maar 1 antwoord selecteren",IF(A97=TRUE,0,IF(A98=TRUE,1,IF(A99=TRUE,3,IF(A100=TRUE,5,IF(A101=TRUE,7))))))) -> Selecteer een antwoord
A97: FALSE | B97: Er zijn geen aandachtspunten.
A98: FALSE | B98: Komt af en toe eens in conflict, maar kan zichzelf bijsturen.
A99: FALSE | B99: Regelmatig in conflict, heeft structuur en begeleiding nodig.
A100: FALSE | B100: Vaak conflict, moeite in het samen spelen in groep. Heeft constante begeleiding nodig tijdens ongestructureerde momenten.
A101: FALSE | B101: Agressie en gevaarlijk gedrag vormen een risico voor zichzelf of anderen. Heeft constante begeleiding nodig.

Sheet 3
A1: NAAM | B1: (vul hier een naam in)
A2: RIJKSREGISTERNR | B2: (vul hier het rijksregisternummer in)
A3: ZORGSCORE | B3: =IF(( COUNTIF(B10,"Selecteer een antwoord")+ COUNTIF(B19,"Selecteer een antwoord")+ COUNTIF(B28,"Selecteer een antwoord")+ COUNTIF(B37,"Selecteer een antwoord")+ COUNTIF(B46,"Selecteer een antwoord")+ COUNTIF(B60,"Selecteer een antwoord")+ COUNTIF(B69,"Selecteer een antwoord")+ COUNTIF(B78,"Selecteer een antwoord")+ COUNTIF(B87,"Selecteer een antwoord")+ COUNTIF(B96,"Selecteer een antwoord"))>=1,"Zodra je per vraag 1 antwoord selecteert, verschijnt hieronder een zorgscore en een type begeleiding. Wanneer je meerdere antwoorden per vraag selecteert, verschijnt hieronder een foutcode.", IFERROR(B10+B19+B28+B37+B46+B60+B69+B78+B87+B96,"FOUTCODE: Je selecteerde meerdere antwoorden bij een vraag. Controleer je antwoorden en pas aan.")) -> Zodra je per vraag 1 antwoord selecteert, verschijnt hieronder een zorgscore en een type begeleiding. Wanneer je meerdere antwoorden per vraag selecteert, verschijnt hieronder een foutcode.
A4: TYPE BEGELEIDING | B4: =IF(ISTEXT(B3),"",_xlfn.XLOOKUP(B3,'OVERZICHT VOOR ORGANISATIE'!A5:A9,'OVERZICHT VOOR ORGANISATIE'!C5:C9,"",-1))
A6: VRAGEN ROND DE BEGELEIDING (planbare interventies)
A7: Begeleidingsintensiteit gaat over de mate waarin het kind met een ondersteuningsnood tijdens de activiteit ondersteuning nodig heeft van andere personen. We brengen daarbij alle ondersteuning in kaart, ongeacht wie die ondersteuning biedt. Deze planbare ondersteuning kan eventueel ook opgenomen worden door andere deelnemers aan de activiteit.
A9: ZELFREDZAAMHEID TIJDENS SPEL / ACTIVITEIT
A10: SCORE | B10: =IF(COUNTIF(A11:A15,TRUE)=0,"Selecteer een antwoord",IF(COUNTIF(A11:A15,TRUE)>1,"Je kan maar 1 antwoord selecteren",IF(A11=TRUE,0,IF(A12=TRUE,1,IF(A13=TRUE,2,IF(A14=TRUE,3,IF(A15=TRUE,4))))))) -> Selecteer een antwoord
A11: FALSE | B11: Speelt doorgaans volledig zelfstandig (al dan niet in groep).
A12: FALSE | B12: Heeft soms hulp nodig om tot spelen te komen, maar speelt vervolgens zelfstandig (al dan niet in groep).
A13: FALSE | B13: Heeft doorgaans begeleiding nodig om tot spelen te komen en te blijven spelen.
A14: FALSE | B14: Frequente acties van de begeleiding zijn noodzakelijk om tot spelen te komen en te blijven spelen.
A15: FALSE | B15: Blijvende begeleiding is noodzakelijk om tot spelen te komen.
A18: BEGRIJPEN VAN REGELS Bv. bij speluitleg, activiteit, ‘huisregels’...
A19: SCORE | B19: =IF(COUNTIF(A20:A24,TRUE)=0,"Selecteer een antwoord",IF(COUNTIF(A20:A24,TRUE)>1,"Je kan maar 1 antwoord selecteren",IF(A20=TRUE,0,IF(A21=TRUE,1,IF(A22=TRUE,2,IF(A23=TRUE,3,IF(A24=TRUE,4))))))) -> Selecteer een antwoord
A20: FALSE | B20: Begrijpt snel uitleg en heeft geen hulp nodig.
A21: FALSE | B21: Heeft soms extra verduidelijking nodig.
A22: FALSE | B22: Heeft een eenvoudige versie van de uitleg nodig, bv: gebracht in kleinere groep.
A23: FALSE | B23: Heeft meerdere keren extra individuele uitleg nodig op een aangepaste manier.
A24: FALSE | B24: Heeft blijvende individuele begeleiding nodig om regels (of uitleg/ de context) te begrijpen.
A27: ZORG ROND GEZONDHEID
A28: SCORE | B28: =IF(COUNTIF(A29:A33,TRUE)=0,"Selecteer een antwoord",IF(COUNTIF(A29:A33,TRUE)>1,"Je kan maar 1 antwoord selecteren",IF(A29=TRUE,0,IF(A30=TRUE,1,IF(A31=TRUE,2,IF(A32=TRUE,3,IF(A33=TRUE,4))))))) -> Selecteer een antwoord
A29: FALSE | B29: Er zijn geen bijzondere aandachtspunten rond gezondheid.
A30: FALSE | B30: Kleine aandachtspunten waar de begeleiding rekening mee houdt. (Bv: zelfstandig medicatie inname)
A31: FALSE | B31: Af en toe hulp of herinnering nodig van de begeleiding. (Bv: Herinneren aan eten of drinken, hulp bij inname medicatie, rekening houden met dieet)
A32: FALSE | B32: Regelmatig opvolging of hulp nodig door de begeleiding. (Bv: astma-aanval, epilepsie in het oog houden, bloedsuiker controleren)
A33: FALSE | B33: Veel en specifieke zorg nodig tijdens de werking. (Bv: sondevoeding, medische handelingen door een bekwame helper, hulp van thuisverpleging, intensieve opvolging van gezondheid)
A36: WELBEVINDEN VAN HET KIND TIJDENS DE WERKING
A37: SCORE | B37: =IF(COUNTIF(A38:A42,TRUE)=0,"Selecteer een antwoord",IF(COUNTIF(A38:A42,TRUE)>1,"Je kan maar 1 antwoord selecteren",IF(A38=TRUE,0,IF(A39=TRUE,1,IF(A40=TRUE,2,IF(A41=TRUE,3,IF(A42=TRUE,4))))))) -> Selecteer een antwoord
A38: FALSE | B38: Voelt zich tijdens de werking goed en is ontspannen.
A39: FALSE | B39: Aanwezigheid van de begeleiders in de ruimte is voldoende ondersteuning, voelt zich meestal goed.
A40: FALSE | B40: Soms is ondersteuning en geruststelling nodig, want emoties zijn vaak wisselend.
A41: FALSE | B41: Actieve ondersteuning is nodig, want er zijn regelmatig signalen dat het kind zich niet goed voelt. (Bv: zich terugtrekken, stil worden, sneller gefrustreerd raken)
A42: FALSE | B42: Voortdurende ondersteuning is nodig om zich veilig en goed te voelen.
A45: ONDERSTEUNING WEGENS VERMINDERDE FYSIEKE MOGELIJKHEDEN
A46: SCORE | B46: =IF(COUNTIF(A47:A51,TRUE)=0,"Selecteer een antwoord",IF(COUNTIF(A47:A51,TRUE)>1,"Je kan maar 1 antwoord selecteren",IF(A47=TRUE,0,IF(A48=TRUE,1,IF(A49=TRUE,2,IF(A50=TRUE,3,IF(A51=TRUE,4))))))) -> Selecteer een antwoord
A47: FALSE | B47: Er is geen hulp nodig.
A48: FALSE | B48: Soms hulp nodig bij korte momenten.
A49: FALSE | B49: Gedurende de dag is regelmatig hulp nodig. (Bv: begeleiden naar het toilet, ondersteuning door eten en drinken klaar te zetten, kleren klaarleggen)
A50: FALSE | B50: Constante hulp nodig. (Bv: volledige hulp nodig bij toiletbezoek, eten, drinken, aankleden, langere verplaatsingen of traplopen)
A51: FALSE | B51: Intensieve zorg: volledig afhankelijk van hulp van anderen. (Bv: toiletbezoek, eten en drinken, aankleden, verplaatsen; begeleiding moet continu aanwezig zijn en veel handelingen overnemen)
A56: VRAGEN ROND DE PERMANENTIE (niet planbare interventies)
A57: Permanentienood gaat over de mate waarin het kind met een ondersteuningsnood nood heeft aan nabijheid van een begeleider. Het gaat over de vraag of je het kind voor kortere of langere periode alleen kan laten in de groep zonder onmiddellijke beschikbaarheid van een begeleider. Wie nood heeft aan permanentie, heeft niet-planbare ondersteuning door begeleiders nodig. Het gaat dus om ondersteuning wanneer zich iets onverwachts voordoet. Dit is soms locatie afhankelijk.
A59: OVERPRIKKELING EN RUSTMOMENTEN
A60: SCORE | B60: =IF(COUNTIF(A61:A65,TRUE)=0,"Selecteer een antwoord",IF(COUNTIF(A61:A65,TRUE)>1,"Je kan maar 1 antwoord selecteren",IF(A61=TRUE,0,IF(A62=TRUE,1,IF(A63=TRUE,3,IF(A64=TRUE,5,IF(A65=TRUE,7))))))) -> Selecteer een antwoord
A61: FALSE | B61: Kan functioneren in een groep met veel prikkels.
A62: FALSE | B62: Heeft soms rustige momenten nodig, maar zoekt deze zelf op.
A63: FALSE | B63: Kan in groep functioneren als er regelmatig geplande rustmomenten zijn ingebouwd.
A64: FALSE | B64: Snel overprikkeld en moet door begeleiding begeleid worden naar rustmomenten.
A65: FALSE | B65: Heeft structureel een afzonderlijke ruimte nodig om tot rust te komen.
A68: WEGLOOPGEDRAG
A69: SCORE | B69: =IF(COUNTIF(A70:A74,TRUE)=0,"Selecteer een antwoord",IF(COUNTIF(A70:A74,TRUE)>1,"Je kan maar 1 antwoord selecteren",IF(A70=TRUE,0,IF(A71=TRUE,1,IF(A72=TRUE,3,IF(A73=TRUE,5,IF(A74=TRUE,7))))))) -> Selecteer een antwoord
A70: FALSE | B70: Er is geen risico op wegloopgedrag.
A71: FALSE | B71: Blijft bij de groep, maar het kan voorvallen dat uit verstrooiing de groep niet gevolgd wordt.
A72: FALSE | B72: Blijft op het terrein, maar neemt weinig deel aan de activiteit en speelt in eigen leefwereld.
A73: FALSE | B73: Probeert soms richting uitgang of onbekende zones te gaan; begeleiding moet actief opvolgen om weggaan te voorkomen.
A74: FALSE | B74: Als de infrastructuur open is, loopt het kind weg.
A77: EMOTIONELE EN / OF GEDRAGSMATIGE ONDERSTEUNING
A78: SCORE | B78: =IF(COUNTIF(A79:A83,TRUE)=0,"Selecteer een antwoord",IF(COUNTIF(A79:A83,TRUE)>1,"Je kan maar 1 antwoord selecteren",IF(A79=TRUE,0,IF(A80=TRUE,1,IF(A81=TRUE,3,IF(A82=TRUE,5,IF(A83=TRUE,7))))))) -> Selecteer een antwoord
A79: FALSE | B79: Er zijn geen bijzondere aandachtspunten.
A80: FALSE | B80: Zoekt uit zichzelf de nabijheid van een begeleider.
A81: FALSE | B81: Heeft bij overgangsmomenten een begeleider in de buurt nodig.
A82: FALSE | B82: Heeft de hele dag een vaste begeleider nodig in dezelfde ruimte.
A83: FALSE | B83: Heeft de hele dag een vaste begeleider nodig in dezelfde ruimte om de veiligheid te bewaken.
A86: COMMUNICATIE UITDAGINGEN EIGEN AAN DE ONDERSTEUNINGSNOOD
A87: SCORE | B87: =IF(COUNTIF(A88:A92,TRUE)=0,"Selecteer een antwoord",IF(COUNTIF(A88:A92,TRUE)>1,"Je kan maar 1 antwoord selecteren",IF(A88=TRUE,0,IF(A89=TRUE,1,IF(A90=TRUE,3,IF(A91=TRUE,5,IF(A92=TRUE,7))))))) -> Selecteer een antwoord
A88: FALSE | B88: Is verbaal en begrijpt instructies zonder moeite.
A89: FALSE | B89: Soms is verduidelijking nodig, maar begrijpt de basis.
A90: FALSE | B90: Moeilijkheden om zich verbaal uit te drukken of begrijpt opdrachten slechts gedeeltelijk.
A91: FALSE | B91: Spreekt niet of zeer beperkt, communicatie enkel mogelijk met ondersteuning.
A92: FALSE | B92: Volledig afhankelijk van hulpmiddelen of begeleider om te communiceren.
A95: ESCALATIE EN CONFLICTEN MET KINDEREN EN BEGELEIDING
A96: SCORE | B96: =IF(COUNTIF(A97:A101,TRUE)=0,"Selecteer een antwoord",IF(COUNTIF(A97:A101,TRUE)>1,"Je kan maar 1 antwoord selecteren",IF(A97=TRUE,0,IF(A98=TRUE,1,IF(A99=TRUE,3,IF(A100=TRUE,5,IF(A101=TRUE,7))))))) -> Selecteer een antwoord
A97: FALSE | B97: Er zijn geen aandachtspunten.
A98: FALSE | B98: Komt af en toe eens in conflict, maar kan zichzelf bijsturen.
A99: FALSE | B99: Regelmatig in conflict, heeft structuur en begeleiding nodig.
A100: FALSE | B100: Vaak conflict, moeite in het samen spelen in groep. Heeft constante begeleiding nodig tijdens ongestructureerde momenten.
A101: FALSE | B101: Agressie en gevaarlijk gedrag vormen een risico voor zichzelf of anderen. Heeft constante begeleiding nodig.

Sheet 4
A1: NAAM | B1: (vul hier een naam in)
A2: RIJKSREGISTERNR | B2: (vul hier het rijksregisternummer in)
A3: ZORGSCORE | B3: =IF(( COUNTIF(B10,"Selecteer een antwoord")+ COUNTIF(B19,"Selecteer een antwoord")+ COUNTIF(B28,"Selecteer een antwoord")+ COUNTIF(B37,"Selecteer een antwoord")+ COUNTIF(B46,"Selecteer een antwoord")+ COUNTIF(B60,"Selecteer een antwoord")+ COUNTIF(B69,"Selecteer een antwoord")+ COUNTIF(B78,"Selecteer een antwoord")+ COUNTIF(B87,"Selecteer een antwoord")+ COUNTIF(B96,"Selecteer een antwoord"))>=1,"Zodra je per vraag 1 antwoord selecteert, verschijnt hieronder een zorgscore en een type begeleiding. Wanneer je meerdere antwoorden per vraag selecteert, verschijnt hieronder een foutcode.", IFERROR(B10+B19+B28+B37+B46+B60+B69+B78+B87+B96,"FOUTCODE: Je selecteerde meerdere antwoorden bij een vraag. Controleer je antwoorden en pas aan.")) -> Zodra je per vraag 1 antwoord selecteert, verschijnt hieronder een zorgscore en een type begeleiding. Wanneer je meerdere antwoorden per vraag selecteert, verschijnt hieronder een foutcode.
A4: TYPE BEGELEIDING | B4: =IF(ISTEXT(B3),"",_xlfn.XLOOKUP(B3,'OVERZICHT VOOR ORGANISATIE'!A5:A9,'OVERZICHT VOOR ORGANISATIE'!C5:C9,"",-1))
A6: VRAGEN ROND DE BEGELEIDING (planbare interventies)
A7: Begeleidingsintensiteit gaat over de mate waarin het kind met een ondersteuningsnood tijdens de activiteit ondersteuning nodig heeft van andere personen. We brengen daarbij alle ondersteuning in kaart, ongeacht wie die ondersteuning biedt. Deze planbare ondersteuning kan eventueel ook opgenomen worden door andere deelnemers aan de activiteit.
A9: ZELFREDZAAMHEID TIJDENS SPEL / ACTIVITEIT
A10: SCORE | B10: =IF(COUNTIF(A11:A15,TRUE)=0,"Selecteer een antwoord",IF(COUNTIF(A11:A15,TRUE)>1,"Je kan maar 1 antwoord selecteren",IF(A11=TRUE,0,IF(A12=TRUE,1,IF(A13=TRUE,2,IF(A14=TRUE,3,IF(A15=TRUE,4))))))) -> Selecteer een antwoord
A11: FALSE | B11: Speelt doorgaans volledig zelfstandig (al dan niet in groep).
A12: FALSE | B12: Heeft soms hulp nodig om tot spelen te komen, maar speelt vervolgens zelfstandig (al dan niet in groep).
A13: FALSE | B13: Heeft doorgaans begeleiding nodig om tot spelen te komen en te blijven spelen.
A14: FALSE | B14: Frequente acties van de begeleiding zijn noodzakelijk om tot spelen te komen en te blijven spelen.
A15: FALSE | B15: Blijvende begeleiding is noodzakelijk om tot spelen te komen.
A18: BEGRIJPEN VAN REGELS Bv. bij speluitleg, activiteit, ‘huisregels’...
A19: SCORE | B19: =IF(COUNTIF(A20:A24,TRUE)=0,"Selecteer een antwoord",IF(COUNTIF(A20:A24,TRUE)>1,"Je kan maar 1 antwoord selecteren",IF(A20=TRUE,0,IF(A21=TRUE,1,IF(A22=TRUE,2,IF(A23=TRUE,3,IF(A24=TRUE,4))))))) -> Selecteer een antwoord
A20: FALSE | B20: Begrijpt snel uitleg en heeft geen hulp nodig.
A21: FALSE | B21: Heeft soms extra verduidelijking nodig.
A22: FALSE | B22: Heeft een eenvoudige versie van de uitleg nodig, bv: gebracht in kleinere groep.
A23: FALSE | B23: Heeft meerdere keren extra individuele uitleg nodig op een aangepaste manier.
A24: FALSE | B24: Heeft blijvende individuele begeleiding nodig om regels (of uitleg/ de context) te begrijpen.
A27: ZORG ROND GEZONDHEID
A28: SCORE | B28: =IF(COUNTIF(A29:A33,TRUE)=0,"Selecteer een antwoord",IF(COUNTIF(A29:A33,TRUE)>1,"Je kan maar 1 antwoord selecteren",IF(A29=TRUE,0,IF(A30=TRUE,1,IF(A31=TRUE,2,IF(A32=TRUE,3,IF(A33=TRUE,4))))))) -> Selecteer een antwoord
A29: FALSE | B29: Er zijn geen bijzondere aandachtspunten rond gezondheid.
A30: FALSE | B30: Kleine aandachtspunten waar de begeleiding rekening mee houdt. (Bv: zelfstandig medicatie inname)
A31: FALSE | B31: Af en toe hulp of herinnering nodig van de begeleiding. (Bv: Herinneren aan eten of drinken, hulp bij inname medicatie, rekening houden met dieet)
A32: FALSE | B32: Regelmatig opvolging of hulp nodig door de begeleiding. (Bv: astma-aanval, epilepsie in het oog houden, bloedsuiker controleren)
A33: FALSE | B33: Veel en specifieke zorg nodig tijdens de werking. (Bv: sondevoeding, medische handelingen door een bekwame helper, hulp van thuisverpleging, intensieve opvolging van gezondheid)
A36: WELBEVINDEN VAN HET KIND TIJDENS DE WERKING
A37: SCORE | B37: =IF(COUNTIF(A38:A42,TRUE)=0,"Selecteer een antwoord",IF(COUNTIF(A38:A42,TRUE)>1,"Je kan maar 1 antwoord selecteren",IF(A38=TRUE,0,IF(A39=TRUE,1,IF(A40=TRUE,2,IF(A41=TRUE,3,IF(A42=TRUE,4))))))) -> Selecteer een antwoord
A38: FALSE | B38: Voelt zich tijdens de werking goed en is ontspannen.
A39: FALSE | B39: Aanwezigheid van de begeleiders in de ruimte is voldoende ondersteuning, voelt zich meestal goed.
A40: FALSE | B40: Soms is ondersteuning en geruststelling nodig, want emoties zijn vaak wisselend.
A41: FALSE | B41: Actieve ondersteuning is nodig, want er zijn regelmatig signalen dat het kind zich niet goed voelt. (Bv: zich terugtrekken, stil worden, sneller gefrustreerd raken)
A42: FALSE | B42: Voortdurende ondersteuning is nodig om zich veilig en goed te voelen.
A45: ONDERSTEUNING WEGENS VERMINDERDE FYSIEKE MOGELIJKHEDEN
A46: SCORE | B46: =IF(COUNTIF(A47:A51,TRUE)=0,"Selecteer een antwoord",IF(COUNTIF(A47:A51,TRUE)>1,"Je kan maar 1 antwoord selecteren",IF(A47=TRUE,0,IF(A48=TRUE,1,IF(A49=TRUE,2,IF(A50=TRUE,3,IF(A51=TRUE,4))))))) -> Selecteer een antwoord
A47: FALSE | B47: Er is geen hulp nodig.
A48: FALSE | B48: Soms hulp nodig bij korte momenten.
A49: FALSE | B49: Gedurende de dag is regelmatig hulp nodig. (Bv: begeleiden naar het toilet, ondersteuning door eten en drinken klaar te zetten, kleren klaarleggen)
A50: FALSE | B50: Constante hulp nodig. (Bv: volledige hulp nodig bij toiletbezoek, eten, drinken, aankleden, langere verplaatsingen of traplopen)
A51: FALSE | B51: Intensieve zorg: volledig afhankelijk van hulp van anderen. (Bv: toiletbezoek, eten en drinken, aankleden, verplaatsen; begeleiding moet continu aanwezig zijn en veel handelingen overnemen)
A56: VRAGEN ROND DE PERMANENTIE (niet planbare interventies)
A57: Permanentienood gaat over de mate waarin het kind met een ondersteuningsnood nood heeft aan nabijheid van een begeleider. Het gaat over de vraag of je het kind voor kortere of langere periode alleen kan laten in de groep zonder onmiddellijke beschikbaarheid van een begeleider. Wie nood heeft aan permanentie, heeft niet-planbare ondersteuning door begeleiders nodig. Het gaat dus om ondersteuning wanneer zich iets onverwachts voordoet. Dit is soms locatie afhankelijk.
A59: OVERPRIKKELING EN RUSTMOMENTEN
A60: SCORE | B60: =IF(COUNTIF(A61:A65,TRUE)=0,"Selecteer een antwoord",IF(COUNTIF(A61:A65,TRUE)>1,"Je kan maar 1 antwoord selecteren",IF(A61=TRUE,0,IF(A62=TRUE,1,IF(A63=TRUE,3,IF(A64=TRUE,5,IF(A65=TRUE,7))))))) -> Selecteer een antwoord
A61: FALSE | B61: Kan functioneren in een groep met veel prikkels.
A62: FALSE | B62: Heeft soms rustige momenten nodig, maar zoekt deze zelf op.
A63: FALSE | B63: Kan in groep functioneren als er regelmatig geplande rustmomenten zijn ingebouwd.
A64: FALSE | B64: Snel overprikkeld en moet door begeleiding begeleid worden naar rustmomenten.
A65: FALSE | B65: Heeft structureel een afzonderlijke ruimte nodig om tot rust te komen.
A68: WEGLOOPGEDRAG
A69: SCORE | B69: =IF(COUNTIF(A70:A74,TRUE)=0,"Selecteer een antwoord",IF(COUNTIF(A70:A74,TRUE)>1,"Je kan maar 1 antwoord selecteren",IF(A70=TRUE,0,IF(A71=TRUE,1,IF(A72=TRUE,3,IF(A73=TRUE,5,IF(A74=TRUE,7))))))) -> Selecteer een antwoord
A70: FALSE | B70: Er is geen risico op wegloopgedrag.
A71: FALSE | B71: Blijft bij de groep, maar het kan voorvallen dat uit verstrooiing de groep niet gevolgd wordt.
A72: FALSE | B72: Blijft op het terrein, maar neemt weinig deel aan de activiteit en speelt in eigen leefwereld.
A73: FALSE | B73: Probeert soms richting uitgang of onbekende zones te gaan; begeleiding moet actief opvolgen om weggaan te voorkomen.
A74: FALSE | B74: Als de infrastructuur open is, loopt het kind weg.
A77: EMOTIONELE EN / OF GEDRAGSMATIGE ONDERSTEUNING
A78: SCORE | B78: =IF(COUNTIF(A79:A83,TRUE)=0,"Selecteer een antwoord",IF(COUNTIF(A79:A83,TRUE)>1,"Je kan maar 1 antwoord selecteren",IF(A79=TRUE,0,IF(A80=TRUE,1,IF(A81=TRUE,3,IF(A82=TRUE,5,IF(A83=TRUE,7))))))) -> Selecteer een antwoord
A79: FALSE | B79: Er zijn geen bijzondere aandachtspunten.
A80: FALSE | B80: Zoekt uit zichzelf de nabijheid van een begeleider.
A81: FALSE | B81: Heeft bij overgangsmomenten een begeleider in de buurt nodig.
A82: FALSE | B82: Heeft de hele dag een vaste begeleider nodig in dezelfde ruimte.
A83: FALSE | B83: Heeft de hele dag een vaste begeleider nodig in dezelfde ruimte om de veiligheid te bewaken.
A86: COMMUNICATIE UITDAGINGEN EIGEN AAN DE ONDERSTEUNINGSNOOD
A87: SCORE | B87: =IF(COUNTIF(A88:A92,TRUE)=0,"Selecteer een antwoord",IF(COUNTIF(A88:A92,TRUE)>1,"Je kan maar 1 antwoord selecteren",IF(A88=TRUE,0,IF(A89=TRUE,1,IF(A90=TRUE,3,IF(A91=TRUE,5,IF(A92=TRUE,7))))))) -> Selecteer een antwoord
A88: FALSE | B88: Is verbaal en begrijpt instructies zonder moeite.
A89: FALSE | B89: Soms is verduidelijking nodig, maar begrijpt de basis.
A90: FALSE | B90: Moeilijkheden om zich verbaal uit te drukken of begrijpt opdrachten slechts gedeeltelijk.
A91: FALSE | B91: Spreekt niet of zeer beperkt, communicatie enkel mogelijk met ondersteuning.
A92: FALSE | B92: Volledig afhankelijk van hulpmiddelen of begeleider om te communiceren.
A95: ESCALATIE EN CONFLICTEN MET KINDEREN EN BEGELEIDING
A96: SCORE | B96: =IF(COUNTIF(A97:A101,TRUE)=0,"Selecteer een antwoord",IF(COUNTIF(A97:A101,TRUE)>1,"Je kan maar 1 antwoord selecteren",IF(A97=TRUE,0,IF(A98=TRUE,1,IF(A99=TRUE,3,IF(A100=TRUE,5,IF(A101=TRUE,7))))))) -> Selecteer een antwoord
A97: FALSE | B97: Er zijn geen aandachtspunten.
A98: FALSE | B98: Komt af en toe eens in conflict, maar kan zichzelf bijsturen.
A99: FALSE | B99: Regelmatig in conflict, heeft structuur en begeleiding nodig.
A100: FALSE | B100: Vaak conflict, moeite in het samen spelen in groep. Heeft constante begeleiding nodig tijdens ongestructureerde momenten.
A101: FALSE | B101: Agressie en gevaarlijk gedrag vormen een risico voor zichzelf of anderen. Heeft constante begeleiding nodig.

Sheet 5
A1: NAAM | B1: (vul hier een naam in)
A2: RIJKSREGISTERNR | B2: (vul hier het rijksregisternummer in)
A3: ZORGSCORE | B3: =IF(( COUNTIF(B10,"Selecteer een antwoord")+ COUNTIF(B19,"Selecteer een antwoord")+ COUNTIF(B28,"Selecteer een antwoord")+ COUNTIF(B37,"Selecteer een antwoord")+ COUNTIF(B46,"Selecteer een antwoord")+ COUNTIF(B60,"Selecteer een antwoord")+ COUNTIF(B69,"Selecteer een antwoord")+ COUNTIF(B78,"Selecteer een antwoord")+ COUNTIF(B87,"Selecteer een antwoord")+ COUNTIF(B96,"Selecteer een antwoord"))>=1,"Zodra je per vraag 1 antwoord selecteert, verschijnt hieronder een zorgscore en een type begeleiding. Wanneer je meerdere antwoorden per vraag selecteert, verschijnt hieronder een foutcode.", IFERROR(B10+B19+B28+B37+B46+B60+B69+B78+B87+B96,"FOUTCODE: Je selecteerde meerdere antwoorden bij een vraag. Controleer je antwoorden en pas aan.")) -> Zodra je per vraag 1 antwoord selecteert, verschijnt hieronder een zorgscore en een type begeleiding. Wanneer je meerdere antwoorden per vraag selecteert, verschijnt hieronder een foutcode.
A4: TYPE BEGELEIDING | B4: =IF(ISTEXT(B3),"",_xlfn.XLOOKUP(B3,'OVERZICHT VOOR ORGANISATIE'!A5:A9,'OVERZICHT VOOR ORGANISATIE'!C5:C9,"",-1))
A6: VRAGEN ROND DE BEGELEIDING (planbare interventies)
A7: Begeleidingsintensiteit gaat over de mate waarin het kind met een ondersteuningsnood tijdens de activiteit ondersteuning nodig heeft van andere personen. We brengen daarbij alle ondersteuning in kaart, ongeacht wie die ondersteuning biedt. Deze planbare ondersteuning kan eventueel ook opgenomen worden door andere deelnemers aan de activiteit.
A9: ZELFREDZAAMHEID TIJDENS SPEL / ACTIVITEIT
A10: SCORE | B10: =IF(COUNTIF(A11:A15,TRUE)=0,"Selecteer een antwoord",IF(COUNTIF(A11:A15,TRUE)>1,"Je kan maar 1 antwoord selecteren",IF(A11=TRUE,0,IF(A12=TRUE,1,IF(A13=TRUE,2,IF(A14=TRUE,3,IF(A15=TRUE,4))))))) -> Selecteer een antwoord
A11: FALSE | B11: Speelt doorgaans volledig zelfstandig (al dan niet in groep).
A12: FALSE | B12: Heeft soms hulp nodig om tot spelen te komen, maar speelt vervolgens zelfstandig (al dan niet in groep).
A13: FALSE | B13: Heeft doorgaans begeleiding nodig om tot spelen te komen en te blijven spelen.
A14: FALSE | B14: Frequente acties van de begeleiding zijn noodzakelijk om tot spelen te komen en te blijven spelen.
A15: FALSE | B15: Blijvende begeleiding is noodzakelijk om tot spelen te komen.
A18: BEGRIJPEN VAN REGELS Bv. bij speluitleg, activiteit, ‘huisregels’...
A19: SCORE | B19: =IF(COUNTIF(A20:A24,TRUE)=0,"Selecteer een antwoord",IF(COUNTIF(A20:A24,TRUE)>1,"Je kan maar 1 antwoord selecteren",IF(A20=TRUE,0,IF(A21=TRUE,1,IF(A22=TRUE,2,IF(A23=TRUE,3,IF(A24=TRUE,4))))))) -> Selecteer een antwoord
A20: FALSE | B20: Begrijpt snel uitleg en heeft geen hulp nodig.
A21: FALSE | B21: Heeft soms extra verduidelijking nodig.
A22: FALSE | B22: Heeft een eenvoudige versie van de uitleg nodig, bv: gebracht in kleinere groep.
A23: FALSE | B23: Heeft meerdere keren extra individuele uitleg nodig op een aangepaste manier.
A24: FALSE | B24: Heeft blijvende individuele begeleiding nodig om regels (of uitleg/ de context) te begrijpen.
A27: ZORG ROND GEZONDHEID
A28: SCORE | B28: =IF(COUNTIF(A29:A33,TRUE)=0,"Selecteer een antwoord",IF(COUNTIF(A29:A33,TRUE)>1,"Je kan maar 1 antwoord selecteren",IF(A29=TRUE,0,IF(A30=TRUE,1,IF(A31=TRUE,2,IF(A32=TRUE,3,IF(A33=TRUE,4))))))) -> Selecteer een antwoord
A29: FALSE | B29: Er zijn geen bijzondere aandachtspunten rond gezondheid.
A30: FALSE | B30: Kleine aandachtspunten waar de begeleiding rekening mee houdt. (Bv: zelfstandig medicatie inname)
A31: FALSE | B31: Af en toe hulp of herinnering nodig van de begeleiding. (Bv: Herinneren aan eten of drinken, hulp bij inname medicatie, rekening houden met dieet)
A32: FALSE | B32: Regelmatig opvolging of hulp nodig door de begeleiding. (Bv: astma-aanval, epilepsie in het oog houden, bloedsuiker controleren)
A33: FALSE | B33: Veel en specifieke zorg nodig tijdens de werking. (Bv: sondevoeding, medische handelingen door een bekwame helper, hulp van thuisverpleging, intensieve opvolging van gezondheid)
A36: WELBEVINDEN VAN HET KIND TIJDENS DE WERKING
A37: SCORE | B37: =IF(COUNTIF(A38:A42,TRUE)=0,"Selecteer een antwoord",IF(COUNTIF(A38:A42,TRUE)>1,"Je kan maar 1 antwoord selecteren",IF(A38=TRUE,0,IF(A39=TRUE,1,IF(A40=TRUE,2,IF(A41=TRUE,3,IF(A42=TRUE,4))))))) -> Selecteer een antwoord
A38: FALSE | B38: Voelt zich tijdens de werking goed en is ontspannen.
A39: FALSE | B39: Aanwezigheid van de begeleiders in de ruimte is voldoende ondersteuning, voelt zich meestal goed.
A40: FALSE | B40: Soms is ondersteuning en geruststelling nodig, want emoties zijn vaak wisselend.
A41: FALSE | B41: Actieve ondersteuning is nodig, want er zijn regelmatig signalen dat het kind zich niet goed voelt. (Bv: zich terugtrekken, stil worden, sneller gefrustreerd raken)
A42: FALSE | B42: Voortdurende ondersteuning is nodig om zich veilig en goed te voelen.
A45: ONDERSTEUNING WEGENS VERMINDERDE FYSIEKE MOGELIJKHEDEN
A46: SCORE | B46: =IF(COUNTIF(A47:A51,TRUE)=0,"Selecteer een antwoord",IF(COUNTIF(A47:A51,TRUE)>1,"Je kan maar 1 antwoord selecteren",IF(A47=TRUE,0,IF(A48=TRUE,1,IF(A49=TRUE,2,IF(A50=TRUE,3,IF(A51=TRUE,4))))))) -> Selecteer een antwoord
A47: FALSE | B47: Er is geen hulp nodig.
A48: FALSE | B48: Soms hulp nodig bij korte momenten.
A49: FALSE | B49: Gedurende de dag is regelmatig hulp nodig. (Bv: begeleiden naar het toilet, ondersteuning door eten en drinken klaar te zetten, kleren klaarleggen)
A50: FALSE | B50: Constante hulp nodig. (Bv: volledige hulp nodig bij toiletbezoek, eten, drinken, aankleden, langere verplaatsingen of traplopen)
A51: FALSE | B51: Intensieve zorg: volledig afhankelijk van hulp van anderen. (Bv: toiletbezoek, eten en drinken, aankleden, verplaatsen; begeleiding moet continu aanwezig zijn en veel handelingen overnemen)
A56: VRAGEN ROND DE PERMANENTIE (niet planbare interventies)
A57: Permanentienood gaat over de mate waarin het kind met een ondersteuningsnood nood heeft aan nabijheid van een begeleider. Het gaat over de vraag of je het kind voor kortere of langere periode alleen kan laten in de groep zonder onmiddellijke beschikbaarheid van een begeleider. Wie nood heeft aan permanentie, heeft niet-planbare ondersteuning door begeleiders nodig. Het gaat dus om ondersteuning wanneer zich iets onverwachts voordoet. Dit is soms locatie afhankelijk.
A59: OVERPRIKKELING EN RUSTMOMENTEN
A60: SCORE | B60: =IF(COUNTIF(A61:A65,TRUE)=0,"Selecteer een antwoord",IF(COUNTIF(A61:A65,TRUE)>1,"Je kan maar 1 antwoord selecteren",IF(A61=TRUE,0,IF(A62=TRUE,1,IF(A63=TRUE,3,IF(A64=TRUE,5,IF(A65=TRUE,7))))))) -> Selecteer een antwoord
A61: FALSE | B61: Kan functioneren in een groep met veel prikkels.
A62: FALSE | B62: Heeft soms rustige momenten nodig, maar zoekt deze zelf op.
A63: FALSE | B63: Kan in groep functioneren als er regelmatig geplande rustmomenten zijn ingebouwd.
A64: FALSE | B64: Snel overprikkeld en moet door begeleiding begeleid worden naar rustmomenten.
A65: FALSE | B65: Heeft structureel een afzonderlijke ruimte nodig om tot rust te komen.
A68: WEGLOOPGEDRAG
A69: SCORE | B69: =IF(COUNTIF(A70:A74,TRUE)=0,"Selecteer een antwoord",IF(COUNTIF(A70:A74,TRUE)>1,"Je kan maar 1 antwoord selecteren",IF(A70=TRUE,0,IF(A71=TRUE,1,IF(A72=TRUE,3,IF(A73=TRUE,5,IF(A74=TRUE,7))))))) -> Selecteer een antwoord
A70: FALSE | B70: Er is geen risico op wegloopgedrag.
A71: FALSE | B71: Blijft bij de groep, maar het kan voorvallen dat uit verstrooiing de groep niet gevolgd wordt.
A72: FALSE | B72: Blijft op het terrein, maar neemt weinig deel aan de activiteit en speelt in eigen leefwereld.
A73: FALSE | B73: Probeert soms richting uitgang of onbekende zones te gaan; begeleiding moet actief opvolgen om weggaan te voorkomen.
A74: FALSE | B74: Als de infrastructuur open is, loopt het kind weg.
A77: EMOTIONELE EN / OF GEDRAGSMATIGE ONDERSTEUNING
A78: SCORE | B78: =IF(COUNTIF(A79:A83,TRUE)=0,"Selecteer een antwoord",IF(COUNTIF(A79:A83,TRUE)>1,"Je kan maar 1 antwoord selecteren",IF(A79=TRUE,0,IF(A80=TRUE,1,IF(A81=TRUE,3,IF(A82=TRUE,5,IF(A83=TRUE,7))))))) -> Selecteer een antwoord
A79: FALSE | B79: Er zijn geen bijzondere aandachtspunten.
A80: FALSE | B80: Zoekt uit zichzelf de nabijheid van een begeleider.
A81: FALSE | B81: Heeft bij overgangsmomenten een begeleider in de buurt nodig.
A82: FALSE | B82: Heeft de hele dag een vaste begeleider nodig in dezelfde ruimte.
A83: FALSE | B83: Heeft de hele dag een vaste begeleider nodig in dezelfde ruimte om de veiligheid te bewaken.
A86: COMMUNICATIE UITDAGINGEN EIGEN AAN DE ONDERSTEUNINGSNOOD
A87: SCORE | B87: =IF(COUNTIF(A88:A92,TRUE)=0,"Selecteer een antwoord",IF(COUNTIF(A88:A92,TRUE)>1,"Je kan maar 1 antwoord selecteren",IF(A88=TRUE,0,IF(A89=TRUE,1,IF(A90=TRUE,3,IF(A91=TRUE,5,IF(A92=TRUE,7))))))) -> Selecteer een antwoord
A88: FALSE | B88: Is verbaal en begrijpt instructies zonder moeite.
A89: FALSE | B89: Soms is verduidelijking nodig, maar begrijpt de basis.
A90: FALSE | B90: Moeilijkheden om zich verbaal uit te drukken of begrijpt opdrachten slechts gedeeltelijk.
A91: FALSE | B91: Spreekt niet of zeer beperkt, communicatie enkel mogelijk met ondersteuning.
A92: FALSE | B92: Volledig afhankelijk van hulpmiddelen of begeleider om te communiceren.
A95: ESCALATIE EN CONFLICTEN MET KINDEREN EN BEGELEIDING
A96: SCORE | B96: =IF(COUNTIF(A97:A101,TRUE)=0,"Selecteer een antwoord",IF(COUNTIF(A97:A101,TRUE)>1,"Je kan maar 1 antwoord selecteren",IF(A97=TRUE,0,IF(A98=TRUE,1,IF(A99=TRUE,3,IF(A100=TRUE,5,IF(A101=TRUE,7))))))) -> Selecteer een antwoord
A97: FALSE | B97: Er zijn geen aandachtspunten.
A98: FALSE | B98: Komt af en toe eens in conflict, maar kan zichzelf bijsturen.
A99: FALSE | B99: Regelmatig in conflict, heeft structuur en begeleiding nodig.
A100: FALSE | B100: Vaak conflict, moeite in het samen spelen in groep. Heeft constante begeleiding nodig tijdens ongestructureerde momenten.
A101: FALSE | B101: Agressie en gevaarlijk gedrag vormen een risico voor zichzelf of anderen. Heeft constante begeleiding nodig.

Sheet 6
A1: NAAM | B1: (vul hier een naam in)
A2: RIJKSREGISTERNR | B2: (vul hier het rijksregisternummer in)
A3: ZORGSCORE | B3: =IF(( COUNTIF(B10,"Selecteer een antwoord")+ COUNTIF(B19,"Selecteer een antwoord")+ COUNTIF(B28,"Selecteer een antwoord")+ COUNTIF(B37,"Selecteer een antwoord")+ COUNTIF(B46,"Selecteer een antwoord")+ COUNTIF(B60,"Selecteer een antwoord")+ COUNTIF(B69,"Selecteer een antwoord")+ COUNTIF(B78,"Selecteer een antwoord")+ COUNTIF(B87,"Selecteer een antwoord")+ COUNTIF(B96,"Selecteer een antwoord"))>=1,"Zodra je per vraag 1 antwoord selecteert, verschijnt hieronder een zorgscore en een type begeleiding. Wanneer je meerdere antwoorden per vraag selecteert, verschijnt hieronder een foutcode.", IFERROR(B10+B19+B28+B37+B46+B60+B69+B78+B87+B96,"FOUTCODE: Je selecteerde meerdere antwoorden bij een vraag. Controleer je antwoorden en pas aan.")) -> Zodra je per vraag 1 antwoord selecteert, verschijnt hieronder een zorgscore en een type begeleiding. Wanneer je meerdere antwoorden per vraag selecteert, verschijnt hieronder een foutcode.
A4: TYPE BEGELEIDING | B4: =IF(ISTEXT(B3),"",_xlfn.XLOOKUP(B3,'OVERZICHT VOOR ORGANISATIE'!A5:A9,'OVERZICHT VOOR ORGANISATIE'!C5:C9,"",-1))
A6: VRAGEN ROND DE BEGELEIDING (planbare interventies)
A7: Begeleidingsintensiteit gaat over de mate waarin het kind met een ondersteuningsnood tijdens de activiteit ondersteuning nodig heeft van andere personen. We brengen daarbij alle ondersteuning in kaart, ongeacht wie die ondersteuning biedt. Deze planbare ondersteuning kan eventueel ook opgenomen worden door andere deelnemers aan de activiteit.
A9: ZELFREDZAAMHEID TIJDENS SPEL / ACTIVITEIT
A10: SCORE | B10: =IF(COUNTIF(A11:A15,TRUE)=0,"Selecteer een antwoord",IF(COUNTIF(A11:A15,TRUE)>1,"Je kan maar 1 antwoord selecteren",IF(A11=TRUE,0,IF(A12=TRUE,1,IF(A13=TRUE,2,IF(A14=TRUE,3,IF(A15=TRUE,4))))))) -> Selecteer een antwoord
A11: FALSE | B11: Speelt doorgaans volledig zelfstandig (al dan niet in groep).
A12: FALSE | B12: Heeft soms hulp nodig om tot spelen te komen, maar speelt vervolgens zelfstandig (al dan niet in groep).
A13: FALSE | B13: Heeft doorgaans begeleiding nodig om tot spelen te komen en te blijven spelen.
A14: FALSE | B14: Frequente acties van de begeleiding zijn noodzakelijk om tot spelen te komen en te blijven spelen.
A15: FALSE | B15: Blijvende begeleiding is noodzakelijk om tot spelen te komen.
A18: BEGRIJPEN VAN REGELS Bv. bij speluitleg, activiteit, ‘huisregels’...
A19: SCORE | B19: =IF(COUNTIF(A20:A24,TRUE)=0,"Selecteer een antwoord",IF(COUNTIF(A20:A24,TRUE)>1,"Je kan maar 1 antwoord selecteren",IF(A20=TRUE,0,IF(A21=TRUE,1,IF(A22=TRUE,2,IF(A23=TRUE,3,IF(A24=TRUE,4))))))) -> Selecteer een antwoord
A20: FALSE | B20: Begrijpt snel uitleg en heeft geen hulp nodig.
A21: FALSE | B21: Heeft soms extra verduidelijking nodig.
A22: FALSE | B22: Heeft een eenvoudige versie van de uitleg nodig, bv: gebracht in kleinere groep.
A23: FALSE | B23: Heeft meerdere keren extra individuele uitleg nodig op een aangepaste manier.
A24: FALSE | B24: Heeft blijvende individuele begeleiding nodig om regels (of uitleg/ de context) te begrijpen.
A27: ZORG ROND GEZONDHEID
A28: SCORE | B28: =IF(COUNTIF(A29:A33,TRUE)=0,"Selecteer een antwoord",IF(COUNTIF(A29:A33,TRUE)>1,"Je kan maar 1 antwoord selecteren",IF(A29=TRUE,0,IF(A30=TRUE,1,IF(A31=TRUE,2,IF(A32=TRUE,3,IF(A33=TRUE,4))))))) -> Selecteer een antwoord
A29: FALSE | B29: Er zijn geen bijzondere aandachtspunten rond gezondheid.
A30: FALSE | B30: Kleine aandachtspunten waar de begeleiding rekening mee houdt. (Bv: zelfstandig medicatie inname)
A31: FALSE | B31: Af en toe hulp of herinnering nodig van de begeleiding. (Bv: Herinneren aan eten of drinken, hulp bij inname medicatie, rekening houden met dieet)
A32: FALSE | B32: Regelmatig opvolging of hulp nodig door de begeleiding. (Bv: astma-aanval, epilepsie in het oog houden, bloedsuiker controleren)
A33: FALSE | B33: Veel en specifieke zorg nodig tijdens de werking. (Bv: sondevoeding, medische handelingen door een bekwame helper, hulp van thuisverpleging, intensieve opvolging van gezondheid)
A36: WELBEVINDEN VAN HET KIND TIJDENS DE WERKING
A37: SCORE | B37: =IF(COUNTIF(A38:A42,TRUE)=0,"Selecteer een antwoord",IF(COUNTIF(A38:A42,TRUE)>1,"Je kan maar 1 antwoord selecteren",IF(A38=TRUE,0,IF(A39=TRUE,1,IF(A40=TRUE,2,IF(A41=TRUE,3,IF(A42=TRUE,4))))))) -> Selecteer een antwoord
A38: FALSE | B38: Voelt zich tijdens de werking goed en is ontspannen.
A39: FALSE | B39: Aanwezigheid van de begeleiders in de ruimte is voldoende ondersteuning, voelt zich meestal goed.
A40: FALSE | B40: Soms is ondersteuning en geruststelling nodig, want emoties zijn vaak wisselend.
A41: FALSE | B41: Actieve ondersteuning is nodig, want er zijn regelmatig signalen dat het kind zich niet goed voelt. (Bv: zich terugtrekken, stil worden, sneller gefrustreerd raken)
A42: FALSE | B42: Voortdurende ondersteuning is nodig om zich veilig en goed te voelen.
A45: ONDERSTEUNING WEGENS VERMINDERDE FYSIEKE MOGELIJKHEDEN
A46: SCORE | B46: =IF(COUNTIF(A47:A51,TRUE)=0,"Selecteer een antwoord",IF(COUNTIF(A47:A51,TRUE)>1,"Je kan maar 1 antwoord selecteren",IF(A47=TRUE,0,IF(A48=TRUE,1,IF(A49=TRUE,2,IF(A50=TRUE,3,IF(A51=TRUE,4))))))) -> Selecteer een antwoord
A47: FALSE | B47: Er is geen hulp nodig.
A48: FALSE | B48: Soms hulp nodig bij korte momenten.
A49: FALSE | B49: Gedurende de dag is regelmatig hulp nodig. (Bv: begeleiden naar het toilet, ondersteuning door eten en drinken klaar te zetten, kleren klaarleggen)
A50: FALSE | B50: Constante hulp nodig. (Bv: volledige hulp nodig bij toiletbezoek, eten, drinken, aankleden, langere verplaatsingen of traplopen)
A51: FALSE | B51: Intensieve zorg: volledig afhankelijk van hulp van anderen. (Bv: toiletbezoek, eten en drinken, aankleden, verplaatsen; begeleiding moet continu aanwezig zijn en veel handelingen overnemen)
A56: VRAGEN ROND DE PERMANENTIE (niet planbare interventies)
A57: Permanentienood gaat over de mate waarin het kind met een ondersteuningsnood nood heeft aan nabijheid van een begeleider. Het gaat over de vraag of je het kind voor kortere of langere periode alleen kan laten in de groep zonder onmiddellijke beschikbaarheid van een begeleider. Wie nood heeft aan permanentie, heeft niet-planbare ondersteuning door begeleiders nodig. Het gaat dus om ondersteuning wanneer zich iets onverwachts voordoet. Dit is soms locatie afhankelijk.
A59: OVERPRIKKELING EN RUSTMOMENTEN
A60: SCORE | B60: =IF(COUNTIF(A61:A65,TRUE)=0,"Selecteer een antwoord",IF(COUNTIF(A61:A65,TRUE)>1,"Je kan maar 1 antwoord selecteren",IF(A61=TRUE,0,IF(A62=TRUE,1,IF(A63=TRUE,3,IF(A64=TRUE,5,IF(A65=TRUE,7))))))) -> Selecteer een antwoord
A61: FALSE | B61: Kan functioneren in een groep met veel prikkels.
A62: FALSE | B62: Heeft soms rustige momenten nodig, maar zoekt deze zelf op.
A63: FALSE | B63: Kan in groep functioneren als er regelmatig geplande rustmomenten zijn ingebouwd.
A64: FALSE | B64: Snel overprikkeld en moet door begeleiding begeleid worden naar rustmomenten.
A65: FALSE | B65: Heeft structureel een afzonderlijke ruimte nodig om tot rust te komen.
A68: WEGLOOPGEDRAG
A69: SCORE | B69: =IF(COUNTIF(A70:A74,TRUE)=0,"Selecteer een antwoord",IF(COUNTIF(A70:A74,TRUE)>1,"Je kan maar 1 antwoord selecteren",IF(A70=TRUE,0,IF(A71=TRUE,1,IF(A72=TRUE,3,IF(A73=TRUE,5,IF(A74=TRUE,7))))))) -> Selecteer een antwoord
A70: FALSE | B70: Er is geen risico op wegloopgedrag.
A71: FALSE | B71: Blijft bij de groep, maar het kan voorvallen dat uit verstrooiing de groep niet gevolgd wordt.
A72: FALSE | B72: Blijft op het terrein, maar neemt weinig deel aan de activiteit en speelt in eigen leefwereld.
A73: FALSE | B73: Probeert soms richting uitgang of onbekende zones te gaan; begeleiding moet actief opvolgen om weggaan te voorkomen.
A74: FALSE | B74: Als de infrastructuur open is, loopt het kind weg.
A77: EMOTIONELE EN / OF GEDRAGSMATIGE ONDERSTEUNING
A78: SCORE | B78: =IF(COUNTIF(A79:A83,TRUE)=0,"Selecteer een antwoord",IF(COUNTIF(A79:A83,TRUE)>1,"Je kan maar 1 antwoord selecteren",IF(A79=TRUE,0,IF(A80=TRUE,1,IF(A81=TRUE,3,IF(A82=TRUE,5,IF(A83=TRUE,7))))))) -> Selecteer een antwoord
A79: FALSE | B79: Er zijn geen bijzondere aandachtspunten.
A80: FALSE | B80: Zoekt uit zichzelf de nabijheid van een begeleider.
A81: FALSE | B81: Heeft bij overgangsmomenten een begeleider in de buurt nodig.
A82: FALSE | B82: Heeft de hele dag een vaste begeleider nodig in dezelfde ruimte.
A83: FALSE | B83: Heeft de hele dag een vaste begeleider nodig in dezelfde ruimte om de veiligheid te bewaken.
A86: COMMUNICATIE UITDAGINGEN EIGEN AAN DE ONDERSTEUNINGSNOOD
A87: SCORE | B87: =IF(COUNTIF(A88:A92,TRUE)=0,"Selecteer een antwoord",IF(COUNTIF(A88:A92,TRUE)>1,"Je kan maar 1 antwoord selecteren",IF(A88=TRUE,0,IF(A89=TRUE,1,IF(A90=TRUE,3,IF(A91=TRUE,5,IF(A92=TRUE,7))))))) -> Selecteer een antwoord
A88: FALSE | B88: Is verbaal en begrijpt instructies zonder moeite.
A89: FALSE | B89: Soms is verduidelijking nodig, maar begrijpt de basis.
A90: FALSE | B90: Moeilijkheden om zich verbaal uit te drukken of begrijpt opdrachten slechts gedeeltelijk.
A91: FALSE | B91: Spreekt niet of zeer beperkt, communicatie enkel mogelijk met ondersteuning.
A92: FALSE | B92: Volledig afhankelijk van hulpmiddelen of begeleider om te communiceren.
A95: ESCALATIE EN CONFLICTEN MET KINDEREN EN BEGELEIDING
A96: SCORE | B96: =IF(COUNTIF(A97:A101,TRUE)=0,"Selecteer een antwoord",IF(COUNTIF(A97:A101,TRUE)>1,"Je kan maar 1 antwoord selecteren",IF(A97=TRUE,0,IF(A98=TRUE,1,IF(A99=TRUE,3,IF(A100=TRUE,5,IF(A101=TRUE,7))))))) -> Selecteer een antwoord
A97: FALSE | B97: Er zijn geen aandachtspunten.
A98: FALSE | B98: Komt af en toe eens in conflict, maar kan zichzelf bijsturen.
A99: FALSE | B99: Regelmatig in conflict, heeft structuur en begeleiding nodig.
A100: FALSE | B100: Vaak conflict, moeite in het samen spelen in groep. Heeft constante begeleiding nodig tijdens ongestructureerde momenten.
A101: FALSE | B101: Agressie en gevaarlijk gedrag vormen een risico voor zichzelf of anderen. Heeft constante begeleiding nodig.

Sheet 7
A1: NAAM | B1: (vul hier een naam in)
A2: RIJKSREGISTERNR | B2: (vul hier het rijksregisternummer in)
A3: ZORGSCORE | B3: =IF(( COUNTIF(B10,"Selecteer een antwoord")+ COUNTIF(B19,"Selecteer een antwoord")+ COUNTIF(B28,"Selecteer een antwoord")+ COUNTIF(B37,"Selecteer een antwoord")+ COUNTIF(B46,"Selecteer een antwoord")+ COUNTIF(B60,"Selecteer een antwoord")+ COUNTIF(B69,"Selecteer een antwoord")+ COUNTIF(B78,"Selecteer een antwoord")+ COUNTIF(B87,"Selecteer een antwoord")+ COUNTIF(B96,"Selecteer een antwoord"))>=1,"Zodra je per vraag 1 antwoord selecteert, verschijnt hieronder een zorgscore en een type begeleiding. Wanneer je meerdere antwoorden per vraag selecteert, verschijnt hieronder een foutcode.", IFERROR(B10+B19+B28+B37+B46+B60+B69+B78+B87+B96,"FOUTCODE: Je selecteerde meerdere antwoorden bij een vraag. Controleer je antwoorden en pas aan.")) -> Zodra je per vraag 1 antwoord selecteert, verschijnt hieronder een zorgscore en een type begeleiding. Wanneer je meerdere antwoorden per vraag selecteert, verschijnt hieronder een foutcode.
A4: TYPE BEGELEIDING | B4: =IF(ISTEXT(B3),"",_xlfn.XLOOKUP(B3,'OVERZICHT VOOR ORGANISATIE'!A5:A9,'OVERZICHT VOOR ORGANISATIE'!C5:C9,"",-1))
A6: VRAGEN ROND DE BEGELEIDING (planbare interventies)
A7: Begeleidingsintensiteit gaat over de mate waarin het kind met een ondersteuningsnood tijdens de activiteit ondersteuning nodig heeft van andere personen. We brengen daarbij alle ondersteuning in kaart, ongeacht wie die ondersteuning biedt. Deze planbare ondersteuning kan eventueel ook opgenomen worden door andere deelnemers aan de activiteit.
A9: ZELFREDZAAMHEID TIJDENS SPEL / ACTIVITEIT
A10: SCORE | B10: =IF(COUNTIF(A11:A15,TRUE)=0,"Selecteer een antwoord",IF(COUNTIF(A11:A15,TRUE)>1,"Je kan maar 1 antwoord selecteren",IF(A11=TRUE,0,IF(A12=TRUE,1,IF(A13=TRUE,2,IF(A14=TRUE,3,IF(A15=TRUE,4))))))) -> Selecteer een antwoord
A11: FALSE | B11: Speelt doorgaans volledig zelfstandig (al dan niet in groep).
A12: FALSE | B12: Heeft soms hulp nodig om tot spelen te komen, maar speelt vervolgens zelfstandig (al dan niet in groep).
A13: FALSE | B13: Heeft doorgaans begeleiding nodig om tot spelen te komen en te blijven spelen.
A14: FALSE | B14: Frequente acties van de begeleiding zijn noodzakelijk om tot spelen te komen en te blijven spelen.
A15: FALSE | B15: Blijvende begeleiding is noodzakelijk om tot spelen te komen.
A18: BEGRIJPEN VAN REGELS Bv. bij speluitleg, activiteit, ‘huisregels’...
A19: SCORE | B19: =IF(COUNTIF(A20:A24,TRUE)=0,"Selecteer een antwoord",IF(COUNTIF(A20:A24,TRUE)>1,"Je kan maar 1 antwoord selecteren",IF(A20=TRUE,0,IF(A21=TRUE,1,IF(A22=TRUE,2,IF(A23=TRUE,3,IF(A24=TRUE,4))))))) -> Selecteer een antwoord
A20: FALSE | B20: Begrijpt snel uitleg en heeft geen hulp nodig.
A21: FALSE | B21: Heeft soms extra verduidelijking nodig.
A22: FALSE | B22: Heeft een eenvoudige versie van de uitleg nodig, bv: gebracht in kleinere groep.
A23: FALSE | B23: Heeft meerdere keren extra individuele uitleg nodig op een aangepaste manier.
A24: FALSE | B24: Heeft blijvende individuele begeleiding nodig om regels (of uitleg/ de context) te begrijpen.
A27: ZORG ROND GEZONDHEID
A28: SCORE | B28: =IF(COUNTIF(A29:A33,TRUE)=0,"Selecteer een antwoord",IF(COUNTIF(A29:A33,TRUE)>1,"Je kan maar 1 antwoord selecteren",IF(A29=TRUE,0,IF(A30=TRUE,1,IF(A31=TRUE,2,IF(A32=TRUE,3,IF(A33=TRUE,4))))))) -> Selecteer een antwoord
A29: FALSE | B29: Er zijn geen bijzondere aandachtspunten rond gezondheid.
A30: FALSE | B30: Kleine aandachtspunten waar de begeleiding rekening mee houdt. (Bv: zelfstandig medicatie inname)
A31: FALSE | B31: Af en toe hulp of herinnering nodig van de begeleiding. (Bv: Herinneren aan eten of drinken, hulp bij inname medicatie, rekening houden met dieet)
A32: FALSE | B32: Regelmatig opvolging of hulp nodig door de begeleiding. (Bv: astma-aanval, epilepsie in het oog houden, bloedsuiker controleren)
A33: FALSE | B33: Veel en specifieke zorg nodig tijdens de werking. (Bv: sondevoeding, medische handelingen door een bekwame helper, hulp van thuisverpleging, intensieve opvolging van gezondheid)
A36: WELBEVINDEN VAN HET KIND TIJDENS DE WERKING
A37: SCORE | B37: =IF(COUNTIF(A38:A42,TRUE)=0,"Selecteer een antwoord",IF(COUNTIF(A38:A42,TRUE)>1,"Je kan maar 1 antwoord selecteren",IF(A38=TRUE,0,IF(A39=TRUE,1,IF(A40=TRUE,2,IF(A41=TRUE,3,IF(A42=TRUE,4))))))) -> Selecteer een antwoord
A38: FALSE | B38: Voelt zich tijdens de werking goed en is ontspannen.
A39: FALSE | B39: Aanwezigheid van de begeleiders in de ruimte is voldoende ondersteuning, voelt zich meestal goed.
A40: FALSE | B40: Soms is ondersteuning en geruststelling nodig, want emoties zijn vaak wisselend.
A41: FALSE | B41: Actieve ondersteuning is nodig, want er zijn regelmatig signalen dat het kind zich niet goed voelt. (Bv: zich terugtrekken, stil worden, sneller gefrustreerd raken)
A42: FALSE | B42: Voortdurende ondersteuning is nodig om zich veilig en goed te voelen.
A45: ONDERSTEUNING WEGENS VERMINDERDE FYSIEKE MOGELIJKHEDEN
A46: SCORE | B46: =IF(COUNTIF(A47:A51,TRUE)=0,"Selecteer een antwoord",IF(COUNTIF(A47:A51,TRUE)>1,"Je kan maar 1 antwoord selecteren",IF(A47=TRUE,0,IF(A48=TRUE,1,IF(A49=TRUE,2,IF(A50=TRUE,3,IF(A51=TRUE,4))))))) -> Selecteer een antwoord
A47: FALSE | B47: Er is geen hulp nodig.
A48: FALSE | B48: Soms hulp nodig bij korte momenten.
A49: FALSE | B49: Gedurende de dag is regelmatig hulp nodig. (Bv: begeleiden naar het toilet, ondersteuning door eten en drinken klaar te zetten, kleren klaarleggen)
A50: FALSE | B50: Constante hulp nodig. (Bv: volledige hulp nodig bij toiletbezoek, eten, drinken, aankleden, langere verplaatsingen of traplopen)
A51: FALSE | B51: Intensieve zorg: volledig afhankelijk van hulp van anderen. (Bv: toiletbezoek, eten en drinken, aankleden, verplaatsen; begeleiding moet continu aanwezig zijn en veel handelingen overnemen)
A56: VRAGEN ROND DE PERMANENTIE (niet planbare interventies)
A57: Permanentienood gaat over de mate waarin het kind met een ondersteuningsnood nood heeft aan nabijheid van een begeleider. Het gaat over de vraag of je het kind voor kortere of langere periode alleen kan laten in de groep zonder onmiddellijke beschikbaarheid van een begeleider. Wie nood heeft aan permanentie, heeft niet-planbare ondersteuning door begeleiders nodig. Het gaat dus om ondersteuning wanneer zich iets onverwachts voordoet. Dit is soms locatie afhankelijk.
A59: OVERPRIKKELING EN RUSTMOMENTEN
A60: SCORE | B60: =IF(COUNTIF(A61:A65,TRUE)=0,"Selecteer een antwoord",IF(COUNTIF(A61:A65,TRUE)>1,"Je kan maar 1 antwoord selecteren",IF(A61=TRUE,0,IF(A62=TRUE,1,IF(A63=TRUE,3,IF(A64=TRUE,5,IF(A65=TRUE,7))))))) -> Selecteer een antwoord
A61: FALSE | B61: Kan functioneren in een groep met veel prikkels.
A62: FALSE | B62: Heeft soms rustige momenten nodig, maar zoekt deze zelf op.
A63: FALSE | B63: Kan in groep functioneren als er regelmatig geplande rustmomenten zijn ingebouwd.
A64: FALSE | B64: Snel overprikkeld en moet door begeleiding begeleid worden naar rustmomenten.
A65: FALSE | B65: Heeft structureel een afzonderlijke ruimte nodig om tot rust te komen.
A68: WEGLOOPGEDRAG
A69: SCORE | B69: =IF(COUNTIF(A70:A74,TRUE)=0,"Selecteer een antwoord",IF(COUNTIF(A70:A74,TRUE)>1,"Je kan maar 1 antwoord selecteren",IF(A70=TRUE,0,IF(A71=TRUE,1,IF(A72=TRUE,3,IF(A73=TRUE,5,IF(A74=TRUE,7))))))) -> Selecteer een antwoord
A70: FALSE | B70: Er is geen risico op wegloopgedrag.
A71: FALSE | B71: Blijft bij de groep, maar het kan voorvallen dat uit verstrooiing de groep niet gevolgd wordt.
A72: FALSE | B72: Blijft op het terrein, maar neemt weinig deel aan de activiteit en speelt in eigen leefwereld.
A73: FALSE | B73: Probeert soms richting uitgang of onbekende zones te gaan; begeleiding moet actief opvolgen om weggaan te voorkomen.
A74: FALSE | B74: Als de infrastructuur open is, loopt het kind weg.
A77: EMOTIONELE EN / OF GEDRAGSMATIGE ONDERSTEUNING
A78: SCORE | B78: =IF(COUNTIF(A79:A83,TRUE)=0,"Selecteer een antwoord",IF(COUNTIF(A79:A83,TRUE)>1,"Je kan maar 1 antwoord selecteren",IF(A79=TRUE,0,IF(A80=TRUE,1,IF(A81=TRUE,3,IF(A82=TRUE,5,IF(A83=TRUE,7))))))) -> Selecteer een antwoord
A79: FALSE | B79: Er zijn geen bijzondere aandachtspunten.
A80: FALSE | B80: Zoekt uit zichzelf de nabijheid van een begeleider.
A81: FALSE | B81: Heeft bij overgangsmomenten een begeleider in de buurt nodig.
A82: FALSE | B82: Heeft de hele dag een vaste begeleider nodig in dezelfde ruimte.
A83: FALSE | B83: Heeft de hele dag een vaste begeleider nodig in dezelfde ruimte om de veiligheid te bewaken.
A86: COMMUNICATIE UITDAGINGEN EIGEN AAN DE ONDERSTEUNINGSNOOD
A87: SCORE | B87: =IF(COUNTIF(A88:A92,TRUE)=0,"Selecteer een antwoord",IF(COUNTIF(A88:A92,TRUE)>1,"Je kan maar 1 antwoord selecteren",IF(A88=TRUE,0,IF(A89=TRUE,1,IF(A90=TRUE,3,IF(A91=TRUE,5,IF(A92=TRUE,7))))))) -> Selecteer een antwoord
A88: FALSE | B88: Is verbaal en begrijpt instructies zonder moeite.
A89: FALSE | B89: Soms is verduidelijking nodig, maar begrijpt de basis.
A90: FALSE | B90: Moeilijkheden om zich verbaal uit te drukken of begrijpt opdrachten slechts gedeeltelijk.
A91: FALSE | B91: Spreekt niet of zeer beperkt, communicatie enkel mogelijk met ondersteuning.
A92: FALSE | B92: Volledig afhankelijk van hulpmiddelen of begeleider om te communiceren.
A95: ESCALATIE EN CONFLICTEN MET KINDEREN EN BEGELEIDING
A96: SCORE | B96: =IF(COUNTIF(A97:A101,TRUE)=0,"Selecteer een antwoord",IF(COUNTIF(A97:A101,TRUE)>1,"Je kan maar 1 antwoord selecteren",IF(A97=TRUE,0,IF(A98=TRUE,1,IF(A99=TRUE,3,IF(A100=TRUE,5,IF(A101=TRUE,7))))))) -> Selecteer een antwoord
A97: FALSE | B97: Er zijn geen aandachtspunten.
A98: FALSE | B98: Komt af en toe eens in conflict, maar kan zichzelf bijsturen.
A99: FALSE | B99: Regelmatig in conflict, heeft structuur en begeleiding nodig.
A100: FALSE | B100: Vaak conflict, moeite in het samen spelen in groep. Heeft constante begeleiding nodig tijdens ongestructureerde momenten.
A101: FALSE | B101: Agressie en gevaarlijk gedrag vormen een risico voor zichzelf of anderen. Heeft constante begeleiding nodig.

Sheet 8
A1: NAAM | B1: (vul hier een naam in)
A2: RIJKSREGISTERNR | B2: (vul hier het rijksregisternummer in)
A3: ZORGSCORE | B3: =IF(( COUNTIF(B10,"Selecteer een antwoord")+ COUNTIF(B19,"Selecteer een antwoord")+ COUNTIF(B28,"Selecteer een antwoord")+ COUNTIF(B37,"Selecteer een antwoord")+ COUNTIF(B46,"Selecteer een antwoord")+ COUNTIF(B60,"Selecteer een antwoord")+ COUNTIF(B69,"Selecteer een antwoord")+ COUNTIF(B78,"Selecteer een antwoord")+ COUNTIF(B87,"Selecteer een antwoord")+ COUNTIF(B96,"Selecteer een antwoord"))>=1,"Zodra je per vraag 1 antwoord selecteert, verschijnt hieronder een zorgscore en een type begeleiding. Wanneer je meerdere antwoorden per vraag selecteert, verschijnt hieronder een foutcode.", IFERROR(B10+B19+B28+B37+B46+B60+B69+B78+B87+B96,"FOUTCODE: Je selecteerde meerdere antwoorden bij een vraag. Controleer je antwoorden en pas aan.")) -> Zodra je per vraag 1 antwoord selecteert, verschijnt hieronder een zorgscore en een type begeleiding. Wanneer je meerdere antwoorden per vraag selecteert, verschijnt hieronder een foutcode.
A4: TYPE BEGELEIDING | B4: =IF(ISTEXT(B3),"",_xlfn.XLOOKUP(B3,'OVERZICHT VOOR ORGANISATIE'!A5:A9,'OVERZICHT VOOR ORGANISATIE'!C5:C9,"",-1))
A6: VRAGEN ROND DE BEGELEIDING (planbare interventies)
A7: Begeleidingsintensiteit gaat over de mate waarin het kind met een ondersteuningsnood tijdens de activiteit ondersteuning nodig heeft van andere personen. We brengen daarbij alle ondersteuning in kaart, ongeacht wie die ondersteuning biedt. Deze planbare ondersteuning kan eventueel ook opgenomen worden door andere deelnemers aan de activiteit.
A9: ZELFREDZAAMHEID TIJDENS SPEL / ACTIVITEIT
A10: SCORE | B10: =IF(COUNTIF(A11:A15,TRUE)=0,"Selecteer een antwoord",IF(COUNTIF(A11:A15,TRUE)>1,"Je kan maar 1 antwoord selecteren",IF(A11=TRUE,0,IF(A12=TRUE,1,IF(A13=TRUE,2,IF(A14=TRUE,3,IF(A15=TRUE,4))))))) -> Selecteer een antwoord
A11: FALSE | B11: Speelt doorgaans volledig zelfstandig (al dan niet in groep).
A12: FALSE | B12: Heeft soms hulp nodig om tot spelen te komen, maar speelt vervolgens zelfstandig (al dan niet in groep).
A13: FALSE | B13: Heeft doorgaans begeleiding nodig om tot spelen te komen en te blijven spelen.
A14: FALSE | B14: Frequente acties van de begeleiding zijn noodzakelijk om tot spelen te komen en te blijven spelen.
A15: FALSE | B15: Blijvende begeleiding is noodzakelijk om tot spelen te komen.
A18: BEGRIJPEN VAN REGELS Bv. bij speluitleg, activiteit, ‘huisregels’...
A19: SCORE | B19: =IF(COUNTIF(A20:A24,TRUE)=0,"Selecteer een antwoord",IF(COUNTIF(A20:A24,TRUE)>1,"Je kan maar 1 antwoord selecteren",IF(A20=TRUE,0,IF(A21=TRUE,1,IF(A22=TRUE,2,IF(A23=TRUE,3,IF(A24=TRUE,4))))))) -> Selecteer een antwoord
A20: FALSE | B20: Begrijpt snel uitleg en heeft geen hulp nodig.
A21: FALSE | B21: Heeft soms extra verduidelijking nodig.
A22: FALSE | B22: Heeft een eenvoudige versie van de uitleg nodig, bv: gebracht in kleinere groep.
A23: FALSE | B23: Heeft meerdere keren extra individuele uitleg nodig op een aangepaste manier.
A24: FALSE | B24: Heeft blijvende individuele begeleiding nodig om regels (of uitleg/ de context) te begrijpen.
A27: ZORG ROND GEZONDHEID
A28: SCORE | B28: =IF(COUNTIF(A29:A33,TRUE)=0,"Selecteer een antwoord",IF(COUNTIF(A29:A33,TRUE)>1,"Je kan maar 1 antwoord selecteren",IF(A29=TRUE,0,IF(A30=TRUE,1,IF(A31=TRUE,2,IF(A32=TRUE,3,IF(A33=TRUE,4))))))) -> Selecteer een antwoord
A29: FALSE | B29: Er zijn geen bijzondere aandachtspunten rond gezondheid.
A30: FALSE | B30: Kleine aandachtspunten waar de begeleiding rekening mee houdt. (Bv: zelfstandig medicatie inname)
A31: FALSE | B31: Af en toe hulp of herinnering nodig van de begeleiding. (Bv: Herinneren aan eten of drinken, hulp bij inname medicatie, rekening houden met dieet)
A32: FALSE | B32: Regelmatig opvolging of hulp nodig door de begeleiding. (Bv: astma-aanval, epilepsie in het oog houden, bloedsuiker controleren)
A33: FALSE | B33: Veel en specifieke zorg nodig tijdens de werking. (Bv: sondevoeding, medische handelingen door een bekwame helper, hulp van thuisverpleging, intensieve opvolging van gezondheid)
A36: WELBEVINDEN VAN HET KIND TIJDENS DE WERKING
A37: SCORE | B37: =IF(COUNTIF(A38:A42,TRUE)=0,"Selecteer een antwoord",IF(COUNTIF(A38:A42,TRUE)>1,"Je kan maar 1 antwoord selecteren",IF(A38=TRUE,0,IF(A39=TRUE,1,IF(A40=TRUE,2,IF(A41=TRUE,3,IF(A42=TRUE,4))))))) -> Selecteer een antwoord
A38: FALSE | B38: Voelt zich tijdens de werking goed en is ontspannen.
A39: FALSE | B39: Aanwezigheid van de begeleiders in de ruimte is voldoende ondersteuning, voelt zich meestal goed.
A40: FALSE | B40: Soms is ondersteuning en geruststelling nodig, want emoties zijn vaak wisselend.
A41: FALSE | B41: Actieve ondersteuning is nodig, want er zijn regelmatig signalen dat het kind zich niet goed voelt. (Bv: zich terugtrekken, stil worden, sneller gefrustreerd raken)
A42: FALSE | B42: Voortdurende ondersteuning is nodig om zich veilig en goed te voelen.
A45: ONDERSTEUNING WEGENS VERMINDERDE FYSIEKE MOGELIJKHEDEN
A46: SCORE | B46: =IF(COUNTIF(A47:A51,TRUE)=0,"Selecteer een antwoord",IF(COUNTIF(A47:A51,TRUE)>1,"Je kan maar 1 antwoord selecteren",IF(A47=TRUE,0,IF(A48=TRUE,1,IF(A49=TRUE,2,IF(A50=TRUE,3,IF(A51=TRUE,4))))))) -> Selecteer een antwoord
A47: FALSE | B47: Er is geen hulp nodig.
A48: FALSE | B48: Soms hulp nodig bij korte momenten.
A49: FALSE | B49: Gedurende de dag is regelmatig hulp nodig. (Bv: begeleiden naar het toilet, ondersteuning door eten en drinken klaar te zetten, kleren klaarleggen)
A50: FALSE | B50: Constante hulp nodig. (Bv: volledige hulp nodig bij toiletbezoek, eten, drinken, aankleden, langere verplaatsingen of traplopen)
A51: FALSE | B51: Intensieve zorg: volledig afhankelijk van hulp van anderen. (Bv: toiletbezoek, eten en drinken, aankleden, verplaatsen; begeleiding moet continu aanwezig zijn en veel handelingen overnemen)
A56: VRAGEN ROND DE PERMANENTIE (niet planbare interventies)
A57: Permanentienood gaat over de mate waarin het kind met een ondersteuningsnood nood heeft aan nabijheid van een begeleider. Het gaat over de vraag of je het kind voor kortere of langere periode alleen kan laten in de groep zonder onmiddellijke beschikbaarheid van een begeleider. Wie nood heeft aan permanentie, heeft niet-planbare ondersteuning door begeleiders nodig. Het gaat dus om ondersteuning wanneer zich iets onverwachts voordoet. Dit is soms locatie afhankelijk.
A59: OVERPRIKKELING EN RUSTMOMENTEN
A60: SCORE | B60: =IF(COUNTIF(A61:A65,TRUE)=0,"Selecteer een antwoord",IF(COUNTIF(A61:A65,TRUE)>1,"Je kan maar 1 antwoord selecteren",IF(A61=TRUE,0,IF(A62=TRUE,1,IF(A63=TRUE,3,IF(A64=TRUE,5,IF(A65=TRUE,7))))))) -> Selecteer een antwoord
A61: FALSE | B61: Kan functioneren in een groep met veel prikkels.
A62: FALSE | B62: Heeft soms rustige momenten nodig, maar zoekt deze zelf op.
A63: FALSE | B63: Kan in groep functioneren als er regelmatig geplande rustmomenten zijn ingebouwd.
A64: FALSE | B64: Snel overprikkeld en moet door begeleiding begeleid worden naar rustmomenten.
A65: FALSE | B65: Heeft structureel een afzonderlijke ruimte nodig om tot rust te komen.
A68: WEGLOOPGEDRAG
A69: SCORE | B69: =IF(COUNTIF(A70:A74,TRUE)=0,"Selecteer een antwoord",IF(COUNTIF(A70:A74,TRUE)>1,"Je kan maar 1 antwoord selecteren",IF(A70=TRUE,0,IF(A71=TRUE,1,IF(A72=TRUE,3,IF(A73=TRUE,5,IF(A74=TRUE,7))))))) -> Selecteer een antwoord
A70: FALSE | B70: Er is geen risico op wegloopgedrag.
A71: FALSE | B71: Blijft bij de groep, maar het kan voorvallen dat uit verstrooiing de groep niet gevolgd wordt.
A72: FALSE | B72: Blijft op het terrein, maar neemt weinig deel aan de activiteit en speelt in eigen leefwereld.
A73: FALSE | B73: Probeert soms richting uitgang of onbekende zones te gaan; begeleiding moet actief opvolgen om weggaan te voorkomen.
A74: FALSE | B74: Als de infrastructuur open is, loopt het kind weg.
A77: EMOTIONELE EN / OF GEDRAGSMATIGE ONDERSTEUNING
A78: SCORE | B78: =IF(COUNTIF(A79:A83,TRUE)=0,"Selecteer een antwoord",IF(COUNTIF(A79:A83,TRUE)>1,"Je kan maar 1 antwoord selecteren",IF(A79=TRUE,0,IF(A80=TRUE,1,IF(A81=TRUE,3,IF(A82=TRUE,5,IF(A83=TRUE,7))))))) -> Selecteer een antwoord
A79: FALSE | B79: Er zijn geen bijzondere aandachtspunten.
A80: FALSE | B80: Zoekt uit zichzelf de nabijheid van een begeleider.
A81: FALSE | B81: Heeft bij overgangsmomenten een begeleider in de buurt nodig.
A82: FALSE | B82: Heeft de hele dag een vaste begeleider nodig in dezelfde ruimte.
A83: FALSE | B83: Heeft de hele dag een vaste begeleider nodig in dezelfde ruimte om de veiligheid te bewaken.
A86: COMMUNICATIE UITDAGINGEN EIGEN AAN DE ONDERSTEUNINGSNOOD
A87: SCORE | B87: =IF(COUNTIF(A88:A92,TRUE)=0,"Selecteer een antwoord",IF(COUNTIF(A88:A92,TRUE)>1,"Je kan maar 1 antwoord selecteren",IF(A88=TRUE,0,IF(A89=TRUE,1,IF(A90=TRUE,3,IF(A91=TRUE,5,IF(A92=TRUE,7))))))) -> Selecteer een antwoord
A88: FALSE | B88: Is verbaal en begrijpt instructies zonder moeite.
A89: FALSE | B89: Soms is verduidelijking nodig, maar begrijpt de basis.
A90: FALSE | B90: Moeilijkheden om zich verbaal uit te drukken of begrijpt opdrachten slechts gedeeltelijk.
A91: FALSE | B91: Spreekt niet of zeer beperkt, communicatie enkel mogelijk met ondersteuning.
A92: FALSE | B92: Volledig afhankelijk van hulpmiddelen of begeleider om te communiceren.
A95: ESCALATIE EN CONFLICTEN MET KINDEREN EN BEGELEIDING
A96: SCORE | B96: =IF(COUNTIF(A97:A101,TRUE)=0,"Selecteer een antwoord",IF(COUNTIF(A97:A101,TRUE)>1,"Je kan maar 1 antwoord selecteren",IF(A97=TRUE,0,IF(A98=TRUE,1,IF(A99=TRUE,3,IF(A100=TRUE,5,IF(A101=TRUE,7))))))) -> Selecteer een antwoord
A97: FALSE | B97: Er zijn geen aandachtspunten.
A98: FALSE | B98: Komt af en toe eens in conflict, maar kan zichzelf bijsturen.
A99: FALSE | B99: Regelmatig in conflict, heeft structuur en begeleiding nodig.
A100: FALSE | B100: Vaak conflict, moeite in het samen spelen in groep. Heeft constante begeleiding nodig tijdens ongestructureerde momenten.
A101: FALSE | B101: Agressie en gevaarlijk gedrag vormen een risico voor zichzelf of anderen. Heeft constante begeleiding nodig.

Sheet 9
A1: NAAM | B1: (vul hier een naam in)
A2: RIJKSREGISTERNR | B2: (vul hier het rijksregisternummer in)
A3: ZORGSCORE | B3: =IF(( COUNTIF(B10,"Selecteer een antwoord")+ COUNTIF(B19,"Selecteer een antwoord")+ COUNTIF(B28,"Selecteer een antwoord")+ COUNTIF(B37,"Selecteer een antwoord")+ COUNTIF(B46,"Selecteer een antwoord")+ COUNTIF(B60,"Selecteer een antwoord")+ COUNTIF(B69,"Selecteer een antwoord")+ COUNTIF(B78,"Selecteer een antwoord")+ COUNTIF(B87,"Selecteer een antwoord")+ COUNTIF(B96,"Selecteer een antwoord"))>=1,"Zodra je per vraag 1 antwoord selecteert, verschijnt hieronder een zorgscore en een type begeleiding. Wanneer je meerdere antwoorden per vraag selecteert, verschijnt hieronder een foutcode.", IFERROR(B10+B19+B28+B37+B46+B60+B69+B78+B87+B96,"FOUTCODE: Je selecteerde meerdere antwoorden bij een vraag. Controleer je antwoorden en pas aan.")) -> Zodra je per vraag 1 antwoord selecteert, verschijnt hieronder een zorgscore en een type begeleiding. Wanneer je meerdere antwoorden per vraag selecteert, verschijnt hieronder een foutcode.
A4: TYPE BEGELEIDING | B4: =IF(ISTEXT(B3),"",_xlfn.XLOOKUP(B3,'OVERZICHT VOOR ORGANISATIE'!A5:A9,'OVERZICHT VOOR ORGANISATIE'!C5:C9,"",-1))
A6: VRAGEN ROND DE BEGELEIDING (planbare interventies)
A7: Begeleidingsintensiteit gaat over de mate waarin het kind met een ondersteuningsnood tijdens de activiteit ondersteuning nodig heeft van andere personen. We brengen daarbij alle ondersteuning in kaart, ongeacht wie die ondersteuning biedt. Deze planbare ondersteuning kan eventueel ook opgenomen worden door andere deelnemers aan de activiteit.
A9: ZELFREDZAAMHEID TIJDENS SPEL / ACTIVITEIT
A10: SCORE | B10: =IF(COUNTIF(A11:A15,TRUE)=0,"Selecteer een antwoord",IF(COUNTIF(A11:A15,TRUE)>1,"Je kan maar 1 antwoord selecteren",IF(A11=TRUE,0,IF(A12=TRUE,1,IF(A13=TRUE,2,IF(A14=TRUE,3,IF(A15=TRUE,4))))))) -> Selecteer een antwoord
A11: FALSE | B11: Speelt doorgaans volledig zelfstandig (al dan niet in groep).
A12: FALSE | B12: Heeft soms hulp nodig om tot spelen te komen, maar speelt vervolgens zelfstandig (al dan niet in groep).
A13: FALSE | B13: Heeft doorgaans begeleiding nodig om tot spelen te komen en te blijven spelen.
A14: FALSE | B14: Frequente acties van de begeleiding zijn noodzakelijk om tot spelen te komen en te blijven spelen.
A15: FALSE | B15: Blijvende begeleiding is noodzakelijk om tot spelen te komen.
A18: BEGRIJPEN VAN REGELS Bv. bij speluitleg, activiteit, ‘huisregels’...
A19: SCORE | B19: =IF(COUNTIF(A20:A24,TRUE)=0,"Selecteer een antwoord",IF(COUNTIF(A20:A24,TRUE)>1,"Je kan maar 1 antwoord selecteren",IF(A20=TRUE,0,IF(A21=TRUE,1,IF(A22=TRUE,2,IF(A23=TRUE,3,IF(A24=TRUE,4))))))) -> Selecteer een antwoord
A20: FALSE | B20: Begrijpt snel uitleg en heeft geen hulp nodig.
A21: FALSE | B21: Heeft soms extra verduidelijking nodig.
A22: FALSE | B22: Heeft een eenvoudige versie van de uitleg nodig, bv: gebracht in kleinere groep.
A23: FALSE | B23: Heeft meerdere keren extra individuele uitleg nodig op een aangepaste manier.
A24: FALSE | B24: Heeft blijvende individuele begeleiding nodig om regels (of uitleg/ de context) te begrijpen.
A27: ZORG ROND GEZONDHEID
A28: SCORE | B28: =IF(COUNTIF(A29:A33,TRUE)=0,"Selecteer een antwoord",IF(COUNTIF(A29:A33,TRUE)>1,"Je kan maar 1 antwoord selecteren",IF(A29=TRUE,0,IF(A30=TRUE,1,IF(A31=TRUE,2,IF(A32=TRUE,3,IF(A33=TRUE,4))))))) -> Selecteer een antwoord
A29: FALSE | B29: Er zijn geen bijzondere aandachtspunten rond gezondheid.
A30: FALSE | B30: Kleine aandachtspunten waar de begeleiding rekening mee houdt. (Bv: zelfstandig medicatie inname)
A31: FALSE | B31: Af en toe hulp of herinnering nodig van de begeleiding. (Bv: Herinneren aan eten of drinken, hulp bij inname medicatie, rekening houden met dieet)
A32: FALSE | B32: Regelmatig opvolging of hulp nodig door de begeleiding. (Bv: astma-aanval, epilepsie in het oog houden, bloedsuiker controleren)
A33: FALSE | B33: Veel en specifieke zorg nodig tijdens de werking. (Bv: sondevoeding, medische handelingen door een bekwame helper, hulp van thuisverpleging, intensieve opvolging van gezondheid)
A36: WELBEVINDEN VAN HET KIND TIJDENS DE WERKING
A37: SCORE | B37: =IF(COUNTIF(A38:A42,TRUE)=0,"Selecteer een antwoord",IF(COUNTIF(A38:A42,TRUE)>1,"Je kan maar 1 antwoord selecteren",IF(A38=TRUE,0,IF(A39=TRUE,1,IF(A40=TRUE,2,IF(A41=TRUE,3,IF(A42=TRUE,4))))))) -> Selecteer een antwoord
A38: FALSE | B38: Voelt zich tijdens de werking goed en is ontspannen.
A39: FALSE | B39: Aanwezigheid van de begeleiders in de ruimte is voldoende ondersteuning, voelt zich meestal goed.
A40: FALSE | B40: Soms is ondersteuning en geruststelling nodig, want emoties zijn vaak wisselend.
A41: FALSE | B41: Actieve ondersteuning is nodig, want er zijn regelmatig signalen dat het kind zich niet goed voelt. (Bv: zich terugtrekken, stil worden, sneller gefrustreerd raken)
A42: FALSE | B42: Voortdurende ondersteuning is nodig om zich veilig en goed te voelen.
A45: ONDERSTEUNING WEGENS VERMINDERDE FYSIEKE MOGELIJKHEDEN
A46: SCORE | B46: =IF(COUNTIF(A47:A51,TRUE)=0,"Selecteer een antwoord",IF(COUNTIF(A47:A51,TRUE)>1,"Je kan maar 1 antwoord selecteren",IF(A47=TRUE,0,IF(A48=TRUE,1,IF(A49=TRUE,2,IF(A50=TRUE,3,IF(A51=TRUE,4))))))) -> Selecteer een antwoord
A47: FALSE | B47: Er is geen hulp nodig.
A48: FALSE | B48: Soms hulp nodig bij korte momenten.
A49: FALSE | B49: Gedurende de dag is regelmatig hulp nodig. (Bv: begeleiden naar het toilet, ondersteuning door eten en drinken klaar te zetten, kleren klaarleggen)
A50: FALSE | B50: Constante hulp nodig. (Bv: volledige hulp nodig bij toiletbezoek, eten, drinken, aankleden, langere verplaatsingen of traplopen)
A51: FALSE | B51: Intensieve zorg: volledig afhankelijk van hulp van anderen. (Bv: toiletbezoek, eten en drinken, aankleden, verplaatsen; begeleiding moet continu aanwezig zijn en veel handelingen overnemen)
A56: VRAGEN ROND DE PERMANENTIE (niet planbare interventies)
A57: Permanentienood gaat over de mate waarin het kind met een ondersteuningsnood nood heeft aan nabijheid van een begeleider. Het gaat over de vraag of je het kind voor kortere of langere periode alleen kan laten in de groep zonder onmiddellijke beschikbaarheid van een begeleider. Wie nood heeft aan permanentie, heeft niet-planbare ondersteuning door begeleiders nodig. Het gaat dus om ondersteuning wanneer zich iets onverwachts voordoet. Dit is soms locatie afhankelijk.
A59: OVERPRIKKELING EN RUSTMOMENTEN
A60: SCORE | B60: =IF(COUNTIF(A61:A65,TRUE)=0,"Selecteer een antwoord",IF(COUNTIF(A61:A65,TRUE)>1,"Je kan maar 1 antwoord selecteren",IF(A61=TRUE,0,IF(A62=TRUE,1,IF(A63=TRUE,3,IF(A64=TRUE,5,IF(A65=TRUE,7))))))) -> Selecteer een antwoord
A61: FALSE | B61: Kan functioneren in een groep met veel prikkels.
A62: FALSE | B62: Heeft soms rustige momenten nodig, maar zoekt deze zelf op.
A63: FALSE | B63: Kan in groep functioneren als er regelmatig geplande rustmomenten zijn ingebouwd.
A64: FALSE | B64: Snel overprikkeld en moet door begeleiding begeleid worden naar rustmomenten.
A65: FALSE | B65: Heeft structureel een afzonderlijke ruimte nodig om tot rust te komen.
A68: WEGLOOPGEDRAG
A69: SCORE | B69: =IF(COUNTIF(A70:A74,TRUE)=0,"Selecteer een antwoord",IF(COUNTIF(A70:A74,TRUE)>1,"Je kan maar 1 antwoord selecteren",IF(A70=TRUE,0,IF(A71=TRUE,1,IF(A72=TRUE,3,IF(A73=TRUE,5,IF(A74=TRUE,7))))))) -> Selecteer een antwoord
A70: FALSE | B70: Er is geen risico op wegloopgedrag.
A71: FALSE | B71: Blijft bij de groep, maar het kan voorvallen dat uit verstrooiing de groep niet gevolgd wordt.
A72: FALSE | B72: Blijft op het terrein, maar neemt weinig deel aan de activiteit en speelt in eigen leefwereld.
A73: FALSE | B73: Probeert soms richting uitgang of onbekende zones te gaan; begeleiding moet actief opvolgen om weggaan te voorkomen.
A74: FALSE | B74: Als de infrastructuur open is, loopt het kind weg.
A77: EMOTIONELE EN / OF GEDRAGSMATIGE ONDERSTEUNING
A78: SCORE | B78: =IF(COUNTIF(A79:A83,TRUE)=0,"Selecteer een antwoord",IF(COUNTIF(A79:A83,TRUE)>1,"Je kan maar 1 antwoord selecteren",IF(A79=TRUE,0,IF(A80=TRUE,1,IF(A81=TRUE,3,IF(A82=TRUE,5,IF(A83=TRUE,7))))))) -> Selecteer een antwoord
A79: FALSE | B79: Er zijn geen bijzondere aandachtspunten.
A80: FALSE | B80: Zoekt uit zichzelf de nabijheid van een begeleider.
A81: FALSE | B81: Heeft bij overgangsmomenten een begeleider in de buurt nodig.
A82: FALSE | B82: Heeft de hele dag een vaste begeleider nodig in dezelfde ruimte.
A83: FALSE | B83: Heeft de hele dag een vaste begeleider nodig in dezelfde ruimte om de veiligheid te bewaken.
A86: COMMUNICATIE UITDAGINGEN EIGEN AAN DE ONDERSTEUNINGSNOOD
A87: SCORE | B87: =IF(COUNTIF(A88:A92,TRUE)=0,"Selecteer een antwoord",IF(COUNTIF(A88:A92,TRUE)>1,"Je kan maar 1 antwoord selecteren",IF(A88=TRUE,0,IF(A89=TRUE,1,IF(A90=TRUE,3,IF(A91=TRUE,5,IF(A92=TRUE,7))))))) -> Selecteer een antwoord
A88: FALSE | B88: Is verbaal en begrijpt instructies zonder moeite.
A89: FALSE | B89: Soms is verduidelijking nodig, maar begrijpt de basis.
A90: FALSE | B90: Moeilijkheden om zich verbaal uit te drukken of begrijpt opdrachten slechts gedeeltelijk.
A91: FALSE | B91: Spreekt niet of zeer beperkt, communicatie enkel mogelijk met ondersteuning.
A92: FALSE | B92: Volledig afhankelijk van hulpmiddelen of begeleider om te communiceren.
A95: ESCALATIE EN CONFLICTEN MET KINDEREN EN BEGELEIDING
A96: SCORE | B96: =IF(COUNTIF(A97:A101,TRUE)=0,"Selecteer een antwoord",IF(COUNTIF(A97:A101,TRUE)>1,"Je kan maar 1 antwoord selecteren",IF(A97=TRUE,0,IF(A98=TRUE,1,IF(A99=TRUE,3,IF(A100=TRUE,5,IF(A101=TRUE,7))))))) -> Selecteer een antwoord
A97: FALSE | B97: Er zijn geen aandachtspunten.
A98: FALSE | B98: Komt af en toe eens in conflict, maar kan zichzelf bijsturen.
A99: FALSE | B99: Regelmatig in conflict, heeft structuur en begeleiding nodig.
A100: FALSE | B100: Vaak conflict, moeite in het samen spelen in groep. Heeft constante begeleiding nodig tijdens ongestructureerde momenten.
A101: FALSE | B101: Agressie en gevaarlijk gedrag vormen een risico voor zichzelf of anderen. Heeft constante begeleiding nodig.

Sheet 10
A1: NAAM | B1: (vul hier een naam in)
A2: RIJKSREGISTERNR | B2: (vul hier het rijksregisternummer in)
A3: ZORGSCORE | B3: =IF(( COUNTIF(B10,"Selecteer een antwoord")+ COUNTIF(B19,"Selecteer een antwoord")+ COUNTIF(B28,"Selecteer een antwoord")+ COUNTIF(B37,"Selecteer een antwoord")+ COUNTIF(B46,"Selecteer een antwoord")+ COUNTIF(B60,"Selecteer een antwoord")+ COUNTIF(B69,"Selecteer een antwoord")+ COUNTIF(B78,"Selecteer een antwoord")+ COUNTIF(B87,"Selecteer een antwoord")+ COUNTIF(B96,"Selecteer een antwoord"))>=1,"Zodra je per vraag 1 antwoord selecteert, verschijnt hieronder een zorgscore en een type begeleiding. Wanneer je meerdere antwoorden per vraag selecteert, verschijnt hieronder een foutcode.", IFERROR(B10+B19+B28+B37+B46+B60+B69+B78+B87+B96,"FOUTCODE: Je selecteerde meerdere antwoorden bij een vraag. Controleer je antwoorden en pas aan.")) -> Zodra je per vraag 1 antwoord selecteert, verschijnt hieronder een zorgscore en een type begeleiding. Wanneer je meerdere antwoorden per vraag selecteert, verschijnt hieronder een foutcode.
A4: TYPE BEGELEIDING | B4: =IF(ISTEXT(B3),"",_xlfn.XLOOKUP(B3,'OVERZICHT VOOR ORGANISATIE'!A5:A9,'OVERZICHT VOOR ORGANISATIE'!C5:C9,"",-1))
A6: VRAGEN ROND DE BEGELEIDING (planbare interventies)
A7: Begeleidingsintensiteit gaat over de mate waarin het kind met een ondersteuningsnood tijdens de activiteit ondersteuning nodig heeft van andere personen. We brengen daarbij alle ondersteuning in kaart, ongeacht wie die ondersteuning biedt. Deze planbare ondersteuning kan eventueel ook opgenomen worden door andere deelnemers aan de activiteit.
A9: ZELFREDZAAMHEID TIJDENS SPEL / ACTIVITEIT
A10: SCORE | B10: =IF(COUNTIF(A11:A15,TRUE)=0,"Selecteer een antwoord",IF(COUNTIF(A11:A15,TRUE)>1,"Je kan maar 1 antwoord selecteren",IF(A11=TRUE,0,IF(A12=TRUE,1,IF(A13=TRUE,2,IF(A14=TRUE,3,IF(A15=TRUE,4))))))) -> Selecteer een antwoord
A11: FALSE | B11: Speelt doorgaans volledig zelfstandig (al dan niet in groep).
A12: FALSE | B12: Heeft soms hulp nodig om tot spelen te komen, maar speelt vervolgens zelfstandig (al dan niet in groep).
A13: FALSE | B13: Heeft doorgaans begeleiding nodig om tot spelen te komen en te blijven spelen.
A14: FALSE | B14: Frequente acties van de begeleiding zijn noodzakelijk om tot spelen te komen en te blijven spelen.
A15: FALSE | B15: Blijvende begeleiding is noodzakelijk om tot spelen te komen.
A18: BEGRIJPEN VAN REGELS Bv. bij speluitleg, activiteit, ‘huisregels’...
A19: SCORE | B19: =IF(COUNTIF(A20:A24,TRUE)=0,"Selecteer een antwoord",IF(COUNTIF(A20:A24,TRUE)>1,"Je kan maar 1 antwoord selecteren",IF(A20=TRUE,0,IF(A21=TRUE,1,IF(A22=TRUE,2,IF(A23=TRUE,3,IF(A24=TRUE,4))))))) -> Selecteer een antwoord
A20: FALSE | B20: Begrijpt snel uitleg en heeft geen hulp nodig.
A21: FALSE | B21: Heeft soms extra verduidelijking nodig.
A22: FALSE | B22: Heeft een eenvoudige versie van de uitleg nodig, bv: gebracht in kleinere groep.
A23: FALSE | B23: Heeft meerdere keren extra individuele uitleg nodig op een aangepaste manier.
A24: FALSE | B24: Heeft blijvende individuele begeleiding nodig om regels (of uitleg/ de context) te begrijpen.
A27: ZORG ROND GEZONDHEID
A28: SCORE | B28: =IF(COUNTIF(A29:A33,TRUE)=0,"Selecteer een antwoord",IF(COUNTIF(A29:A33,TRUE)>1,"Je kan maar 1 antwoord selecteren",IF(A29=TRUE,0,IF(A30=TRUE,1,IF(A31=TRUE,2,IF(A32=TRUE,3,IF(A33=TRUE,4))))))) -> Selecteer een antwoord
A29: FALSE | B29: Er zijn geen bijzondere aandachtspunten rond gezondheid.
A30: FALSE | B30: Kleine aandachtspunten waar de begeleiding rekening mee houdt. (Bv: zelfstandig medicatie inname)
A31: FALSE | B31: Af en toe hulp of herinnering nodig van de begeleiding. (Bv: Herinneren aan eten of drinken, hulp bij inname medicatie, rekening houden met dieet)
A32: FALSE | B32: Regelmatig opvolging of hulp nodig door de begeleiding. (Bv: astma-aanval, epilepsie in het oog houden, bloedsuiker controleren)
A33: FALSE | B33: Veel en specifieke zorg nodig tijdens de werking. (Bv: sondevoeding, medische handelingen door een bekwame helper, hulp van thuisverpleging, intensieve opvolging van gezondheid)
A36: WELBEVINDEN VAN HET KIND TIJDENS DE WERKING
A37: SCORE | B37: =IF(COUNTIF(A38:A42,TRUE)=0,"Selecteer een antwoord",IF(COUNTIF(A38:A42,TRUE)>1,"Je kan maar 1 antwoord selecteren",IF(A38=TRUE,0,IF(A39=TRUE,1,IF(A40=TRUE,2,IF(A41=TRUE,3,IF(A42=TRUE,4))))))) -> Selecteer een antwoord
A38: FALSE | B38: Voelt zich tijdens de werking goed en is ontspannen.
A39: FALSE | B39: Aanwezigheid van de begeleiders in de ruimte is voldoende ondersteuning, voelt zich meestal goed.
A40: FALSE | B40: Soms is ondersteuning en geruststelling nodig, want emoties zijn vaak wisselend.
A41: FALSE | B41: Actieve ondersteuning is nodig, want er zijn regelmatig signalen dat het kind zich niet goed voelt. (Bv: zich terugtrekken, stil worden, sneller gefrustreerd raken)
A42: FALSE | B42: Voortdurende ondersteuning is nodig om zich veilig en goed te voelen.
A45: ONDERSTEUNING WEGENS VERMINDERDE FYSIEKE MOGELIJKHEDEN
A46: SCORE | B46: =IF(COUNTIF(A47:A51,TRUE)=0,"Selecteer een antwoord",IF(COUNTIF(A47:A51,TRUE)>1,"Je kan maar 1 antwoord selecteren",IF(A47=TRUE,0,IF(A48=TRUE,1,IF(A49=TRUE,2,IF(A50=TRUE,3,IF(A51=TRUE,4))))))) -> Selecteer een antwoord
A47: FALSE | B47: Er is geen hulp nodig.
A48: FALSE | B48: Soms hulp nodig bij korte momenten.
A49: FALSE | B49: Gedurende de dag is regelmatig hulp nodig. (Bv: begeleiden naar het toilet, ondersteuning door eten en drinken klaar te zetten, kleren klaarleggen)
A50: FALSE | B50: Constante hulp nodig. (Bv: volledige hulp nodig bij toiletbezoek, eten, drinken, aankleden, langere verplaatsingen of traplopen)
A51: FALSE | B51: Intensieve zorg: volledig afhankelijk van hulp van anderen. (Bv: toiletbezoek, eten en drinken, aankleden, verplaatsen; begeleiding moet continu aanwezig zijn en veel handelingen overnemen)
A56: VRAGEN ROND DE PERMANENTIE (niet planbare interventies)
A57: Permanentienood gaat over de mate waarin het kind met een ondersteuningsnood nood heeft aan nabijheid van een begeleider. Het gaat over de vraag of je het kind voor kortere of langere periode alleen kan laten in de groep zonder onmiddellijke beschikbaarheid van een begeleider. Wie nood heeft aan permanentie, heeft niet-planbare ondersteuning door begeleiders nodig. Het gaat dus om ondersteuning wanneer zich iets onverwachts voordoet. Dit is soms locatie afhankelijk.
A59: OVERPRIKKELING EN RUSTMOMENTEN
A60: SCORE | B60: =IF(COUNTIF(A61:A65,TRUE)=0,"Selecteer een antwoord",IF(COUNTIF(A61:A65,TRUE)>1,"Je kan maar 1 antwoord selecteren",IF(A61=TRUE,0,IF(A62=TRUE,1,IF(A63=TRUE,3,IF(A64=TRUE,5,IF(A65=TRUE,7))))))) -> Selecteer een antwoord
A61: FALSE | B61: Kan functioneren in een groep met veel prikkels.
A62: FALSE | B62: Heeft soms rustige momenten nodig, maar zoekt deze zelf op.
A63: FALSE | B63: Kan in groep functioneren als er regelmatig geplande rustmomenten zijn ingebouwd.
A64: FALSE | B64: Snel overprikkeld en moet door begeleiding begeleid worden naar rustmomenten.
A65: FALSE | B65: Heeft structureel een afzonderlijke ruimte nodig om tot rust te komen.
A68: WEGLOOPGEDRAG
A69: SCORE | B69: =IF(COUNTIF(A70:A74,TRUE)=0,"Selecteer een antwoord",IF(COUNTIF(A70:A74,TRUE)>1,"Je kan maar 1 antwoord selecteren",IF(A70=TRUE,0,IF(A71=TRUE,1,IF(A72=TRUE,3,IF(A73=TRUE,5,IF(A74=TRUE,7))))))) -> Selecteer een antwoord
A70: FALSE | B70: Er is geen risico op wegloopgedrag.
A71: FALSE | B71: Blijft bij de groep, maar het kan voorvallen dat uit verstrooiing de groep niet gevolgd wordt.
A72: FALSE | B72: Blijft op het terrein, maar neemt weinig deel aan de activiteit en speelt in eigen leefwereld.
A73: FALSE | B73: Probeert soms richting uitgang of onbekende zones te gaan; begeleiding moet actief opvolgen om weggaan te voorkomen.
A74: FALSE | B74: Als de infrastructuur open is, loopt het kind weg.
A77: EMOTIONELE EN / OF GEDRAGSMATIGE ONDERSTEUNING
A78: SCORE | B78: =IF(COUNTIF(A79:A83,TRUE)=0,"Selecteer een antwoord",IF(COUNTIF(A79:A83,TRUE)>1,"Je kan maar 1 antwoord selecteren",IF(A79=TRUE,0,IF(A80=TRUE,1,IF(A81=TRUE,3,IF(A82=TRUE,5,IF(A83=TRUE,7))))))) -> Selecteer een antwoord
A79: FALSE | B79: Er zijn geen bijzondere aandachtspunten.
A80: FALSE | B80: Zoekt uit zichzelf de nabijheid van een begeleider.
A81: FALSE | B81: Heeft bij overgangsmomenten een begeleider in de buurt nodig.
A82: FALSE | B82: Heeft de hele dag een vaste begeleider nodig in dezelfde ruimte.
A83: FALSE | B83: Heeft de hele dag een vaste begeleider nodig in dezelfde ruimte om de veiligheid te bewaken.
A86: COMMUNICATIE UITDAGINGEN EIGEN AAN DE ONDERSTEUNINGSNOOD
A87: SCORE | B87: =IF(COUNTIF(A88:A92,TRUE)=0,"Selecteer een antwoord",IF(COUNTIF(A88:A92,TRUE)>1,"Je kan maar 1 antwoord selecteren",IF(A88=TRUE,0,IF(A89=TRUE,1,IF(A90=TRUE,3,IF(A91=TRUE,5,IF(A92=TRUE,7))))))) -> Selecteer een antwoord
A88: FALSE | B88: Is verbaal en begrijpt instructies zonder moeite.
A89: FALSE | B89: Soms is verduidelijking nodig, maar begrijpt de basis.
A90: FALSE | B90: Moeilijkheden om zich verbaal uit te drukken of begrijpt opdrachten slechts gedeeltelijk.
A91: FALSE | B91: Spreekt niet of zeer beperkt, communicatie enkel mogelijk met ondersteuning.
A92: FALSE | B92: Volledig afhankelijk van hulpmiddelen of begeleider om te communiceren.
A95: ESCALATIE EN CONFLICTEN MET KINDEREN EN BEGELEIDING
A96: SCORE | B96: =IF(COUNTIF(A97:A101,TRUE)=0,"Selecteer een antwoord",IF(COUNTIF(A97:A101,TRUE)>1,"Je kan maar 1 antwoord selecteren",IF(A97=TRUE,0,IF(A98=TRUE,1,IF(A99=TRUE,3,IF(A100=TRUE,5,IF(A101=TRUE,7))))))) -> Selecteer een antwoord
A97: FALSE | B97: Er zijn geen aandachtspunten.
A98: FALSE | B98: Komt af en toe eens in conflict, maar kan zichzelf bijsturen.
A99: FALSE | B99: Regelmatig in conflict, heeft structuur en begeleiding nodig.
A100: FALSE | B100: Vaak conflict, moeite in het samen spelen in groep. Heeft constante begeleiding nodig tijdens ongestructureerde momenten.
A101: FALSE | B101: Agressie en gevaarlijk gedrag vormen een risico voor zichzelf of anderen. Heeft constante begeleiding nodig.

Sheet 11
A1: NAAM | B1: (vul hier een naam in)
A2: RIJKSREGISTERNR | B2: (vul hier het rijksregisternummer in)
A3: ZORGSCORE | B3: =IF(( COUNTIF(B10,"Selecteer een antwoord")+ COUNTIF(B19,"Selecteer een antwoord")+ COUNTIF(B28,"Selecteer een antwoord")+ COUNTIF(B37,"Selecteer een antwoord")+ COUNTIF(B46,"Selecteer een antwoord")+ COUNTIF(B60,"Selecteer een antwoord")+ COUNTIF(B69,"Selecteer een antwoord")+ COUNTIF(B78,"Selecteer een antwoord")+ COUNTIF(B87,"Selecteer een antwoord")+ COUNTIF(B96,"Selecteer een antwoord"))>=1,"Zodra je per vraag 1 antwoord selecteert, verschijnt hieronder een zorgscore en een type begeleiding. Wanneer je meerdere antwoorden per vraag selecteert, verschijnt hieronder een foutcode.", IFERROR(B10+B19+B28+B37+B46+B60+B69+B78+B87+B96,"FOUTCODE: Je selecteerde meerdere antwoorden bij een vraag. Controleer je antwoorden en pas aan.")) -> Zodra je per vraag 1 antwoord selecteert, verschijnt hieronder een zorgscore en een type begeleiding. Wanneer je meerdere antwoorden per vraag selecteert, verschijnt hieronder een foutcode.
A4: TYPE BEGELEIDING | B4: =IF(ISTEXT(B3),"",_xlfn.XLOOKUP(B3,'OVERZICHT VOOR ORGANISATIE'!A5:A9,'OVERZICHT VOOR ORGANISATIE'!C5:C9,"",-1))
A6: VRAGEN ROND DE BEGELEIDING (planbare interventies)
A7: Begeleidingsintensiteit gaat over de mate waarin het kind met een ondersteuningsnood tijdens de activiteit ondersteuning nodig heeft van andere personen. We brengen daarbij alle ondersteuning in kaart, ongeacht wie die ondersteuning biedt. Deze planbare ondersteuning kan eventueel ook opgenomen worden door andere deelnemers aan de activiteit.
A9: ZELFREDZAAMHEID TIJDENS SPEL / ACTIVITEIT
A10: SCORE | B10: =IF(COUNTIF(A11:A15,TRUE)=0,"Selecteer een antwoord",IF(COUNTIF(A11:A15,TRUE)>1,"Je kan maar 1 antwoord selecteren",IF(A11=TRUE,0,IF(A12=TRUE,1,IF(A13=TRUE,2,IF(A14=TRUE,3,IF(A15=TRUE,4))))))) -> Selecteer een antwoord
A11: FALSE | B11: Speelt doorgaans volledig zelfstandig (al dan niet in groep).
A12: FALSE | B12: Heeft soms hulp nodig om tot spelen te komen, maar speelt vervolgens zelfstandig (al dan niet in groep).
A13: FALSE | B13: Heeft doorgaans begeleiding nodig om tot spelen te komen en te blijven spelen.
A14: FALSE | B14: Frequente acties van de begeleiding zijn noodzakelijk om tot spelen te komen en te blijven spelen.
A15: FALSE | B15: Blijvende begeleiding is noodzakelijk om tot spelen te komen.
A18: BEGRIJPEN VAN REGELS Bv. bij speluitleg, activiteit, ‘huisregels’...
A19: SCORE | B19: =IF(COUNTIF(A20:A24,TRUE)=0,"Selecteer een antwoord",IF(COUNTIF(A20:A24,TRUE)>1,"Je kan maar 1 antwoord selecteren",IF(A20=TRUE,0,IF(A21=TRUE,1,IF(A22=TRUE,2,IF(A23=TRUE,3,IF(A24=TRUE,4))))))) -> Selecteer een antwoord
A20: FALSE | B20: Begrijpt snel uitleg en heeft geen hulp nodig.
A21: FALSE | B21: Heeft soms extra verduidelijking nodig.
A22: FALSE | B22: Heeft een eenvoudige versie van de uitleg nodig, bv: gebracht in kleinere groep.
A23: FALSE | B23: Heeft meerdere keren extra individuele uitleg nodig op een aangepaste manier.
A24: FALSE | B24: Heeft blijvende individuele begeleiding nodig om regels (of uitleg/ de context) te begrijpen.
A27: ZORG ROND GEZONDHEID
A28: SCORE | B28: =IF(COUNTIF(A29:A33,TRUE)=0,"Selecteer een antwoord",IF(COUNTIF(A29:A33,TRUE)>1,"Je kan maar 1 antwoord selecteren",IF(A29=TRUE,0,IF(A30=TRUE,1,IF(A31=TRUE,2,IF(A32=TRUE,3,IF(A33=TRUE,4))))))) -> Selecteer een antwoord
A29: FALSE | B29: Er zijn geen bijzondere aandachtspunten rond gezondheid.
A30: FALSE | B30: Kleine aandachtspunten waar de begeleiding rekening mee houdt. (Bv: zelfstandig medicatie inname)
A31: FALSE | B31: Af en toe hulp of herinnering nodig van de begeleiding. (Bv: Herinneren aan eten of drinken, hulp bij inname medicatie, rekening houden met dieet)
A32: FALSE | B32: Regelmatig opvolging of hulp nodig door de begeleiding. (Bv: astma-aanval, epilepsie in het oog houden, bloedsuiker controleren)
A33: FALSE | B33: Veel en specifieke zorg nodig tijdens de werking. (Bv: sondevoeding, medische handelingen door een bekwame helper, hulp van thuisverpleging, intensieve opvolging van gezondheid)
A36: WELBEVINDEN VAN HET KIND TIJDENS DE WERKING
A37: SCORE | B37: =IF(COUNTIF(A38:A42,TRUE)=0,"Selecteer een antwoord",IF(COUNTIF(A38:A42,TRUE)>1,"Je kan maar 1 antwoord selecteren",IF(A38=TRUE,0,IF(A39=TRUE,1,IF(A40=TRUE,2,IF(A41=TRUE,3,IF(A42=TRUE,4))))))) -> Selecteer een antwoord
A38: FALSE | B38: Voelt zich tijdens de werking goed en is ontspannen.
A39: FALSE | B39: Aanwezigheid van de begeleiders in de ruimte is voldoende ondersteuning, voelt zich meestal goed.
A40: FALSE | B40: Soms is ondersteuning en geruststelling nodig, want emoties zijn vaak wisselend.
A41: FALSE | B41: Actieve ondersteuning is nodig, want er zijn regelmatig signalen dat het kind zich niet goed voelt. (Bv: zich terugtrekken, stil worden, sneller gefrustreerd raken)
A42: FALSE | B42: Voortdurende ondersteuning is nodig om zich veilig en goed te voelen.
A45: ONDERSTEUNING WEGENS VERMINDERDE FYSIEKE MOGELIJKHEDEN
A46: SCORE | B46: =IF(COUNTIF(A47:A51,TRUE)=0,"Selecteer een antwoord",IF(COUNTIF(A47:A51,TRUE)>1,"Je kan maar 1 antwoord selecteren",IF(A47=TRUE,0,IF(A48=TRUE,1,IF(A49=TRUE,2,IF(A50=TRUE,3,IF(A51=TRUE,4))))))) -> Selecteer een antwoord
A47: FALSE | B47: Er is geen hulp nodig.
A48: FALSE | B48: Soms hulp nodig bij korte momenten.
A49: FALSE | B49: Gedurende de dag is regelmatig hulp nodig. (Bv: begeleiden naar het toilet, ondersteuning door eten en drinken klaar te zetten, kleren klaarleggen)
A50: FALSE | B50: Constante hulp nodig. (Bv: volledige hulp nodig bij toiletbezoek, eten, drinken, aankleden, langere verplaatsingen of traplopen)
A51: FALSE | B51: Intensieve zorg: volledig afhankelijk van hulp van anderen. (Bv: toiletbezoek, eten en drinken, aankleden, verplaatsen; begeleiding moet continu aanwezig zijn en veel handelingen overnemen)
A56: VRAGEN ROND DE PERMANENTIE (niet planbare interventies)
A57: Permanentienood gaat over de mate waarin het kind met een ondersteuningsnood nood heeft aan nabijheid van een begeleider. Het gaat over de vraag of je het kind voor kortere of langere periode alleen kan laten in de groep zonder onmiddellijke beschikbaarheid van een begeleider. Wie nood heeft aan permanentie, heeft niet-planbare ondersteuning door begeleiders nodig. Het gaat dus om ondersteuning wanneer zich iets onverwachts voordoet. Dit is soms locatie afhankelijk.
A59: OVERPRIKKELING EN RUSTMOMENTEN
A60: SCORE | B60: =IF(COUNTIF(A61:A65,TRUE)=0,"Selecteer een antwoord",IF(COUNTIF(A61:A65,TRUE)>1,"Je kan maar 1 antwoord selecteren",IF(A61=TRUE,0,IF(A62=TRUE,1,IF(A63=TRUE,3,IF(A64=TRUE,5,IF(A65=TRUE,7))))))) -> Selecteer een antwoord
A61: FALSE | B61: Kan functioneren in een groep met veel prikkels.
A62: FALSE | B62: Heeft soms rustige momenten nodig, maar zoekt deze zelf op.
A63: FALSE | B63: Kan in groep functioneren als er regelmatig geplande rustmomenten zijn ingebouwd.
A64: FALSE | B64: Snel overprikkeld en moet door begeleiding begeleid worden naar rustmomenten.
A65: FALSE | B65: Heeft structureel een afzonderlijke ruimte nodig om tot rust te komen.
A68: WEGLOOPGEDRAG
A69: SCORE | B69: =IF(COUNTIF(A70:A74,TRUE)=0,"Selecteer een antwoord",IF(COUNTIF(A70:A74,TRUE)>1,"Je kan maar 1 antwoord selecteren",IF(A70=TRUE,0,IF(A71=TRUE,1,IF(A72=TRUE,3,IF(A73=TRUE,5,IF(A74=TRUE,7))))))) -> Selecteer een antwoord
A70: FALSE | B70: Er is geen risico op wegloopgedrag.
A71: FALSE | B71: Blijft bij de groep, maar het kan voorvallen dat uit verstrooiing de groep niet gevolgd wordt.
A72: FALSE | B72: Blijft op het terrein, maar neemt weinig deel aan de activiteit en speelt in eigen leefwereld.
A73: FALSE | B73: Probeert soms richting uitgang of onbekende zones te gaan; begeleiding moet actief opvolgen om weggaan te voorkomen.
A74: FALSE | B74: Als de infrastructuur open is, loopt het kind weg.
A77: EMOTIONELE EN / OF GEDRAGSMATIGE ONDERSTEUNING
A78: SCORE | B78: =IF(COUNTIF(A79:A83,TRUE)=0,"Selecteer een antwoord",IF(COUNTIF(A79:A83,TRUE)>1,"Je kan maar 1 antwoord selecteren",IF(A79=TRUE,0,IF(A80=TRUE,1,IF(A81=TRUE,3,IF(A82=TRUE,5,IF(A83=TRUE,7))))))) -> Selecteer een antwoord
A79: FALSE | B79: Er zijn geen bijzondere aandachtspunten.
A80: FALSE | B80: Zoekt uit zichzelf de nabijheid van een begeleider.
A81: FALSE | B81: Heeft bij overgangsmomenten een begeleider in de buurt nodig.
A82: FALSE | B82: Heeft de hele dag een vaste begeleider nodig in dezelfde ruimte.
A83: FALSE | B83: Heeft de hele dag een vaste begeleider nodig in dezelfde ruimte om de veiligheid te bewaken.
A86: COMMUNICATIE UITDAGINGEN EIGEN AAN DE ONDERSTEUNINGSNOOD
A87: SCORE | B87: =IF(COUNTIF(A88:A92,TRUE)=0,"Selecteer een antwoord",IF(COUNTIF(A88:A92,TRUE)>1,"Je kan maar 1 antwoord selecteren",IF(A88=TRUE,0,IF(A89=TRUE,1,IF(A90=TRUE,3,IF(A91=TRUE,5,IF(A92=TRUE,7))))))) -> Selecteer een antwoord
A88: FALSE | B88: Is verbaal en begrijpt instructies zonder moeite.
A89: FALSE | B89: Soms is verduidelijking nodig, maar begrijpt de basis.
A90: FALSE | B90: Moeilijkheden om zich verbaal uit te drukken of begrijpt opdrachten slechts gedeeltelijk.
A91: FALSE | B91: Spreekt niet of zeer beperkt, communicatie enkel mogelijk met ondersteuning.
A92: FALSE | B92: Volledig afhankelijk van hulpmiddelen of begeleider om te communiceren.
A95: ESCALATIE EN CONFLICTEN MET KINDEREN EN BEGELEIDING
A96: SCORE | B96: =IF(COUNTIF(A97:A101,TRUE)=0,"Selecteer een antwoord",IF(COUNTIF(A97:A101,TRUE)>1,"Je kan maar 1 antwoord selecteren",IF(A97=TRUE,0,IF(A98=TRUE,1,IF(A99=TRUE,3,IF(A100=TRUE,5,IF(A101=TRUE,7))))))) -> Selecteer een antwoord
A97: FALSE | B97: Er zijn geen aandachtspunten.
A98: FALSE | B98: Komt af en toe eens in conflict, maar kan zichzelf bijsturen.
A99: FALSE | B99: Regelmatig in conflict, heeft structuur en begeleiding nodig.
A100: FALSE | B100: Vaak conflict, moeite in het samen spelen in groep. Heeft constante begeleiding nodig tijdens ongestructureerde momenten.
A101: FALSE | B101: Agressie en gevaarlijk gedrag vormen een risico voor zichzelf of anderen. Heeft constante begeleiding nodig.

Sheet 12
A1: NAAM | B1: (vul hier een naam in)
A2: RIJKSREGISTERNR | B2: (vul hier het rijksregisternummer in)
A3: ZORGSCORE | B3: =IF(( COUNTIF(B10,"Selecteer een antwoord")+ COUNTIF(B19,"Selecteer een antwoord")+ COUNTIF(B28,"Selecteer een antwoord")+ COUNTIF(B37,"Selecteer een antwoord")+ COUNTIF(B46,"Selecteer een antwoord")+ COUNTIF(B60,"Selecteer een antwoord")+ COUNTIF(B69,"Selecteer een antwoord")+ COUNTIF(B78,"Selecteer een antwoord")+ COUNTIF(B87,"Selecteer een antwoord")+ COUNTIF(B96,"Selecteer een antwoord"))>=1,"Zodra je per vraag 1 antwoord selecteert, verschijnt hieronder een zorgscore en een type begeleiding. Wanneer je meerdere antwoorden per vraag selecteert, verschijnt hieronder een foutcode.", IFERROR(B10+B19+B28+B37+B46+B60+B69+B78+B87+B96,"FOUTCODE: Je selecteerde meerdere antwoorden bij een vraag. Controleer je antwoorden en pas aan.")) -> Zodra je per vraag 1 antwoord selecteert, verschijnt hieronder een zorgscore en een type begeleiding. Wanneer je meerdere antwoorden per vraag selecteert, verschijnt hieronder een foutcode.
A4: TYPE BEGELEIDING | B4: =IF(ISTEXT(B3),"",_xlfn.XLOOKUP(B3,'OVERZICHT VOOR ORGANISATIE'!A5:A9,'OVERZICHT VOOR ORGANISATIE'!C5:C9,"",-1))
A6: VRAGEN ROND DE BEGELEIDING (planbare interventies)
A7: Begeleidingsintensiteit gaat over de mate waarin het kind met een ondersteuningsnood tijdens de activiteit ondersteuning nodig heeft van andere personen. We brengen daarbij alle ondersteuning in kaart, ongeacht wie die ondersteuning biedt. Deze planbare ondersteuning kan eventueel ook opgenomen worden door andere deelnemers aan de activiteit.
A9: ZELFREDZAAMHEID TIJDENS SPEL / ACTIVITEIT
A10: SCORE | B10: =IF(COUNTIF(A11:A15,TRUE)=0,"Selecteer een antwoord",IF(COUNTIF(A11:A15,TRUE)>1,"Je kan maar 1 antwoord selecteren",IF(A11=TRUE,0,IF(A12=TRUE,1,IF(A13=TRUE,2,IF(A14=TRUE,3,IF(A15=TRUE,4))))))) -> Selecteer een antwoord
A11: FALSE | B11: Speelt doorgaans volledig zelfstandig (al dan niet in groep).
A12: FALSE | B12: Heeft soms hulp nodig om tot spelen te komen, maar speelt vervolgens zelfstandig (al dan niet in groep).
A13: FALSE | B13: Heeft doorgaans begeleiding nodig om tot spelen te komen en te blijven spelen.
A14: FALSE | B14: Frequente acties van de begeleiding zijn noodzakelijk om tot spelen te komen en te blijven spelen.
A15: FALSE | B15: Blijvende begeleiding is noodzakelijk om tot spelen te komen.
A18: BEGRIJPEN VAN REGELS Bv. bij speluitleg, activiteit, ‘huisregels’...
A19: SCORE | B19: =IF(COUNTIF(A20:A24,TRUE)=0,"Selecteer een antwoord",IF(COUNTIF(A20:A24,TRUE)>1,"Je kan maar 1 antwoord selecteren",IF(A20=TRUE,0,IF(A21=TRUE,1,IF(A22=TRUE,2,IF(A23=TRUE,3,IF(A24=TRUE,4))))))) -> Selecteer een antwoord
A20: FALSE | B20: Begrijpt snel uitleg en heeft geen hulp nodig.
A21: FALSE | B21: Heeft soms extra verduidelijking nodig.
A22: FALSE | B22: Heeft een eenvoudige versie van de uitleg nodig, bv: gebracht in kleinere groep.
A23: FALSE | B23: Heeft meerdere keren extra individuele uitleg nodig op een aangepaste manier.
A24: FALSE | B24: Heeft blijvende individuele begeleiding nodig om regels (of uitleg/ de context) te begrijpen.
A27: ZORG ROND GEZONDHEID
A28: SCORE | B28: =IF(COUNTIF(A29:A33,TRUE)=0,"Selecteer een antwoord",IF(COUNTIF(A29:A33,TRUE)>1,"Je kan maar 1 antwoord selecteren",IF(A29=TRUE,0,IF(A30=TRUE,1,IF(A31=TRUE,2,IF(A32=TRUE,3,IF(A33=TRUE,4))))))) -> Selecteer een antwoord
A29: FALSE | B29: Er zijn geen bijzondere aandachtspunten rond gezondheid.
A30: FALSE | B30: Kleine aandachtspunten waar de begeleiding rekening mee houdt. (Bv: zelfstandig medicatie inname)
A31: FALSE | B31: Af en toe hulp of herinnering nodig van de begeleiding. (Bv: Herinneren aan eten of drinken, hulp bij inname medicatie, rekening houden met dieet)
A32: FALSE | B32: Regelmatig opvolging of hulp nodig door de begeleiding. (Bv: astma-aanval, epilepsie in het oog houden, bloedsuiker controleren)
A33: FALSE | B33: Veel en specifieke zorg nodig tijdens de werking. (Bv: sondevoeding, medische handelingen door een bekwame helper, hulp van thuisverpleging, intensieve opvolging van gezondheid)
A36: WELBEVINDEN VAN HET KIND TIJDENS DE WERKING
A37: SCORE | B37: =IF(COUNTIF(A38:A42,TRUE)=0,"Selecteer een antwoord",IF(COUNTIF(A38:A42,TRUE)>1,"Je kan maar 1 antwoord selecteren",IF(A38=TRUE,0,IF(A39=TRUE,1,IF(A40=TRUE,2,IF(A41=TRUE,3,IF(A42=TRUE,4))))))) -> Selecteer een antwoord
A38: FALSE | B38: Voelt zich tijdens de werking goed en is ontspannen.
A39: FALSE | B39: Aanwezigheid van de begeleiders in de ruimte is voldoende ondersteuning, voelt zich meestal goed.
A40: FALSE | B40: Soms is ondersteuning en geruststelling nodig, want emoties zijn vaak wisselend.
A41: FALSE | B41: Actieve ondersteuning is nodig, want er zijn regelmatig signalen dat het kind zich niet goed voelt. (Bv: zich terugtrekken, stil worden, sneller gefrustreerd raken)
A42: FALSE | B42: Voortdurende ondersteuning is nodig om zich veilig en goed te voelen.
A45: ONDERSTEUNING WEGENS VERMINDERDE FYSIEKE MOGELIJKHEDEN
A46: SCORE | B46: =IF(COUNTIF(A47:A51,TRUE)=0,"Selecteer een antwoord",IF(COUNTIF(A47:A51,TRUE)>1,"Je kan maar 1 antwoord selecteren",IF(A47=TRUE,0,IF(A48=TRUE,1,IF(A49=TRUE,2,IF(A50=TRUE,3,IF(A51=TRUE,4))))))) -> Selecteer een antwoord
A47: FALSE | B47: Er is geen hulp nodig.
A48: FALSE | B48: Soms hulp nodig bij korte momenten.
A49: FALSE | B49: Gedurende de dag is regelmatig hulp nodig. (Bv: begeleiden naar het toilet, ondersteuning door eten en drinken klaar te zetten, kleren klaarleggen)
A50: FALSE | B50: Constante hulp nodig. (Bv: volledige hulp nodig bij toiletbezoek, eten, drinken, aankleden, langere verplaatsingen of traplopen)
A51: FALSE | B51: Intensieve zorg: volledig afhankelijk van hulp van anderen. (Bv: toiletbezoek, eten en drinken, aankleden, verplaatsen; begeleiding moet continu aanwezig zijn en veel handelingen overnemen)
A56: VRAGEN ROND DE PERMANENTIE (niet planbare interventies)
A57: Permanentienood gaat over de mate waarin het kind met een ondersteuningsnood nood heeft aan nabijheid van een begeleider. Het gaat over de vraag of je het kind voor kortere of langere periode alleen kan laten in de groep zonder onmiddellijke beschikbaarheid van een begeleider. Wie nood heeft aan permanentie, heeft niet-planbare ondersteuning door begeleiders nodig. Het gaat dus om ondersteuning wanneer zich iets onverwachts voordoet. Dit is soms locatie afhankelijk.
A59: OVERPRIKKELING EN RUSTMOMENTEN
A60: SCORE | B60: =IF(COUNTIF(A61:A65,TRUE)=0,"Selecteer een antwoord",IF(COUNTIF(A61:A65,TRUE)>1,"Je kan maar 1 antwoord selecteren",IF(A61=TRUE,0,IF(A62=TRUE,1,IF(A63=TRUE,3,IF(A64=TRUE,5,IF(A65=TRUE,7))))))) -> Selecteer een antwoord
A61: FALSE | B61: Kan functioneren in een groep met veel prikkels.
A62: FALSE | B62: Heeft soms rustige momenten nodig, maar zoekt deze zelf op.
A63: FALSE | B63: Kan in groep functioneren als er regelmatig geplande rustmomenten zijn ingebouwd.
A64: FALSE | B64: Snel overprikkeld en moet door begeleiding begeleid worden naar rustmomenten.
A65: FALSE | B65: Heeft structureel een afzonderlijke ruimte nodig om tot rust te komen.
A68: WEGLOOPGEDRAG
A69: SCORE | B69: =IF(COUNTIF(A70:A74,TRUE)=0,"Selecteer een antwoord",IF(COUNTIF(A70:A74,TRUE)>1,"Je kan maar 1 antwoord selecteren",IF(A70=TRUE,0,IF(A71=TRUE,1,IF(A72=TRUE,3,IF(A73=TRUE,5,IF(A74=TRUE,7))))))) -> Selecteer een antwoord
A70: FALSE | B70: Er is geen risico op wegloopgedrag.
A71: FALSE | B71: Blijft bij de groep, maar het kan voorvallen dat uit verstrooiing de groep niet gevolgd wordt.
A72: FALSE | B72: Blijft op het terrein, maar neemt weinig deel aan de activiteit en speelt in eigen leefwereld.
A73: FALSE | B73: Probeert soms richting uitgang of onbekende zones te gaan; begeleiding moet actief opvolgen om weggaan te voorkomen.
A74: FALSE | B74: Als de infrastructuur open is, loopt het kind weg.
A77: EMOTIONELE EN / OF GEDRAGSMATIGE ONDERSTEUNING
A78: SCORE | B78: =IF(COUNTIF(A79:A83,TRUE)=0,"Selecteer een antwoord",IF(COUNTIF(A79:A83,TRUE)>1,"Je kan maar 1 antwoord selecteren",IF(A79=TRUE,0,IF(A80=TRUE,1,IF(A81=TRUE,3,IF(A82=TRUE,5,IF(A83=TRUE,7))))))) -> Selecteer een antwoord
A79: FALSE | B79: Er zijn geen bijzondere aandachtspunten.
A80: FALSE | B80: Zoekt uit zichzelf de nabijheid van een begeleider.
A81: FALSE | B81: Heeft bij overgangsmomenten een begeleider in de buurt nodig.
A82: FALSE | B82: Heeft de hele dag een vaste begeleider nodig in dezelfde ruimte.
A83: FALSE | B83: Heeft de hele dag een vaste begeleider nodig in dezelfde ruimte om de veiligheid te bewaken.
A86: COMMUNICATIE UITDAGINGEN EIGEN AAN DE ONDERSTEUNINGSNOOD
A87: SCORE | B87: =IF(COUNTIF(A88:A92,TRUE)=0,"Selecteer een antwoord",IF(COUNTIF(A88:A92,TRUE)>1,"Je kan maar 1 antwoord selecteren",IF(A88=TRUE,0,IF(A89=TRUE,1,IF(A90=TRUE,3,IF(A91=TRUE,5,IF(A92=TRUE,7))))))) -> Selecteer een antwoord
A88: FALSE | B88: Is verbaal en begrijpt instructies zonder moeite.
A89: FALSE | B89: Soms is verduidelijking nodig, maar begrijpt de basis.
A90: FALSE | B90: Moeilijkheden om zich verbaal uit te drukken of begrijpt opdrachten slechts gedeeltelijk.
A91: FALSE | B91: Spreekt niet of zeer beperkt, communicatie enkel mogelijk met ondersteuning.
A92: FALSE | B92: Volledig afhankelijk van hulpmiddelen of begeleider om te communiceren.
A95: ESCALATIE EN CONFLICTEN MET KINDEREN EN BEGELEIDING
A96: SCORE | B96: =IF(COUNTIF(A97:A101,TRUE)=0,"Selecteer een antwoord",IF(COUNTIF(A97:A101,TRUE)>1,"Je kan maar 1 antwoord selecteren",IF(A97=TRUE,0,IF(A98=TRUE,1,IF(A99=TRUE,3,IF(A100=TRUE,5,IF(A101=TRUE,7))))))) -> Selecteer een antwoord
A97: FALSE | B97: Er zijn geen aandachtspunten.
A98: FALSE | B98: Komt af en toe eens in conflict, maar kan zichzelf bijsturen.
A99: FALSE | B99: Regelmatig in conflict, heeft structuur en begeleiding nodig.
A100: FALSE | B100: Vaak conflict, moeite in het samen spelen in groep. Heeft constante begeleiding nodig tijdens ongestructureerde momenten.
A101: FALSE | B101: Agressie en gevaarlijk gedrag vormen een risico voor zichzelf of anderen. Heeft constante begeleiding nodig.

Sheet 13
A1: NAAM | B1: (vul hier een naam in)
A2: RIJKSREGISTERNR | B2: (vul hier het rijksregisternummer in)
A3: ZORGSCORE | B3: =IF(( COUNTIF(B10,"Selecteer een antwoord")+ COUNTIF(B19,"Selecteer een antwoord")+ COUNTIF(B28,"Selecteer een antwoord")+ COUNTIF(B37,"Selecteer een antwoord")+ COUNTIF(B46,"Selecteer een antwoord")+ COUNTIF(B60,"Selecteer een antwoord")+ COUNTIF(B69,"Selecteer een antwoord")+ COUNTIF(B78,"Selecteer een antwoord")+ COUNTIF(B87,"Selecteer een antwoord")+ COUNTIF(B96,"Selecteer een antwoord"))>=1,"Zodra je per vraag 1 antwoord selecteert, verschijnt hieronder een zorgscore en een type begeleiding. Wanneer je meerdere antwoorden per vraag selecteert, verschijnt hieronder een foutcode.", IFERROR(B10+B19+B28+B37+B46+B60+B69+B78+B87+B96,"FOUTCODE: Je selecteerde meerdere antwoorden bij een vraag. Controleer je antwoorden en pas aan.")) -> Zodra je per vraag 1 antwoord selecteert, verschijnt hieronder een zorgscore en een type begeleiding. Wanneer je meerdere antwoorden per vraag selecteert, verschijnt hieronder een foutcode.
A4: TYPE BEGELEIDING | B4: =IF(ISTEXT(B3),"",_xlfn.XLOOKUP(B3,'OVERZICHT VOOR ORGANISATIE'!A5:A9,'OVERZICHT VOOR ORGANISATIE'!C5:C9,"",-1))
A6: VRAGEN ROND DE BEGELEIDING (planbare interventies)
A7: Begeleidingsintensiteit gaat over de mate waarin het kind met een ondersteuningsnood tijdens de activiteit ondersteuning nodig heeft van andere personen. We brengen daarbij alle ondersteuning in kaart, ongeacht wie die ondersteuning biedt. Deze planbare ondersteuning kan eventueel ook opgenomen worden door andere deelnemers aan de activiteit.
A9: ZELFREDZAAMHEID TIJDENS SPEL / ACTIVITEIT
A10: SCORE | B10: =IF(COUNTIF(A11:A15,TRUE)=0,"Selecteer een antwoord",IF(COUNTIF(A11:A15,TRUE)>1,"Je kan maar 1 antwoord selecteren",IF(A11=TRUE,0,IF(A12=TRUE,1,IF(A13=TRUE,2,IF(A14=TRUE,3,IF(A15=TRUE,4))))))) -> Selecteer een antwoord
A11: FALSE | B11: Speelt doorgaans volledig zelfstandig (al dan niet in groep).
A12: FALSE | B12: Heeft soms hulp nodig om tot spelen te komen, maar speelt vervolgens zelfstandig (al dan niet in groep).
A13: FALSE | B13: Heeft doorgaans begeleiding nodig om tot spelen te komen en te blijven spelen.
A14: FALSE | B14: Frequente acties van de begeleiding zijn noodzakelijk om tot spelen te komen en te blijven spelen.
A15: FALSE | B15: Blijvende begeleiding is noodzakelijk om tot spelen te komen.
A18: BEGRIJPEN VAN REGELS Bv. bij speluitleg, activiteit, ‘huisregels’...
A19: SCORE | B19: =IF(COUNTIF(A20:A24,TRUE)=0,"Selecteer een antwoord",IF(COUNTIF(A20:A24,TRUE)>1,"Je kan maar 1 antwoord selecteren",IF(A20=TRUE,0,IF(A21=TRUE,1,IF(A22=TRUE,2,IF(A23=TRUE,3,IF(A24=TRUE,4))))))) -> Selecteer een antwoord
A20: FALSE | B20: Begrijpt snel uitleg en heeft geen hulp nodig.
A21: FALSE | B21: Heeft soms extra verduidelijking nodig.
A22: FALSE | B22: Heeft een eenvoudige versie van de uitleg nodig, bv: gebracht in kleinere groep.
A23: FALSE | B23: Heeft meerdere keren extra individuele uitleg nodig op een aangepaste manier.
A24: FALSE | B24: Heeft blijvende individuele begeleiding nodig om regels (of uitleg/ de context) te begrijpen.
A27: ZORG ROND GEZONDHEID
A28: SCORE | B28: =IF(COUNTIF(A29:A33,TRUE)=0,"Selecteer een antwoord",IF(COUNTIF(A29:A33,TRUE)>1,"Je kan maar 1 antwoord selecteren",IF(A29=TRUE,0,IF(A30=TRUE,1,IF(A31=TRUE,2,IF(A32=TRUE,3,IF(A33=TRUE,4))))))) -> Selecteer een antwoord
A29: FALSE | B29: Er zijn geen bijzondere aandachtspunten rond gezondheid.
A30: FALSE | B30: Kleine aandachtspunten waar de begeleiding rekening mee houdt. (Bv: zelfstandig medicatie inname)
A31: FALSE | B31: Af en toe hulp of herinnering nodig van de begeleiding. (Bv: Herinneren aan eten of drinken, hulp bij inname medicatie, rekening houden met dieet)
A32: FALSE | B32: Regelmatig opvolging of hulp nodig door de begeleiding. (Bv: astma-aanval, epilepsie in het oog houden, bloedsuiker controleren)
A33: FALSE | B33: Veel en specifieke zorg nodig tijdens de werking. (Bv: sondevoeding, medische handelingen door een bekwame helper, hulp van thuisverpleging, intensieve opvolging van gezondheid)
A36: WELBEVINDEN VAN HET KIND TIJDENS DE WERKING
A37: SCORE | B37: =IF(COUNTIF(A38:A42,TRUE)=0,"Selecteer een antwoord",IF(COUNTIF(A38:A42,TRUE)>1,"Je kan maar 1 antwoord selecteren",IF(A38=TRUE,0,IF(A39=TRUE,1,IF(A40=TRUE,2,IF(A41=TRUE,3,IF(A42=TRUE,4))))))) -> Selecteer een antwoord
A38: FALSE | B38: Voelt zich tijdens de werking goed en is ontspannen.
A39: FALSE | B39: Aanwezigheid van de begeleiders in de ruimte is voldoende ondersteuning, voelt zich meestal goed.
A40: FALSE | B40: Soms is ondersteuning en geruststelling nodig, want emoties zijn vaak wisselend.
A41: FALSE | B41: Actieve ondersteuning is nodig, want er zijn regelmatig signalen dat het kind zich niet goed voelt. (Bv: zich terugtrekken, stil worden, sneller gefrustreerd raken)
A42: FALSE | B42: Voortdurende ondersteuning is nodig om zich veilig en goed te voelen.
A45: ONDERSTEUNING WEGENS VERMINDERDE FYSIEKE MOGELIJKHEDEN
A46: SCORE | B46: =IF(COUNTIF(A47:A51,TRUE)=0,"Selecteer een antwoord",IF(COUNTIF(A47:A51,TRUE)>1,"Je kan maar 1 antwoord selecteren",IF(A47=TRUE,0,IF(A48=TRUE,1,IF(A49=TRUE,2,IF(A50=TRUE,3,IF(A51=TRUE,4))))))) -> Selecteer een antwoord
A47: FALSE | B47: Er is geen hulp nodig.
A48: FALSE | B48: Soms hulp nodig bij korte momenten.
A49: FALSE | B49: Gedurende de dag is regelmatig hulp nodig. (Bv: begeleiden naar het toilet, ondersteuning door eten en drinken klaar te zetten, kleren klaarleggen)
A50: FALSE | B50: Constante hulp nodig. (Bv: volledige hulp nodig bij toiletbezoek, eten, drinken, aankleden, langere verplaatsingen of traplopen)
A51: FALSE | B51: Intensieve zorg: volledig afhankelijk van hulp van anderen. (Bv: toiletbezoek, eten en drinken, aankleden, verplaatsen; begeleiding moet continu aanwezig zijn en veel handelingen overnemen)
A56: VRAGEN ROND DE PERMANENTIE (niet planbare interventies)
A57: Permanentienood gaat over de mate waarin het kind met een ondersteuningsnood nood heeft aan nabijheid van een begeleider. Het gaat over de vraag of je het kind voor kortere of langere periode alleen kan laten in de groep zonder onmiddellijke beschikbaarheid van een begeleider. Wie nood heeft aan permanentie, heeft niet-planbare ondersteuning door begeleiders nodig. Het gaat dus om ondersteuning wanneer zich iets onverwachts voordoet. Dit is soms locatie afhankelijk.
A59: OVERPRIKKELING EN RUSTMOMENTEN
A60: SCORE | B60: =IF(COUNTIF(A61:A65,TRUE)=0,"Selecteer een antwoord",IF(COUNTIF(A61:A65,TRUE)>1,"Je kan maar 1 antwoord selecteren",IF(A61=TRUE,0,IF(A62=TRUE,1,IF(A63=TRUE,3,IF(A64=TRUE,5,IF(A65=TRUE,7))))))) -> Selecteer een antwoord
A61: FALSE | B61: Kan functioneren in een groep met veel prikkels.
A62: FALSE | B62: Heeft soms rustige momenten nodig, maar zoekt deze zelf op.
A63: FALSE | B63: Kan in groep functioneren als er regelmatig geplande rustmomenten zijn ingebouwd.
A64: FALSE | B64: Snel overprikkeld en moet door begeleiding begeleid worden naar rustmomenten.
A65: FALSE | B65: Heeft structureel een afzonderlijke ruimte nodig om tot rust te komen.
A68: WEGLOOPGEDRAG
A69: SCORE | B69: =IF(COUNTIF(A70:A74,TRUE)=0,"Selecteer een antwoord",IF(COUNTIF(A70:A74,TRUE)>1,"Je kan maar 1 antwoord selecteren",IF(A70=TRUE,0,IF(A71=TRUE,1,IF(A72=TRUE,3,IF(A73=TRUE,5,IF(A74=TRUE,7))))))) -> Selecteer een antwoord
A70: FALSE | B70: Er is geen risico op wegloopgedrag.
A71: FALSE | B71: Blijft bij de groep, maar het kan voorvallen dat uit verstrooiing de groep niet gevolgd wordt.
A72: FALSE | B72: Blijft op het terrein, maar neemt weinig deel aan de activiteit en speelt in eigen leefwereld.
A73: FALSE | B73: Probeert soms richting uitgang of onbekende zones te gaan; begeleiding moet actief opvolgen om weggaan te voorkomen.
A74: FALSE | B74: Als de infrastructuur open is, loopt het kind weg.
A77: EMOTIONELE EN / OF GEDRAGSMATIGE ONDERSTEUNING
A78: SCORE | B78: =IF(COUNTIF(A79:A83,TRUE)=0,"Selecteer een antwoord",IF(COUNTIF(A79:A83,TRUE)>1,"Je kan maar 1 antwoord selecteren",IF(A79=TRUE,0,IF(A80=TRUE,1,IF(A81=TRUE,3,IF(A82=TRUE,5,IF(A83=TRUE,7))))))) -> Selecteer een antwoord
A79: FALSE | B79: Er zijn geen bijzondere aandachtspunten.
A80: FALSE | B80: Zoekt uit zichzelf de nabijheid van een begeleider.
A81: FALSE | B81: Heeft bij overgangsmomenten een begeleider in de buurt nodig.
A82: FALSE | B82: Heeft de hele dag een vaste begeleider nodig in dezelfde ruimte.
A83: FALSE | B83: Heeft de hele dag een vaste begeleider nodig in dezelfde ruimte om de veiligheid te bewaken.
A86: COMMUNICATIE UITDAGINGEN EIGEN AAN DE ONDERSTEUNINGSNOOD
A87: SCORE | B87: =IF(COUNTIF(A88:A92,TRUE)=0,"Selecteer een antwoord",IF(COUNTIF(A88:A92,TRUE)>1,"Je kan maar 1 antwoord selecteren",IF(A88=TRUE,0,IF(A89=TRUE,1,IF(A90=TRUE,3,IF(A91=TRUE,5,IF(A92=TRUE,7))))))) -> Selecteer een antwoord
A88: FALSE | B88: Is verbaal en begrijpt instructies zonder moeite.
A89: FALSE | B89: Soms is verduidelijking nodig, maar begrijpt de basis.
A90: FALSE | B90: Moeilijkheden om zich verbaal uit te drukken of begrijpt opdrachten slechts gedeeltelijk.
A91: FALSE | B91: Spreekt niet of zeer beperkt, communicatie enkel mogelijk met ondersteuning.
A92: FALSE | B92: Volledig afhankelijk van hulpmiddelen of begeleider om te communiceren.
A95: ESCALATIE EN CONFLICTEN MET KINDEREN EN BEGELEIDING
A96: SCORE | B96: =IF(COUNTIF(A97:A101,TRUE)=0,"Selecteer een antwoord",IF(COUNTIF(A97:A101,TRUE)>1,"Je kan maar 1 antwoord selecteren",IF(A97=TRUE,0,IF(A98=TRUE,1,IF(A99=TRUE,3,IF(A100=TRUE,5,IF(A101=TRUE,7))))))) -> Selecteer een antwoord
A97: FALSE | B97: Er zijn geen aandachtspunten.
A98: FALSE | B98: Komt af en toe eens in conflict, maar kan zichzelf bijsturen.
A99: FALSE | B99: Regelmatig in conflict, heeft structuur en begeleiding nodig.
A100: FALSE | B100: Vaak conflict, moeite in het samen spelen in groep. Heeft constante begeleiding nodig tijdens ongestructureerde momenten.
A101: FALSE | B101: Agressie en gevaarlijk gedrag vormen een risico voor zichzelf of anderen. Heeft constante begeleiding nodig.

Sheet 14
A1: NAAM | B1: (vul hier een naam in)
A2: RIJKSREGISTERNR | B2: (vul hier het rijksregisternummer in)
A3: ZORGSCORE | B3: =IF(( COUNTIF(B10,"Selecteer een antwoord")+ COUNTIF(B19,"Selecteer een antwoord")+ COUNTIF(B28,"Selecteer een antwoord")+ COUNTIF(B37,"Selecteer een antwoord")+ COUNTIF(B46,"Selecteer een antwoord")+ COUNTIF(B60,"Selecteer een antwoord")+ COUNTIF(B69,"Selecteer een antwoord")+ COUNTIF(B78,"Selecteer een antwoord")+ COUNTIF(B87,"Selecteer een antwoord")+ COUNTIF(B96,"Selecteer een antwoord"))>=1,"Zodra je per vraag 1 antwoord selecteert, verschijnt hieronder een zorgscore en een type begeleiding. Wanneer je meerdere antwoorden per vraag selecteert, verschijnt hieronder een foutcode.", IFERROR(B10+B19+B28+B37+B46+B60+B69+B78+B87+B96,"FOUTCODE: Je selecteerde meerdere antwoorden bij een vraag. Controleer je antwoorden en pas aan.")) -> Zodra je per vraag 1 antwoord selecteert, verschijnt hieronder een zorgscore en een type begeleiding. Wanneer je meerdere antwoorden per vraag selecteert, verschijnt hieronder een foutcode.
A4: TYPE BEGELEIDING | B4: =IF(ISTEXT(B3),"",_xlfn.XLOOKUP(B3,'OVERZICHT VOOR ORGANISATIE'!A5:A9,'OVERZICHT VOOR ORGANISATIE'!C5:C9,"",-1))
A6: VRAGEN ROND DE BEGELEIDING (planbare interventies)
A7: Begeleidingsintensiteit gaat over de mate waarin het kind met een ondersteuningsnood tijdens de activiteit ondersteuning nodig heeft van andere personen. We brengen daarbij alle ondersteuning in kaart, ongeacht wie die ondersteuning biedt. Deze planbare ondersteuning kan eventueel ook opgenomen worden door andere deelnemers aan de activiteit.
A9: ZELFREDZAAMHEID TIJDENS SPEL / ACTIVITEIT
A10: SCORE | B10: =IF(COUNTIF(A11:A15,TRUE)=0,"Selecteer een antwoord",IF(COUNTIF(A11:A15,TRUE)>1,"Je kan maar 1 antwoord selecteren",IF(A11=TRUE,0,IF(A12=TRUE,1,IF(A13=TRUE,2,IF(A14=TRUE,3,IF(A15=TRUE,4))))))) -> Selecteer een antwoord
A11: FALSE | B11: Speelt doorgaans volledig zelfstandig (al dan niet in groep).
A12: FALSE | B12: Heeft soms hulp nodig om tot spelen te komen, maar speelt vervolgens zelfstandig (al dan niet in groep).
A13: FALSE | B13: Heeft doorgaans begeleiding nodig om tot spelen te komen en te blijven spelen.
A14: FALSE | B14: Frequente acties van de begeleiding zijn noodzakelijk om tot spelen te komen en te blijven spelen.
A15: FALSE | B15: Blijvende begeleiding is noodzakelijk om tot spelen te komen.
A18: BEGRIJPEN VAN REGELS Bv. bij speluitleg, activiteit, ‘huisregels’...
A19: SCORE | B19: =IF(COUNTIF(A20:A24,TRUE)=0,"Selecteer een antwoord",IF(COUNTIF(A20:A24,TRUE)>1,"Je kan maar 1 antwoord selecteren",IF(A20=TRUE,0,IF(A21=TRUE,1,IF(A22=TRUE,2,IF(A23=TRUE,3,IF(A24=TRUE,4))))))) -> Selecteer een antwoord
A20: FALSE | B20: Begrijpt snel uitleg en heeft geen hulp nodig.
A21: FALSE | B21: Heeft soms extra verduidelijking nodig.
A22: FALSE | B22: Heeft een eenvoudige versie van de uitleg nodig, bv: gebracht in kleinere groep.
A23: FALSE | B23: Heeft meerdere keren extra individuele uitleg nodig op een aangepaste manier.
A24: FALSE | B24: Heeft blijvende individuele begeleiding nodig om regels (of uitleg/ de context) te begrijpen.
A27: ZORG ROND GEZONDHEID
A28: SCORE | B28: =IF(COUNTIF(A29:A33,TRUE)=0,"Selecteer een antwoord",IF(COUNTIF(A29:A33,TRUE)>1,"Je kan maar 1 antwoord selecteren",IF(A29=TRUE,0,IF(A30=TRUE,1,IF(A31=TRUE,2,IF(A32=TRUE,3,IF(A33=TRUE,4))))))) -> Selecteer een antwoord
A29: FALSE | B29: Er zijn geen bijzondere aandachtspunten rond gezondheid.
A30: FALSE | B30: Kleine aandachtspunten waar de begeleiding rekening mee houdt. (Bv: zelfstandig medicatie inname)
A31: FALSE | B31: Af en toe hulp of herinnering nodig van de begeleiding. (Bv: Herinneren aan eten of drinken, hulp bij inname medicatie, rekening houden met dieet)
A32: FALSE | B32: Regelmatig opvolging of hulp nodig door de begeleiding. (Bv: astma-aanval, epilepsie in het oog houden, bloedsuiker controleren)
A33: FALSE | B33: Veel en specifieke zorg nodig tijdens de werking. (Bv: sondevoeding, medische handelingen door een bekwame helper, hulp van thuisverpleging, intensieve opvolging van gezondheid)
A36: WELBEVINDEN VAN HET KIND TIJDENS DE WERKING
A37: SCORE | B37: =IF(COUNTIF(A38:A42,TRUE)=0,"Selecteer een antwoord",IF(COUNTIF(A38:A42,TRUE)>1,"Je kan maar 1 antwoord selecteren",IF(A38=TRUE,0,IF(A39=TRUE,1,IF(A40=TRUE,2,IF(A41=TRUE,3,IF(A42=TRUE,4))))))) -> Selecteer een antwoord
A38: FALSE | B38: Voelt zich tijdens de werking goed en is ontspannen.
A39: FALSE | B39: Aanwezigheid van de begeleiders in de ruimte is voldoende ondersteuning, voelt zich meestal goed.
A40: FALSE | B40: Soms is ondersteuning en geruststelling nodig, want emoties zijn vaak wisselend.
A41: FALSE | B41: Actieve ondersteuning is nodig, want er zijn regelmatig signalen dat het kind zich niet goed voelt. (Bv: zich terugtrekken, stil worden, sneller gefrustreerd raken)
A42: FALSE | B42: Voortdurende ondersteuning is nodig om zich veilig en goed te voelen.
A45: ONDERSTEUNING WEGENS VERMINDERDE FYSIEKE MOGELIJKHEDEN
A46: SCORE | B46: =IF(COUNTIF(A47:A51,TRUE)=0,"Selecteer een antwoord",IF(COUNTIF(A47:A51,TRUE)>1,"Je kan maar 1 antwoord selecteren",IF(A47=TRUE,0,IF(A48=TRUE,1,IF(A49=TRUE,2,IF(A50=TRUE,3,IF(A51=TRUE,4))))))) -> Selecteer een antwoord
A47: FALSE | B47: Er is geen hulp nodig.
A48: FALSE | B48: Soms hulp nodig bij korte momenten.
A49: FALSE | B49: Gedurende de dag is regelmatig hulp nodig. (Bv: begeleiden naar het toilet, ondersteuning door eten en drinken klaar te zetten, kleren klaarleggen)
A50: FALSE | B50: Constante hulp nodig. (Bv: volledige hulp nodig bij toiletbezoek, eten, drinken, aankleden, langere verplaatsingen of traplopen)
A51: FALSE | B51: Intensieve zorg: volledig afhankelijk van hulp van anderen. (Bv: toiletbezoek, eten en drinken, aankleden, verplaatsen; begeleiding moet continu aanwezig zijn en veel handelingen overnemen)
A56: VRAGEN ROND DE PERMANENTIE (niet planbare interventies)
A57: Permanentienood gaat over de mate waarin het kind met een ondersteuningsnood nood heeft aan nabijheid van een begeleider. Het gaat over de vraag of je het kind voor kortere of langere periode alleen kan laten in de groep zonder onmiddellijke beschikbaarheid van een begeleider. Wie nood heeft aan permanentie, heeft niet-planbare ondersteuning door begeleiders nodig. Het gaat dus om ondersteuning wanneer zich iets onverwachts voordoet. Dit is soms locatie afhankelijk.
A59: OVERPRIKKELING EN RUSTMOMENTEN
A60: SCORE | B60: =IF(COUNTIF(A61:A65,TRUE)=0,"Selecteer een antwoord",IF(COUNTIF(A61:A65,TRUE)>1,"Je kan maar 1 antwoord selecteren",IF(A61=TRUE,0,IF(A62=TRUE,1,IF(A63=TRUE,3,IF(A64=TRUE,5,IF(A65=TRUE,7))))))) -> Selecteer een antwoord
A61: FALSE | B61: Kan functioneren in een groep met veel prikkels.
A62: FALSE | B62: Heeft soms rustige momenten nodig, maar zoekt deze zelf op.
A63: FALSE | B63: Kan in groep functioneren als er regelmatig geplande rustmomenten zijn ingebouwd.
A64: FALSE | B64: Snel overprikkeld en moet door begeleiding begeleid worden naar rustmomenten.
A65: FALSE | B65: Heeft structureel een afzonderlijke ruimte nodig om tot rust te komen.
A68: WEGLOOPGEDRAG
A69: SCORE | B69: =IF(COUNTIF(A70:A74,TRUE)=0,"Selecteer een antwoord",IF(COUNTIF(A70:A74,TRUE)>1,"Je kan maar 1 antwoord selecteren",IF(A70=TRUE,0,IF(A71=TRUE,1,IF(A72=TRUE,3,IF(A73=TRUE,5,IF(A74=TRUE,7))))))) -> Selecteer een antwoord
A70: FALSE | B70: Er is geen risico op wegloopgedrag.
A71: FALSE | B71: Blijft bij de groep, maar het kan voorvallen dat uit verstrooiing de groep niet gevolgd wordt.
A72: FALSE | B72: Blijft op het terrein, maar neemt weinig deel aan de activiteit en speelt in eigen leefwereld.
A73: FALSE | B73: Probeert soms richting uitgang of onbekende zones te gaan; begeleiding moet actief opvolgen om weggaan te voorkomen.
A74: FALSE | B74: Als de infrastructuur open is, loopt het kind weg.
A77: EMOTIONELE EN / OF GEDRAGSMATIGE ONDERSTEUNING
A78: SCORE | B78: =IF(COUNTIF(A79:A83,TRUE)=0,"Selecteer een antwoord",IF(COUNTIF(A79:A83,TRUE)>1,"Je kan maar 1 antwoord selecteren",IF(A79=TRUE,0,IF(A80=TRUE,1,IF(A81=TRUE,3,IF(A82=TRUE,5,IF(A83=TRUE,7))))))) -> Selecteer een antwoord
A79: FALSE | B79: Er zijn geen bijzondere aandachtspunten.
A80: FALSE | B80: Zoekt uit zichzelf de nabijheid van een begeleider.
A81: FALSE | B81: Heeft bij overgangsmomenten een begeleider in de buurt nodig.
A82: FALSE | B82: Heeft de hele dag een vaste begeleider nodig in dezelfde ruimte.
A83: FALSE | B83: Heeft de hele dag een vaste begeleider nodig in dezelfde ruimte om de veiligheid te bewaken.
A86: COMMUNICATIE UITDAGINGEN EIGEN AAN DE ONDERSTEUNINGSNOOD
A87: SCORE | B87: =IF(COUNTIF(A88:A92,TRUE)=0,"Selecteer een antwoord",IF(COUNTIF(A88:A92,TRUE)>1,"Je kan maar 1 antwoord selecteren",IF(A88=TRUE,0,IF(A89=TRUE,1,IF(A90=TRUE,3,IF(A91=TRUE,5,IF(A92=TRUE,7))))))) -> Selecteer een antwoord
A88: FALSE | B88: Is verbaal en begrijpt instructies zonder moeite.
A89: FALSE | B89: Soms is verduidelijking nodig, maar begrijpt de basis.
A90: FALSE | B90: Moeilijkheden om zich verbaal uit te drukken of begrijpt opdrachten slechts gedeeltelijk.
A91: FALSE | B91: Spreekt niet of zeer beperkt, communicatie enkel mogelijk met ondersteuning.
A92: FALSE | B92: Volledig afhankelijk van hulpmiddelen of begeleider om te communiceren.
A95: ESCALATIE EN CONFLICTEN MET KINDEREN EN BEGELEIDING
A96: SCORE | B96: =IF(COUNTIF(A97:A101,TRUE)=0,"Selecteer een antwoord",IF(COUNTIF(A97:A101,TRUE)>1,"Je kan maar 1 antwoord selecteren",IF(A97=TRUE,0,IF(A98=TRUE,1,IF(A99=TRUE,3,IF(A100=TRUE,5,IF(A101=TRUE,7))))))) -> Selecteer een antwoord
A97: FALSE | B97: Er zijn geen aandachtspunten.
A98: FALSE | B98: Komt af en toe eens in conflict, maar kan zichzelf bijsturen.
A99: FALSE | B99: Regelmatig in conflict, heeft structuur en begeleiding nodig.
A100: FALSE | B100: Vaak conflict, moeite in het samen spelen in groep. Heeft constante begeleiding nodig tijdens ongestructureerde momenten.
A101: FALSE | B101: Agressie en gevaarlijk gedrag vormen een risico voor zichzelf of anderen. Heeft constante begeleiding nodig.

Sheet 15
A1: NAAM | B1: (vul hier een naam in)
A2: RIJKSREGISTERNR | B2: (vul hier het rijksregisternummer in)
A3: ZORGSCORE | B3: =IF(( COUNTIF(B10,"Selecteer een antwoord")+ COUNTIF(B19,"Selecteer een antwoord")+ COUNTIF(B28,"Selecteer een antwoord")+ COUNTIF(B37,"Selecteer een antwoord")+ COUNTIF(B46,"Selecteer een antwoord")+ COUNTIF(B60,"Selecteer een antwoord")+ COUNTIF(B69,"Selecteer een antwoord")+ COUNTIF(B78,"Selecteer een antwoord")+ COUNTIF(B87,"Selecteer een antwoord")+ COUNTIF(B96,"Selecteer een antwoord"))>=1,"Zodra je per vraag 1 antwoord selecteert, verschijnt hieronder een zorgscore en een type begeleiding. Wanneer je meerdere antwoorden per vraag selecteert, verschijnt hieronder een foutcode.", IFERROR(B10+B19+B28+B37+B46+B60+B69+B78+B87+B96,"FOUTCODE: Je selecteerde meerdere antwoorden bij een vraag. Controleer je antwoorden en pas aan.")) -> Zodra je per vraag 1 antwoord selecteert, verschijnt hieronder een zorgscore en een type begeleiding. Wanneer je meerdere antwoorden per vraag selecteert, verschijnt hieronder een foutcode.
A4: TYPE BEGELEIDING | B4: =IF(ISTEXT(B3),"",_xlfn.XLOOKUP(B3,'OVERZICHT VOOR ORGANISATIE'!A5:A9,'OVERZICHT VOOR ORGANISATIE'!C5:C9,"",-1))
A6: VRAGEN ROND DE BEGELEIDING (planbare interventies)
A7: Begeleidingsintensiteit gaat over de mate waarin het kind met een ondersteuningsnood tijdens de activiteit ondersteuning nodig heeft van andere personen. We brengen daarbij alle ondersteuning in kaart, ongeacht wie die ondersteuning biedt. Deze planbare ondersteuning kan eventueel ook opgenomen worden door andere deelnemers aan de activiteit.
A9: ZELFREDZAAMHEID TIJDENS SPEL / ACTIVITEIT
A10: SCORE | B10: =IF(COUNTIF(A11:A15,TRUE)=0,"Selecteer een antwoord",IF(COUNTIF(A11:A15,TRUE)>1,"Je kan maar 1 antwoord selecteren",IF(A11=TRUE,0,IF(A12=TRUE,1,IF(A13=TRUE,2,IF(A14=TRUE,3,IF(A15=TRUE,4))))))) -> Selecteer een antwoord
A11: FALSE | B11: Speelt doorgaans volledig zelfstandig (al dan niet in groep).
A12: FALSE | B12: Heeft soms hulp nodig om tot spelen te komen, maar speelt vervolgens zelfstandig (al dan niet in groep).
A13: FALSE | B13: Heeft doorgaans begeleiding nodig om tot spelen te komen en te blijven spelen.
A14: FALSE | B14: Frequente acties van de begeleiding zijn noodzakelijk om tot spelen te komen en te blijven spelen.
A15: FALSE | B15: Blijvende begeleiding is noodzakelijk om tot spelen te komen.
A18: BEGRIJPEN VAN REGELS Bv. bij speluitleg, activiteit, ‘huisregels’...
A19: SCORE | B19: =IF(COUNTIF(A20:A24,TRUE)=0,"Selecteer een antwoord",IF(COUNTIF(A20:A24,TRUE)>1,"Je kan maar 1 antwoord selecteren",IF(A20=TRUE,0,IF(A21=TRUE,1,IF(A22=TRUE,2,IF(A23=TRUE,3,IF(A24=TRUE,4))))))) -> Selecteer een antwoord
A20: FALSE | B20: Begrijpt snel uitleg en heeft geen hulp nodig.
A21: FALSE | B21: Heeft soms extra verduidelijking nodig.
A22: FALSE | B22: Heeft een eenvoudige versie van de uitleg nodig, bv: gebracht in kleinere groep.
A23: FALSE | B23: Heeft meerdere keren extra individuele uitleg nodig op een aangepaste manier.
A24: FALSE | B24: Heeft blijvende individuele begeleiding nodig om regels (of uitleg/ de context) te begrijpen.
A27: ZORG ROND GEZONDHEID
A28: SCORE | B28: =IF(COUNTIF(A29:A33,TRUE)=0,"Selecteer een antwoord",IF(COUNTIF(A29:A33,TRUE)>1,"Je kan maar 1 antwoord selecteren",IF(A29=TRUE,0,IF(A30=TRUE,1,IF(A31=TRUE,2,IF(A32=TRUE,3,IF(A33=TRUE,4))))))) -> Selecteer een antwoord
A29: FALSE | B29: Er zijn geen bijzondere aandachtspunten rond gezondheid.
A30: FALSE | B30: Kleine aandachtspunten waar de begeleiding rekening mee houdt. (Bv: zelfstandig medicatie inname)
A31: FALSE | B31: Af en toe hulp of herinnering nodig van de begeleiding. (Bv: Herinneren aan eten of drinken, hulp bij inname medicatie, rekening houden met dieet)
A32: FALSE | B32: Regelmatig opvolging of hulp nodig door de begeleiding. (Bv: astma-aanval, epilepsie in het oog houden, bloedsuiker controleren)
A33: FALSE | B33: Veel en specifieke zorg nodig tijdens de werking. (Bv: sondevoeding, medische handelingen door een bekwame helper, hulp van thuisverpleging, intensieve opvolging van gezondheid)
A36: WELBEVINDEN VAN HET KIND TIJDENS DE WERKING
A37: SCORE | B37: =IF(COUNTIF(A38:A42,TRUE)=0,"Selecteer een antwoord",IF(COUNTIF(A38:A42,TRUE)>1,"Je kan maar 1 antwoord selecteren",IF(A38=TRUE,0,IF(A39=TRUE,1,IF(A40=TRUE,2,IF(A41=TRUE,3,IF(A42=TRUE,4))))))) -> Selecteer een antwoord
A38: FALSE | B38: Voelt zich tijdens de werking goed en is ontspannen.
A39: FALSE | B39: Aanwezigheid van de begeleiders in de ruimte is voldoende ondersteuning, voelt zich meestal goed.
A40: FALSE | B40: Soms is ondersteuning en geruststelling nodig, want emoties zijn vaak wisselend.
A41: FALSE | B41: Actieve ondersteuning is nodig, want er zijn regelmatig signalen dat het kind zich niet goed voelt. (Bv: zich terugtrekken, stil worden, sneller gefrustreerd raken)
A42: FALSE | B42: Voortdurende ondersteuning is nodig om zich veilig en goed te voelen.
A45: ONDERSTEUNING WEGENS VERMINDERDE FYSIEKE MOGELIJKHEDEN
A46: SCORE | B46: =IF(COUNTIF(A47:A51,TRUE)=0,"Selecteer een antwoord",IF(COUNTIF(A47:A51,TRUE)>1,"Je kan maar 1 antwoord selecteren",IF(A47=TRUE,0,IF(A48=TRUE,1,IF(A49=TRUE,2,IF(A50=TRUE,3,IF(A51=TRUE,4))))))) -> Selecteer een antwoord
A47: FALSE | B47: Er is geen hulp nodig.
A48: FALSE | B48: Soms hulp nodig bij korte momenten.
A49: FALSE | B49: Gedurende de dag is regelmatig hulp nodig. (Bv: begeleiden naar het toilet, ondersteuning door eten en drinken klaar te zetten, kleren klaarleggen)
A50: FALSE | B50: Constante hulp nodig. (Bv: volledige hulp nodig bij toiletbezoek, eten, drinken, aankleden, langere verplaatsingen of traplopen)
A51: FALSE | B51: Intensieve zorg: volledig afhankelijk van hulp van anderen. (Bv: toiletbezoek, eten en drinken, aankleden, verplaatsen; begeleiding moet continu aanwezig zijn en veel handelingen overnemen)
A56: VRAGEN ROND DE PERMANENTIE (niet planbare interventies)
A57: Permanentienood gaat over de mate waarin het kind met een ondersteuningsnood nood heeft aan nabijheid van een begeleider. Het gaat over de vraag of je het kind voor kortere of langere periode alleen kan laten in de groep zonder onmiddellijke beschikbaarheid van een begeleider. Wie nood heeft aan permanentie, heeft niet-planbare ondersteuning door begeleiders nodig. Het gaat dus om ondersteuning wanneer zich iets onverwachts voordoet. Dit is soms locatie afhankelijk.
A59: OVERPRIKKELING EN RUSTMOMENTEN
A60: SCORE | B60: =IF(COUNTIF(A61:A65,TRUE)=0,"Selecteer een antwoord",IF(COUNTIF(A61:A65,TRUE)>1,"Je kan maar 1 antwoord selecteren",IF(A61=TRUE,0,IF(A62=TRUE,1,IF(A63=TRUE,3,IF(A64=TRUE,5,IF(A65=TRUE,7))))))) -> Selecteer een antwoord
A61: FALSE | B61: Kan functioneren in een groep met veel prikkels.
A62: FALSE | B62: Heeft soms rustige momenten nodig, maar zoekt deze zelf op.
A63: FALSE | B63: Kan in groep functioneren als er regelmatig geplande rustmomenten zijn ingebouwd.
A64: FALSE | B64: Snel overprikkeld en moet door begeleiding begeleid worden naar rustmomenten.
A65: FALSE | B65: Heeft structureel een afzonderlijke ruimte nodig om tot rust te komen.
A68: WEGLOOPGEDRAG
A69: SCORE | B69: =IF(COUNTIF(A70:A74,TRUE)=0,"Selecteer een antwoord",IF(COUNTIF(A70:A74,TRUE)>1,"Je kan maar 1 antwoord selecteren",IF(A70=TRUE,0,IF(A71=TRUE,1,IF(A72=TRUE,3,IF(A73=TRUE,5,IF(A74=TRUE,7))))))) -> Selecteer een antwoord
A70: FALSE | B70: Er is geen risico op wegloopgedrag.
A71: FALSE | B71: Blijft bij de groep, maar het kan voorvallen dat uit verstrooiing de groep niet gevolgd wordt.
A72: FALSE | B72: Blijft op het terrein, maar neemt weinig deel aan de activiteit en speelt in eigen leefwereld.
A73: FALSE | B73: Probeert soms richting uitgang of onbekende zones te gaan; begeleiding moet actief opvolgen om weggaan te voorkomen.
A74: FALSE | B74: Als de infrastructuur open is, loopt het kind weg.
A77: EMOTIONELE EN / OF GEDRAGSMATIGE ONDERSTEUNING
A78: SCORE | B78: =IF(COUNTIF(A79:A83,TRUE)=0,"Selecteer een antwoord",IF(COUNTIF(A79:A83,TRUE)>1,"Je kan maar 1 antwoord selecteren",IF(A79=TRUE,0,IF(A80=TRUE,1,IF(A81=TRUE,3,IF(A82=TRUE,5,IF(A83=TRUE,7))))))) -> Selecteer een antwoord
A79: FALSE | B79: Er zijn geen bijzondere aandachtspunten.
A80: FALSE | B80: Zoekt uit zichzelf de nabijheid van een begeleider.
A81: FALSE | B81: Heeft bij overgangsmomenten een begeleider in de buurt nodig.
A82: FALSE | B82: Heeft de hele dag een vaste begeleider nodig in dezelfde ruimte.
A83: FALSE | B83: Heeft de hele dag een vaste begeleider nodig in dezelfde ruimte om de veiligheid te bewaken.
A86: COMMUNICATIE UITDAGINGEN EIGEN AAN DE ONDERSTEUNINGSNOOD
A87: SCORE | B87: =IF(COUNTIF(A88:A92,TRUE)=0,"Selecteer een antwoord",IF(COUNTIF(A88:A92,TRUE)>1,"Je kan maar 1 antwoord selecteren",IF(A88=TRUE,0,IF(A89=TRUE,1,IF(A90=TRUE,3,IF(A91=TRUE,5,IF(A92=TRUE,7))))))) -> Selecteer een antwoord
A88: FALSE | B88: Is verbaal en begrijpt instructies zonder moeite.
A89: FALSE | B89: Soms is verduidelijking nodig, maar begrijpt de basis.
A90: FALSE | B90: Moeilijkheden om zich verbaal uit te drukken of begrijpt opdrachten slechts gedeeltelijk.
A91: FALSE | B91: Spreekt niet of zeer beperkt, communicatie enkel mogelijk met ondersteuning.
A92: FALSE | B92: Volledig afhankelijk van hulpmiddelen of begeleider om te communiceren.
A95: ESCALATIE EN CONFLICTEN MET KINDEREN EN BEGELEIDING
A96: SCORE | B96: =IF(COUNTIF(A97:A101,TRUE)=0,"Selecteer een antwoord",IF(COUNTIF(A97:A101,TRUE)>1,"Je kan maar 1 antwoord selecteren",IF(A97=TRUE,0,IF(A98=TRUE,1,IF(A99=TRUE,3,IF(A100=TRUE,5,IF(A101=TRUE,7))))))) -> Selecteer een antwoord
A97: FALSE | B97: Er zijn geen aandachtspunten.
A98: FALSE | B98: Komt af en toe eens in conflict, maar kan zichzelf bijsturen.
A99: FALSE | B99: Regelmatig in conflict, heeft structuur en begeleiding nodig.
A100: FALSE | B100: Vaak conflict, moeite in het samen spelen in groep. Heeft constante begeleiding nodig tijdens ongestructureerde momenten.
A101: FALSE | B101: Agressie en gevaarlijk gedrag vormen een risico voor zichzelf of anderen. Heeft constante begeleiding nodig.

Sheet 16
A1: NAAM | B1: (vul hier een naam in)
A2: RIJKSREGISTERNR | B2: (vul hier het rijksregisternummer in)
A3: ZORGSCORE | B3: =IF(( COUNTIF(B10,"Selecteer een antwoord")+ COUNTIF(B19,"Selecteer een antwoord")+ COUNTIF(B28,"Selecteer een antwoord")+ COUNTIF(B37,"Selecteer een antwoord")+ COUNTIF(B46,"Selecteer een antwoord")+ COUNTIF(B60,"Selecteer een antwoord")+ COUNTIF(B69,"Selecteer een antwoord")+ COUNTIF(B78,"Selecteer een antwoord")+ COUNTIF(B87,"Selecteer een antwoord")+ COUNTIF(B96,"Selecteer een antwoord"))>=1,"Zodra je per vraag 1 antwoord selecteert, verschijnt hieronder een zorgscore en een type begeleiding. Wanneer je meerdere antwoorden per vraag selecteert, verschijnt hieronder een foutcode.", IFERROR(B10+B19+B28+B37+B46+B60+B69+B78+B87+B96,"FOUTCODE: Je selecteerde meerdere antwoorden bij een vraag. Controleer je antwoorden en pas aan.")) -> Zodra je per vraag 1 antwoord selecteert, verschijnt hieronder een zorgscore en een type begeleiding. Wanneer je meerdere antwoorden per vraag selecteert, verschijnt hieronder een foutcode.
A4: TYPE BEGELEIDING | B4: =IF(ISTEXT(B3),"",_xlfn.XLOOKUP(B3,'OVERZICHT VOOR ORGANISATIE'!A5:A9,'OVERZICHT VOOR ORGANISATIE'!C5:C9,"",-1))
A6: VRAGEN ROND DE BEGELEIDING (planbare interventies)
A7: Begeleidingsintensiteit gaat over de mate waarin het kind met een ondersteuningsnood tijdens de activiteit ondersteuning nodig heeft van andere personen. We brengen daarbij alle ondersteuning in kaart, ongeacht wie die ondersteuning biedt. Deze planbare ondersteuning kan eventueel ook opgenomen worden door andere deelnemers aan de activiteit.
A9: ZELFREDZAAMHEID TIJDENS SPEL / ACTIVITEIT
A10: SCORE | B10: =IF(COUNTIF(A11:A15,TRUE)=0,"Selecteer een antwoord",IF(COUNTIF(A11:A15,TRUE)>1,"Je kan maar 1 antwoord selecteren",IF(A11=TRUE,0,IF(A12=TRUE,1,IF(A13=TRUE,2,IF(A14=TRUE,3,IF(A15=TRUE,4))))))) -> Selecteer een antwoord
A11: FALSE | B11: Speelt doorgaans volledig zelfstandig (al dan niet in groep).
A12: FALSE | B12: Heeft soms hulp nodig om tot spelen te komen, maar speelt vervolgens zelfstandig (al dan niet in groep).
A13: FALSE | B13: Heeft doorgaans begeleiding nodig om tot spelen te komen en te blijven spelen.
A14: FALSE | B14: Frequente acties van de begeleiding zijn noodzakelijk om tot spelen te komen en te blijven spelen.
A15: FALSE | B15: Blijvende begeleiding is noodzakelijk om tot spelen te komen.
A18: BEGRIJPEN VAN REGELS Bv. bij speluitleg, activiteit, ‘huisregels’...
A19: SCORE | B19: =IF(COUNTIF(A20:A24,TRUE)=0,"Selecteer een antwoord",IF(COUNTIF(A20:A24,TRUE)>1,"Je kan maar 1 antwoord selecteren",IF(A20=TRUE,0,IF(A21=TRUE,1,IF(A22=TRUE,2,IF(A23=TRUE,3,IF(A24=TRUE,4))))))) -> Selecteer een antwoord
A20: FALSE | B20: Begrijpt snel uitleg en heeft geen hulp nodig.
A21: FALSE | B21: Heeft soms extra verduidelijking nodig.
A22: FALSE | B22: Heeft een eenvoudige versie van de uitleg nodig, bv: gebracht in kleinere groep.
A23: FALSE | B23: Heeft meerdere keren extra individuele uitleg nodig op een aangepaste manier.
A24: FALSE | B24: Heeft blijvende individuele begeleiding nodig om regels (of uitleg/ de context) te begrijpen.
A27: ZORG ROND GEZONDHEID
A28: SCORE | B28: =IF(COUNTIF(A29:A33,TRUE)=0,"Selecteer een antwoord",IF(COUNTIF(A29:A33,TRUE)>1,"Je kan maar 1 antwoord selecteren",IF(A29=TRUE,0,IF(A30=TRUE,1,IF(A31=TRUE,2,IF(A32=TRUE,3,IF(A33=TRUE,4))))))) -> Selecteer een antwoord
A29: FALSE | B29: Er zijn geen bijzondere aandachtspunten rond gezondheid.
A30: FALSE | B30: Kleine aandachtspunten waar de begeleiding rekening mee houdt. (Bv: zelfstandig medicatie inname)
A31: FALSE | B31: Af en toe hulp of herinnering nodig van de begeleiding. (Bv: Herinneren aan eten of drinken, hulp bij inname medicatie, rekening houden met dieet)
A32: FALSE | B32: Regelmatig opvolging of hulp nodig door de begeleiding. (Bv: astma-aanval, epilepsie in het oog houden, bloedsuiker controleren)
A33: FALSE | B33: Veel en specifieke zorg nodig tijdens de werking. (Bv: sondevoeding, medische handelingen door een bekwame helper, hulp van thuisverpleging, intensieve opvolging van gezondheid)
A36: WELBEVINDEN VAN HET KIND TIJDENS DE WERKING
A37: SCORE | B37: =IF(COUNTIF(A38:A42,TRUE)=0,"Selecteer een antwoord",IF(COUNTIF(A38:A42,TRUE)>1,"Je kan maar 1 antwoord selecteren",IF(A38=TRUE,0,IF(A39=TRUE,1,IF(A40=TRUE,2,IF(A41=TRUE,3,IF(A42=TRUE,4))))))) -> Selecteer een antwoord
A38: FALSE | B38: Voelt zich tijdens de werking goed en is ontspannen.
A39: FALSE | B39: Aanwezigheid van de begeleiders in de ruimte is voldoende ondersteuning, voelt zich meestal goed.
A40: FALSE | B40: Soms is ondersteuning en geruststelling nodig, want emoties zijn vaak wisselend.
A41: FALSE | B41: Actieve ondersteuning is nodig, want er zijn regelmatig signalen dat het kind zich niet goed voelt. (Bv: zich terugtrekken, stil worden, sneller gefrustreerd raken)
A42: FALSE | B42: Voortdurende ondersteuning is nodig om zich veilig en goed te voelen.
A45: ONDERSTEUNING WEGENS VERMINDERDE FYSIEKE MOGELIJKHEDEN
A46: SCORE | B46: =IF(COUNTIF(A47:A51,TRUE)=0,"Selecteer een antwoord",IF(COUNTIF(A47:A51,TRUE)>1,"Je kan maar 1 antwoord selecteren",IF(A47=TRUE,0,IF(A48=TRUE,1,IF(A49=TRUE,2,IF(A50=TRUE,3,IF(A51=TRUE,4))))))) -> Selecteer een antwoord
A47: FALSE | B47: Er is geen hulp nodig.
A48: FALSE | B48: Soms hulp nodig bij korte momenten.
A49: FALSE | B49: Gedurende de dag is regelmatig hulp nodig. (Bv: begeleiden naar het toilet, ondersteuning door eten en drinken klaar te zetten, kleren klaarleggen)
A50: FALSE | B50: Constante hulp nodig. (Bv: volledige hulp nodig bij toiletbezoek, eten, drinken, aankleden, langere verplaatsingen of traplopen)
A51: FALSE | B51: Intensieve zorg: volledig afhankelijk van hulp van anderen. (Bv: toiletbezoek, eten en drinken, aankleden, verplaatsen; begeleiding moet continu aanwezig zijn en veel handelingen overnemen)
A56: VRAGEN ROND DE PERMANENTIE (niet planbare interventies)
A57: Permanentienood gaat over de mate waarin het kind met een ondersteuningsnood nood heeft aan nabijheid van een begeleider. Het gaat over de vraag of je het kind voor kortere of langere periode alleen kan laten in de groep zonder onmiddellijke beschikbaarheid van een begeleider. Wie nood heeft aan permanentie, heeft niet-planbare ondersteuning door begeleiders nodig. Het gaat dus om ondersteuning wanneer zich iets onverwachts voordoet. Dit is soms locatie afhankelijk.
A59: OVERPRIKKELING EN RUSTMOMENTEN
A60: SCORE | B60: =IF(COUNTIF(A61:A65,TRUE)=0,"Selecteer een antwoord",IF(COUNTIF(A61:A65,TRUE)>1,"Je kan maar 1 antwoord selecteren",IF(A61=TRUE,0,IF(A62=TRUE,1,IF(A63=TRUE,3,IF(A64=TRUE,5,IF(A65=TRUE,7))))))) -> Selecteer een antwoord
A61: FALSE | B61: Kan functioneren in een groep met veel prikkels.
A62: FALSE | B62: Heeft soms rustige momenten nodig, maar zoekt deze zelf op.
A63: FALSE | B63: Kan in groep functioneren als er regelmatig geplande rustmomenten zijn ingebouwd.
A64: FALSE | B64: Snel overprikkeld en moet door begeleiding begeleid worden naar rustmomenten.
A65: FALSE | B65: Heeft structureel een afzonderlijke ruimte nodig om tot rust te komen.
A68: WEGLOOPGEDRAG
A69: SCORE | B69: =IF(COUNTIF(A70:A74,TRUE)=0,"Selecteer een antwoord",IF(COUNTIF(A70:A74,TRUE)>1,"Je kan maar 1 antwoord selecteren",IF(A70=TRUE,0,IF(A71=TRUE,1,IF(A72=TRUE,3,IF(A73=TRUE,5,IF(A74=TRUE,7))))))) -> Selecteer een antwoord
A70: FALSE | B70: Er is geen risico op wegloopgedrag.
A71: FALSE | B71: Blijft bij de groep, maar het kan voorvallen dat uit verstrooiing de groep niet gevolgd wordt.
A72: FALSE | B72: Blijft op het terrein, maar neemt weinig deel aan de activiteit en speelt in eigen leefwereld.
A73: FALSE | B73: Probeert soms richting uitgang of onbekende zones te gaan; begeleiding moet actief opvolgen om weggaan te voorkomen.
A74: FALSE | B74: Als de infrastructuur open is, loopt het kind weg.
A77: EMOTIONELE EN / OF GEDRAGSMATIGE ONDERSTEUNING
A78: SCORE | B78: =IF(COUNTIF(A79:A83,TRUE)=0,"Selecteer een antwoord",IF(COUNTIF(A79:A83,TRUE)>1,"Je kan maar 1 antwoord selecteren",IF(A79=TRUE,0,IF(A80=TRUE,1,IF(A81=TRUE,3,IF(A82=TRUE,5,IF(A83=TRUE,7))))))) -> Selecteer een antwoord
A79: FALSE | B79: Er zijn geen bijzondere aandachtspunten.
A80: FALSE | B80: Zoekt uit zichzelf de nabijheid van een begeleider.
A81: FALSE | B81: Heeft bij overgangsmomenten een begeleider in de buurt nodig.
A82: FALSE | B82: Heeft de hele dag een vaste begeleider nodig in dezelfde ruimte.
A83: FALSE | B83: Heeft de hele dag een vaste begeleider nodig in dezelfde ruimte om de veiligheid te bewaken.
A86: COMMUNICATIE UITDAGINGEN EIGEN AAN DE ONDERSTEUNINGSNOOD
A87: SCORE | B87: =IF(COUNTIF(A88:A92,TRUE)=0,"Selecteer een antwoord",IF(COUNTIF(A88:A92,TRUE)>1,"Je kan maar 1 antwoord selecteren",IF(A88=TRUE,0,IF(A89=TRUE,1,IF(A90=TRUE,3,IF(A91=TRUE,5,IF(A92=TRUE,7))))))) -> Selecteer een antwoord
A88: FALSE | B88: Is verbaal en begrijpt instructies zonder moeite.
A89: FALSE | B89: Soms is verduidelijking nodig, maar begrijpt de basis.
A90: FALSE | B90: Moeilijkheden om zich verbaal uit te drukken of begrijpt opdrachten slechts gedeeltelijk.
A91: FALSE | B91: Spreekt niet of zeer beperkt, communicatie enkel mogelijk met ondersteuning.
A92: FALSE | B92: Volledig afhankelijk van hulpmiddelen of begeleider om te communiceren.
A95: ESCALATIE EN CONFLICTEN MET KINDEREN EN BEGELEIDING
A96: SCORE | B96: =IF(COUNTIF(A97:A101,TRUE)=0,"Selecteer een antwoord",IF(COUNTIF(A97:A101,TRUE)>1,"Je kan maar 1 antwoord selecteren",IF(A97=TRUE,0,IF(A98=TRUE,1,IF(A99=TRUE,3,IF(A100=TRUE,5,IF(A101=TRUE,7))))))) -> Selecteer een antwoord
A97: FALSE | B97: Er zijn geen aandachtspunten.
A98: FALSE | B98: Komt af en toe eens in conflict, maar kan zichzelf bijsturen.
A99: FALSE | B99: Regelmatig in conflict, heeft structuur en begeleiding nodig.
A100: FALSE | B100: Vaak conflict, moeite in het samen spelen in groep. Heeft constante begeleiding nodig tijdens ongestructureerde momenten.
A101: FALSE | B101: Agressie en gevaarlijk gedrag vormen een risico voor zichzelf of anderen. Heeft constante begeleiding nodig.

Sheet 17
A1: NAAM | B1: (vul hier een naam in)
A2: RIJKSREGISTERNR | B2: (vul hier het rijksregisternummer in)
A3: ZORGSCORE | B3: =IF(( COUNTIF(B10,"Selecteer een antwoord")+ COUNTIF(B19,"Selecteer een antwoord")+ COUNTIF(B28,"Selecteer een antwoord")+ COUNTIF(B37,"Selecteer een antwoord")+ COUNTIF(B46,"Selecteer een antwoord")+ COUNTIF(B60,"Selecteer een antwoord")+ COUNTIF(B69,"Selecteer een antwoord")+ COUNTIF(B78,"Selecteer een antwoord")+ COUNTIF(B87,"Selecteer een antwoord")+ COUNTIF(B96,"Selecteer een antwoord"))>=1,"Zodra je per vraag 1 antwoord selecteert, verschijnt hieronder een zorgscore en een type begeleiding. Wanneer je meerdere antwoorden per vraag selecteert, verschijnt hieronder een foutcode.", IFERROR(B10+B19+B28+B37+B46+B60+B69+B78+B87+B96,"FOUTCODE: Je selecteerde meerdere antwoorden bij een vraag. Controleer je antwoorden en pas aan.")) -> Zodra je per vraag 1 antwoord selecteert, verschijnt hieronder een zorgscore en een type begeleiding. Wanneer je meerdere antwoorden per vraag selecteert, verschijnt hieronder een foutcode.
A4: TYPE BEGELEIDING | B4: =IF(ISTEXT(B3),"",_xlfn.XLOOKUP(B3,'OVERZICHT VOOR ORGANISATIE'!A5:A9,'OVERZICHT VOOR ORGANISATIE'!C5:C9,"",-1))
A6: VRAGEN ROND DE BEGELEIDING (planbare interventies)
A7: Begeleidingsintensiteit gaat over de mate waarin het kind met een ondersteuningsnood tijdens de activiteit ondersteuning nodig heeft van andere personen. We brengen daarbij alle ondersteuning in kaart, ongeacht wie die ondersteuning biedt. Deze planbare ondersteuning kan eventueel ook opgenomen worden door andere deelnemers aan de activiteit.
A9: ZELFREDZAAMHEID TIJDENS SPEL / ACTIVITEIT
A10: SCORE | B10: =IF(COUNTIF(A11:A15,TRUE)=0,"Selecteer een antwoord",IF(COUNTIF(A11:A15,TRUE)>1,"Je kan maar 1 antwoord selecteren",IF(A11=TRUE,0,IF(A12=TRUE,1,IF(A13=TRUE,2,IF(A14=TRUE,3,IF(A15=TRUE,4))))))) -> Selecteer een antwoord
A11: FALSE | B11: Speelt doorgaans volledig zelfstandig (al dan niet in groep).
A12: FALSE | B12: Heeft soms hulp nodig om tot spelen te komen, maar speelt vervolgens zelfstandig (al dan niet in groep).
A13: FALSE | B13: Heeft doorgaans begeleiding nodig om tot spelen te komen en te blijven spelen.
A14: FALSE | B14: Frequente acties van de begeleiding zijn noodzakelijk om tot spelen te komen en te blijven spelen.
A15: FALSE | B15: Blijvende begeleiding is noodzakelijk om tot spelen te komen.
A18: BEGRIJPEN VAN REGELS Bv. bij speluitleg, activiteit, ‘huisregels’...
A19: SCORE | B19: =IF(COUNTIF(A20:A24,TRUE)=0,"Selecteer een antwoord",IF(COUNTIF(A20:A24,TRUE)>1,"Je kan maar 1 antwoord selecteren",IF(A20=TRUE,0,IF(A21=TRUE,1,IF(A22=TRUE,2,IF(A23=TRUE,3,IF(A24=TRUE,4))))))) -> Selecteer een antwoord
A20: FALSE | B20: Begrijpt snel uitleg en heeft geen hulp nodig.
A21: FALSE | B21: Heeft soms extra verduidelijking nodig.
A22: FALSE | B22: Heeft een eenvoudige versie van de uitleg nodig, bv: gebracht in kleinere groep.
A23: FALSE | B23: Heeft meerdere keren extra individuele uitleg nodig op een aangepaste manier.
A24: FALSE | B24: Heeft blijvende individuele begeleiding nodig om regels (of uitleg/ de context) te begrijpen.
A27: ZORG ROND GEZONDHEID
A28: SCORE | B28: =IF(COUNTIF(A29:A33,TRUE)=0,"Selecteer een antwoord",IF(COUNTIF(A29:A33,TRUE)>1,"Je kan maar 1 antwoord selecteren",IF(A29=TRUE,0,IF(A30=TRUE,1,IF(A31=TRUE,2,IF(A32=TRUE,3,IF(A33=TRUE,4))))))) -> Selecteer een antwoord
A29: FALSE | B29: Er zijn geen bijzondere aandachtspunten rond gezondheid.
A30: FALSE | B30: Kleine aandachtspunten waar de begeleiding rekening mee houdt. (Bv: zelfstandig medicatie inname)
A31: FALSE | B31: Af en toe hulp of herinnering nodig van de begeleiding. (Bv: Herinneren aan eten of drinken, hulp bij inname medicatie, rekening houden met dieet)
A32: FALSE | B32: Regelmatig opvolging of hulp nodig door de begeleiding. (Bv: astma-aanval, epilepsie in het oog houden, bloedsuiker controleren)
A33: FALSE | B33: Veel en specifieke zorg nodig tijdens de werking. (Bv: sondevoeding, medische handelingen door een bekwame helper, hulp van thuisverpleging, intensieve opvolging van gezondheid)
A36: WELBEVINDEN VAN HET KIND TIJDENS DE WERKING
A37: SCORE | B37: =IF(COUNTIF(A38:A42,TRUE)=0,"Selecteer een antwoord",IF(COUNTIF(A38:A42,TRUE)>1,"Je kan maar 1 antwoord selecteren",IF(A38=TRUE,0,IF(A39=TRUE,1,IF(A40=TRUE,2,IF(A41=TRUE,3,IF(A42=TRUE,4))))))) -> Selecteer een antwoord
A38: FALSE | B38: Voelt zich tijdens de werking goed en is ontspannen.
A39: FALSE | B39: Aanwezigheid van de begeleiders in de ruimte is voldoende ondersteuning, voelt zich meestal goed.
A40: FALSE | B40: Soms is ondersteuning en geruststelling nodig, want emoties zijn vaak wisselend.
A41: FALSE | B41: Actieve ondersteuning is nodig, want er zijn regelmatig signalen dat het kind zich niet goed voelt. (Bv: zich terugtrekken, stil worden, sneller gefrustreerd raken)
A42: FALSE | B42: Voortdurende ondersteuning is nodig om zich veilig en goed te voelen.
A45: ONDERSTEUNING WEGENS VERMINDERDE FYSIEKE MOGELIJKHEDEN
A46: SCORE | B46: =IF(COUNTIF(A47:A51,TRUE)=0,"Selecteer een antwoord",IF(COUNTIF(A47:A51,TRUE)>1,"Je kan maar 1 antwoord selecteren",IF(A47=TRUE,0,IF(A48=TRUE,1,IF(A49=TRUE,2,IF(A50=TRUE,3,IF(A51=TRUE,4))))))) -> Selecteer een antwoord
A47: FALSE | B47: Er is geen hulp nodig.
A48: FALSE | B48: Soms hulp nodig bij korte momenten.
A49: FALSE | B49: Gedurende de dag is regelmatig hulp nodig. (Bv: begeleiden naar het toilet, ondersteuning door eten en drinken klaar te zetten, kleren klaarleggen)
A50: FALSE | B50: Constante hulp nodig. (Bv: volledige hulp nodig bij toiletbezoek, eten, drinken, aankleden, langere verplaatsingen of traplopen)
A51: FALSE | B51: Intensieve zorg: volledig afhankelijk van hulp van anderen. (Bv: toiletbezoek, eten en drinken, aankleden, verplaatsen; begeleiding moet continu aanwezig zijn en veel handelingen overnemen)
A56: VRAGEN ROND DE PERMANENTIE (niet planbare interventies)
A57: Permanentienood gaat over de mate waarin het kind met een ondersteuningsnood nood heeft aan nabijheid van een begeleider. Het gaat over de vraag of je het kind voor kortere of langere periode alleen kan laten in de groep zonder onmiddellijke beschikbaarheid van een begeleider. Wie nood heeft aan permanentie, heeft niet-planbare ondersteuning door begeleiders nodig. Het gaat dus om ondersteuning wanneer zich iets onverwachts voordoet. Dit is soms locatie afhankelijk.
A59: OVERPRIKKELING EN RUSTMOMENTEN
A60: SCORE | B60: =IF(COUNTIF(A61:A65,TRUE)=0,"Selecteer een antwoord",IF(COUNTIF(A61:A65,TRUE)>1,"Je kan maar 1 antwoord selecteren",IF(A61=TRUE,0,IF(A62=TRUE,1,IF(A63=TRUE,3,IF(A64=TRUE,5,IF(A65=TRUE,7))))))) -> Selecteer een antwoord
A61: FALSE | B61: Kan functioneren in een groep met veel prikkels.
A62: FALSE | B62: Heeft soms rustige momenten nodig, maar zoekt deze zelf op.
A63: FALSE | B63: Kan in groep functioneren als er regelmatig geplande rustmomenten zijn ingebouwd.
A64: FALSE | B64: Snel overprikkeld en moet door begeleiding begeleid worden naar rustmomenten.
A65: FALSE | B65: Heeft structureel een afzonderlijke ruimte nodig om tot rust te komen.
A68: WEGLOOPGEDRAG
A69: SCORE | B69: =IF(COUNTIF(A70:A74,TRUE)=0,"Selecteer een antwoord",IF(COUNTIF(A70:A74,TRUE)>1,"Je kan maar 1 antwoord selecteren",IF(A70=TRUE,0,IF(A71=TRUE,1,IF(A72=TRUE,3,IF(A73=TRUE,5,IF(A74=TRUE,7))))))) -> Selecteer een antwoord
A70: FALSE | B70: Er is geen risico op wegloopgedrag.
A71: FALSE | B71: Blijft bij de groep, maar het kan voorvallen dat uit verstrooiing de groep niet gevolgd wordt.
A72: FALSE | B72: Blijft op het terrein, maar neemt weinig deel aan de activiteit en speelt in eigen leefwereld.
A73: FALSE | B73: Probeert soms richting uitgang of onbekende zones te gaan; begeleiding moet actief opvolgen om weggaan te voorkomen.
A74: FALSE | B74: Als de infrastructuur open is, loopt het kind weg.
A77: EMOTIONELE EN / OF GEDRAGSMATIGE ONDERSTEUNING
A78: SCORE | B78: =IF(COUNTIF(A79:A83,TRUE)=0,"Selecteer een antwoord",IF(COUNTIF(A79:A83,TRUE)>1,"Je kan maar 1 antwoord selecteren",IF(A79=TRUE,0,IF(A80=TRUE,1,IF(A81=TRUE,3,IF(A82=TRUE,5,IF(A83=TRUE,7))))))) -> Selecteer een antwoord
A79: FALSE | B79: Er zijn geen bijzondere aandachtspunten.
A80: FALSE | B80: Zoekt uit zichzelf de nabijheid van een begeleider.
A81: FALSE | B81: Heeft bij overgangsmomenten een begeleider in de buurt nodig.
A82: FALSE | B82: Heeft de hele dag een vaste begeleider nodig in dezelfde ruimte.
A83: FALSE | B83: Heeft de hele dag een vaste begeleider nodig in dezelfde ruimte om de veiligheid te bewaken.
A86: COMMUNICATIE UITDAGINGEN EIGEN AAN DE ONDERSTEUNINGSNOOD
A87: SCORE | B87: =IF(COUNTIF(A88:A92,TRUE)=0,"Selecteer een antwoord",IF(COUNTIF(A88:A92,TRUE)>1,"Je kan maar 1 antwoord selecteren",IF(A88=TRUE,0,IF(A89=TRUE,1,IF(A90=TRUE,3,IF(A91=TRUE,5,IF(A92=TRUE,7))))))) -> Selecteer een antwoord
A88: FALSE | B88: Is verbaal en begrijpt instructies zonder moeite.
A89: FALSE | B89: Soms is verduidelijking nodig, maar begrijpt de basis.
A90: FALSE | B90: Moeilijkheden om zich verbaal uit te drukken of begrijpt opdrachten slechts gedeeltelijk.
A91: FALSE | B91: Spreekt niet of zeer beperkt, communicatie enkel mogelijk met ondersteuning.
A92: FALSE | B92: Volledig afhankelijk van hulpmiddelen of begeleider om te communiceren.
A95: ESCALATIE EN CONFLICTEN MET KINDEREN EN BEGELEIDING
A96: SCORE | B96: =IF(COUNTIF(A97:A101,TRUE)=0,"Selecteer een antwoord",IF(COUNTIF(A97:A101,TRUE)>1,"Je kan maar 1 antwoord selecteren",IF(A97=TRUE,0,IF(A98=TRUE,1,IF(A99=TRUE,3,IF(A100=TRUE,5,IF(A101=TRUE,7))))))) -> Selecteer een antwoord
A97: FALSE | B97: Er zijn geen aandachtspunten.
A98: FALSE | B98: Komt af en toe eens in conflict, maar kan zichzelf bijsturen.
A99: FALSE | B99: Regelmatig in conflict, heeft structuur en begeleiding nodig.
A100: FALSE | B100: Vaak conflict, moeite in het samen spelen in groep. Heeft constante begeleiding nodig tijdens ongestructureerde momenten.
A101: FALSE | B101: Agressie en gevaarlijk gedrag vormen een risico voor zichzelf of anderen. Heeft constante begeleiding nodig.

Sheet 18
A1: NAAM | B1: (vul hier een naam in)
A2: RIJKSREGISTERNR | B2: (vul hier het rijksregisternummer in)
A3: ZORGSCORE | B3: =IF(( COUNTIF(B10,"Selecteer een antwoord")+ COUNTIF(B19,"Selecteer een antwoord")+ COUNTIF(B28,"Selecteer een antwoord")+ COUNTIF(B37,"Selecteer een antwoord")+ COUNTIF(B46,"Selecteer een antwoord")+ COUNTIF(B60,"Selecteer een antwoord")+ COUNTIF(B69,"Selecteer een antwoord")+ COUNTIF(B78,"Selecteer een antwoord")+ COUNTIF(B87,"Selecteer een antwoord")+ COUNTIF(B96,"Selecteer een antwoord"))>=1,"Zodra je per vraag 1 antwoord selecteert, verschijnt hieronder een zorgscore en een type begeleiding. Wanneer je meerdere antwoorden per vraag selecteert, verschijnt hieronder een foutcode.", IFERROR(B10+B19+B28+B37+B46+B60+B69+B78+B87+B96,"FOUTCODE: Je selecteerde meerdere antwoorden bij een vraag. Controleer je antwoorden en pas aan.")) -> Zodra je per vraag 1 antwoord selecteert, verschijnt hieronder een zorgscore en een type begeleiding. Wanneer je meerdere antwoorden per vraag selecteert, verschijnt hieronder een foutcode.
A4: TYPE BEGELEIDING | B4: =IF(ISTEXT(B3),"",_xlfn.XLOOKUP(B3,'OVERZICHT VOOR ORGANISATIE'!A5:A9,'OVERZICHT VOOR ORGANISATIE'!C5:C9,"",-1))
A6: VRAGEN ROND DE BEGELEIDING (planbare interventies)
A7: Begeleidingsintensiteit gaat over de mate waarin het kind met een ondersteuningsnood tijdens de activiteit ondersteuning nodig heeft van andere personen. We brengen daarbij alle ondersteuning in kaart, ongeacht wie die ondersteuning biedt. Deze planbare ondersteuning kan eventueel ook opgenomen worden door andere deelnemers aan de activiteit.
A9: ZELFREDZAAMHEID TIJDENS SPEL / ACTIVITEIT
A10: SCORE | B10: =IF(COUNTIF(A11:A15,TRUE)=0,"Selecteer een antwoord",IF(COUNTIF(A11:A15,TRUE)>1,"Je kan maar 1 antwoord selecteren",IF(A11=TRUE,0,IF(A12=TRUE,1,IF(A13=TRUE,2,IF(A14=TRUE,3,IF(A15=TRUE,4))))))) -> Selecteer een antwoord
A11: FALSE | B11: Speelt doorgaans volledig zelfstandig (al dan niet in groep).
A12: FALSE | B12: Heeft soms hulp nodig om tot spelen te komen, maar speelt vervolgens zelfstandig (al dan niet in groep).
A13: FALSE | B13: Heeft doorgaans begeleiding nodig om tot spelen te komen en te blijven spelen.
A14: FALSE | B14: Frequente acties van de begeleiding zijn noodzakelijk om tot spelen te komen en te blijven spelen.
A15: FALSE | B15: Blijvende begeleiding is noodzakelijk om tot spelen te komen.
A18: BEGRIJPEN VAN REGELS Bv. bij speluitleg, activiteit, ‘huisregels’...
A19: SCORE | B19: =IF(COUNTIF(A20:A24,TRUE)=0,"Selecteer een antwoord",IF(COUNTIF(A20:A24,TRUE)>1,"Je kan maar 1 antwoord selecteren",IF(A20=TRUE,0,IF(A21=TRUE,1,IF(A22=TRUE,2,IF(A23=TRUE,3,IF(A24=TRUE,4))))))) -> Selecteer een antwoord
A20: FALSE | B20: Begrijpt snel uitleg en heeft geen hulp nodig.
A21: FALSE | B21: Heeft soms extra verduidelijking nodig.
A22: FALSE | B22: Heeft een eenvoudige versie van de uitleg nodig, bv: gebracht in kleinere groep.
A23: FALSE | B23: Heeft meerdere keren extra individuele uitleg nodig op een aangepaste manier.
A24: FALSE | B24: Heeft blijvende individuele begeleiding nodig om regels (of uitleg/ de context) te begrijpen.
A27: ZORG ROND GEZONDHEID
A28: SCORE | B28: =IF(COUNTIF(A29:A33,TRUE)=0,"Selecteer een antwoord",IF(COUNTIF(A29:A33,TRUE)>1,"Je kan maar 1 antwoord selecteren",IF(A29=TRUE,0,IF(A30=TRUE,1,IF(A31=TRUE,2,IF(A32=TRUE,3,IF(A33=TRUE,4))))))) -> Selecteer een antwoord
A29: FALSE | B29: Er zijn geen bijzondere aandachtspunten rond gezondheid.
A30: FALSE | B30: Kleine aandachtspunten waar de begeleiding rekening mee houdt. (Bv: zelfstandig medicatie inname)
A31: FALSE | B31: Af en toe hulp of herinnering nodig van de begeleiding. (Bv: Herinneren aan eten of drinken, hulp bij inname medicatie, rekening houden met dieet)
A32: FALSE | B32: Regelmatig opvolging of hulp nodig door de begeleiding. (Bv: astma-aanval, epilepsie in het oog houden, bloedsuiker controleren)
A33: FALSE | B33: Veel en specifieke zorg nodig tijdens de werking. (Bv: sondevoeding, medische handelingen door een bekwame helper, hulp van thuisverpleging, intensieve opvolging van gezondheid)
A36: WELBEVINDEN VAN HET KIND TIJDENS DE WERKING
A37: SCORE | B37: =IF(COUNTIF(A38:A42,TRUE)=0,"Selecteer een antwoord",IF(COUNTIF(A38:A42,TRUE)>1,"Je kan maar 1 antwoord selecteren",IF(A38=TRUE,0,IF(A39=TRUE,1,IF(A40=TRUE,2,IF(A41=TRUE,3,IF(A42=TRUE,4))))))) -> Selecteer een antwoord
A38: FALSE | B38: Voelt zich tijdens de werking goed en is ontspannen.
A39: FALSE | B39: Aanwezigheid van de begeleiders in de ruimte is voldoende ondersteuning, voelt zich meestal goed.
A40: FALSE | B40: Soms is ondersteuning en geruststelling nodig, want emoties zijn vaak wisselend.
A41: FALSE | B41: Actieve ondersteuning is nodig, want er zijn regelmatig signalen dat het kind zich niet goed voelt. (Bv: zich terugtrekken, stil worden, sneller gefrustreerd raken)
A42: FALSE | B42: Voortdurende ondersteuning is nodig om zich veilig en goed te voelen.
A45: ONDERSTEUNING WEGENS VERMINDERDE FYSIEKE MOGELIJKHEDEN
A46: SCORE | B46: =IF(COUNTIF(A47:A51,TRUE)=0,"Selecteer een antwoord",IF(COUNTIF(A47:A51,TRUE)>1,"Je kan maar 1 antwoord selecteren",IF(A47=TRUE,0,IF(A48=TRUE,1,IF(A49=TRUE,2,IF(A50=TRUE,3,IF(A51=TRUE,4))))))) -> Selecteer een antwoord
A47: FALSE | B47: Er is geen hulp nodig.
A48: FALSE | B48: Soms hulp nodig bij korte momenten.
A49: FALSE | B49: Gedurende de dag is regelmatig hulp nodig. (Bv: begeleiden naar het toilet, ondersteuning door eten en drinken klaar te zetten, kleren klaarleggen)
A50: FALSE | B50: Constante hulp nodig. (Bv: volledige hulp nodig bij toiletbezoek, eten, drinken, aankleden, langere verplaatsingen of traplopen)
A51: FALSE | B51: Intensieve zorg: volledig afhankelijk van hulp van anderen. (Bv: toiletbezoek, eten en drinken, aankleden, verplaatsen; begeleiding moet continu aanwezig zijn en veel handelingen overnemen)
A56: VRAGEN ROND DE PERMANENTIE (niet planbare interventies)
A57: Permanentienood gaat over de mate waarin het kind met een ondersteuningsnood nood heeft aan nabijheid van een begeleider. Het gaat over de vraag of je het kind voor kortere of langere periode alleen kan laten in de groep zonder onmiddellijke beschikbaarheid van een begeleider. Wie nood heeft aan permanentie, heeft niet-planbare ondersteuning door begeleiders nodig. Het gaat dus om ondersteuning wanneer zich iets onverwachts voordoet. Dit is soms locatie afhankelijk.
A59: OVERPRIKKELING EN RUSTMOMENTEN
A60: SCORE | B60: =IF(COUNTIF(A61:A65,TRUE)=0,"Selecteer een antwoord",IF(COUNTIF(A61:A65,TRUE)>1,"Je kan maar 1 antwoord selecteren",IF(A61=TRUE,0,IF(A62=TRUE,1,IF(A63=TRUE,3,IF(A64=TRUE,5,IF(A65=TRUE,7))))))) -> Selecteer een antwoord
A61: FALSE | B61: Kan functioneren in een groep met veel prikkels.
A62: FALSE | B62: Heeft soms rustige momenten nodig, maar zoekt deze zelf op.
A63: FALSE | B63: Kan in groep functioneren als er regelmatig geplande rustmomenten zijn ingebouwd.
A64: FALSE | B64: Snel overprikkeld en moet door begeleiding begeleid worden naar rustmomenten.
A65: FALSE | B65: Heeft structureel een afzonderlijke ruimte nodig om tot rust te komen.
A68: WEGLOOPGEDRAG
A69: SCORE | B69: =IF(COUNTIF(A70:A74,TRUE)=0,"Selecteer een antwoord",IF(COUNTIF(A70:A74,TRUE)>1,"Je kan maar 1 antwoord selecteren",IF(A70=TRUE,0,IF(A71=TRUE,1,IF(A72=TRUE,3,IF(A73=TRUE,5,IF(A74=TRUE,7))))))) -> Selecteer een antwoord
A70: FALSE | B70: Er is geen risico op wegloopgedrag.
A71: FALSE | B71: Blijft bij de groep, maar het kan voorvallen dat uit verstrooiing de groep niet gevolgd wordt.
A72: FALSE | B72: Blijft op het terrein, maar neemt weinig deel aan de activiteit en speelt in eigen leefwereld.
A73: FALSE | B73: Probeert soms richting uitgang of onbekende zones te gaan; begeleiding moet actief opvolgen om weggaan te voorkomen.
A74: FALSE | B74: Als de infrastructuur open is, loopt het kind weg.
A77: EMOTIONELE EN / OF GEDRAGSMATIGE ONDERSTEUNING
A78: SCORE | B78: =IF(COUNTIF(A79:A83,TRUE)=0,"Selecteer een antwoord",IF(COUNTIF(A79:A83,TRUE)>1,"Je kan maar 1 antwoord selecteren",IF(A79=TRUE,0,IF(A80=TRUE,1,IF(A81=TRUE,3,IF(A82=TRUE,5,IF(A83=TRUE,7))))))) -> Selecteer een antwoord
A79: FALSE | B79: Er zijn geen bijzondere aandachtspunten.
A80: FALSE | B80: Zoekt uit zichzelf de nabijheid van een begeleider.
A81: FALSE | B81: Heeft bij overgangsmomenten een begeleider in de buurt nodig.
A82: FALSE | B82: Heeft de hele dag een vaste begeleider nodig in dezelfde ruimte.
A83: FALSE | B83: Heeft de hele dag een vaste begeleider nodig in dezelfde ruimte om de veiligheid te bewaken.
A86: COMMUNICATIE UITDAGINGEN EIGEN AAN DE ONDERSTEUNINGSNOOD
A87: SCORE | B87: =IF(COUNTIF(A88:A92,TRUE)=0,"Selecteer een antwoord",IF(COUNTIF(A88:A92,TRUE)>1,"Je kan maar 1 antwoord selecteren",IF(A88=TRUE,0,IF(A89=TRUE,1,IF(A90=TRUE,3,IF(A91=TRUE,5,IF(A92=TRUE,7))))))) -> Selecteer een antwoord
A88: FALSE | B88: Is verbaal en begrijpt instructies zonder moeite.
A89: FALSE | B89: Soms is verduidelijking nodig, maar begrijpt de basis.
A90: FALSE | B90: Moeilijkheden om zich verbaal uit te drukken of begrijpt opdrachten slechts gedeeltelijk.
A91: FALSE | B91: Spreekt niet of zeer beperkt, communicatie enkel mogelijk met ondersteuning.
A92: FALSE | B92: Volledig afhankelijk van hulpmiddelen of begeleider om te communiceren.
A95: ESCALATIE EN CONFLICTEN MET KINDEREN EN BEGELEIDING
A96: SCORE | B96: =IF(COUNTIF(A97:A101,TRUE)=0,"Selecteer een antwoord",IF(COUNTIF(A97:A101,TRUE)>1,"Je kan maar 1 antwoord selecteren",IF(A97=TRUE,0,IF(A98=TRUE,1,IF(A99=TRUE,3,IF(A100=TRUE,5,IF(A101=TRUE,7))))))) -> Selecteer een antwoord
A97: FALSE | B97: Er zijn geen aandachtspunten.
A98: FALSE | B98: Komt af en toe eens in conflict, maar kan zichzelf bijsturen.
A99: FALSE | B99: Regelmatig in conflict, heeft structuur en begeleiding nodig.
A100: FALSE | B100: Vaak conflict, moeite in het samen spelen in groep. Heeft constante begeleiding nodig tijdens ongestructureerde momenten.
A101: FALSE | B101: Agressie en gevaarlijk gedrag vormen een risico voor zichzelf of anderen. Heeft constante begeleiding nodig.

Sheet 19
A1: NAAM | B1: (vul hier een naam in)
A2: RIJKSREGISTERNR | B2: (vul hier het rijksregisternummer in)
A3: ZORGSCORE | B3: =IF(( COUNTIF(B10,"Selecteer een antwoord")+ COUNTIF(B19,"Selecteer een antwoord")+ COUNTIF(B28,"Selecteer een antwoord")+ COUNTIF(B37,"Selecteer een antwoord")+ COUNTIF(B46,"Selecteer een antwoord")+ COUNTIF(B60,"Selecteer een antwoord")+ COUNTIF(B69,"Selecteer een antwoord")+ COUNTIF(B78,"Selecteer een antwoord")+ COUNTIF(B87,"Selecteer een antwoord")+ COUNTIF(B96,"Selecteer een antwoord"))>=1,"Zodra je per vraag 1 antwoord selecteert, verschijnt hieronder een zorgscore en een type begeleiding. Wanneer je meerdere antwoorden per vraag selecteert, verschijnt hieronder een foutcode.", IFERROR(B10+B19+B28+B37+B46+B60+B69+B78+B87+B96,"FOUTCODE: Je selecteerde meerdere antwoorden bij een vraag. Controleer je antwoorden en pas aan.")) -> Zodra je per vraag 1 antwoord selecteert, verschijnt hieronder een zorgscore en een type begeleiding. Wanneer je meerdere antwoorden per vraag selecteert, verschijnt hieronder een foutcode.
A4: TYPE BEGELEIDING | B4: =IF(ISTEXT(B3),"",_xlfn.XLOOKUP(B3,'OVERZICHT VOOR ORGANISATIE'!A5:A9,'OVERZICHT VOOR ORGANISATIE'!C5:C9,"",-1))
A6: VRAGEN ROND DE BEGELEIDING (planbare interventies)
A7: Begeleidingsintensiteit gaat over de mate waarin het kind met een ondersteuningsnood tijdens de activiteit ondersteuning nodig heeft van andere personen. We brengen daarbij alle ondersteuning in kaart, ongeacht wie die ondersteuning biedt. Deze planbare ondersteuning kan eventueel ook opgenomen worden door andere deelnemers aan de activiteit.
A9: ZELFREDZAAMHEID TIJDENS SPEL / ACTIVITEIT
A10: SCORE | B10: =IF(COUNTIF(A11:A15,TRUE)=0,"Selecteer een antwoord",IF(COUNTIF(A11:A15,TRUE)>1,"Je kan maar 1 antwoord selecteren",IF(A11=TRUE,0,IF(A12=TRUE,1,IF(A13=TRUE,2,IF(A14=TRUE,3,IF(A15=TRUE,4))))))) -> Selecteer een antwoord
A11: FALSE | B11: Speelt doorgaans volledig zelfstandig (al dan niet in groep).
A12: FALSE | B12: Heeft soms hulp nodig om tot spelen te komen, maar speelt vervolgens zelfstandig (al dan niet in groep).
A13: FALSE | B13: Heeft doorgaans begeleiding nodig om tot spelen te komen en te blijven spelen.
A14: FALSE | B14: Frequente acties van de begeleiding zijn noodzakelijk om tot spelen te komen en te blijven spelen.
A15: FALSE | B15: Blijvende begeleiding is noodzakelijk om tot spelen te komen.
A18: BEGRIJPEN VAN REGELS Bv. bij speluitleg, activiteit, ‘huisregels’...
A19: SCORE | B19: =IF(COUNTIF(A20:A24,TRUE)=0,"Selecteer een antwoord",IF(COUNTIF(A20:A24,TRUE)>1,"Je kan maar 1 antwoord selecteren",IF(A20=TRUE,0,IF(A21=TRUE,1,IF(A22=TRUE,2,IF(A23=TRUE,3,IF(A24=TRUE,4))))))) -> Selecteer een antwoord
A20: FALSE | B20: Begrijpt snel uitleg en heeft geen hulp nodig.
A21: FALSE | B21: Heeft soms extra verduidelijking nodig.
A22: FALSE | B22: Heeft een eenvoudige versie van de uitleg nodig, bv: gebracht in kleinere groep.
A23: FALSE | B23: Heeft meerdere keren extra individuele uitleg nodig op een aangepaste manier.
A24: FALSE | B24: Heeft blijvende individuele begeleiding nodig om regels (of uitleg/ de context) te begrijpen.
A27: ZORG ROND GEZONDHEID
A28: SCORE | B28: =IF(COUNTIF(A29:A33,TRUE)=0,"Selecteer een antwoord",IF(COUNTIF(A29:A33,TRUE)>1,"Je kan maar 1 antwoord selecteren",IF(A29=TRUE,0,IF(A30=TRUE,1,IF(A31=TRUE,2,IF(A32=TRUE,3,IF(A33=TRUE,4))))))) -> Selecteer een antwoord
A29: FALSE | B29: Er zijn geen bijzondere aandachtspunten rond gezondheid.
A30: FALSE | B30: Kleine aandachtspunten waar de begeleiding rekening mee houdt. (Bv: zelfstandig medicatie inname)
A31: FALSE | B31: Af en toe hulp of herinnering nodig van de begeleiding. (Bv: Herinneren aan eten of drinken, hulp bij inname medicatie, rekening houden met dieet)
A32: FALSE | B32: Regelmatig opvolging of hulp nodig door de begeleiding. (Bv: astma-aanval, epilepsie in het oog houden, bloedsuiker controleren)
A33: FALSE | B33: Veel en specifieke zorg nodig tijdens de werking. (Bv: sondevoeding, medische handelingen door een bekwame helper, hulp van thuisverpleging, intensieve opvolging van gezondheid)
A36: WELBEVINDEN VAN HET KIND TIJDENS DE WERKING
A37: SCORE | B37: =IF(COUNTIF(A38:A42,TRUE)=0,"Selecteer een antwoord",IF(COUNTIF(A38:A42,TRUE)>1,"Je kan maar 1 antwoord selecteren",IF(A38=TRUE,0,IF(A39=TRUE,1,IF(A40=TRUE,2,IF(A41=TRUE,3,IF(A42=TRUE,4))))))) -> Selecteer een antwoord
A38: FALSE | B38: Voelt zich tijdens de werking goed en is ontspannen.
A39: FALSE | B39: Aanwezigheid van de begeleiders in de ruimte is voldoende ondersteuning, voelt zich meestal goed.
A40: FALSE | B40: Soms is ondersteuning en geruststelling nodig, want emoties zijn vaak wisselend.
A41: FALSE | B41: Actieve ondersteuning is nodig, want er zijn regelmatig signalen dat het kind zich niet goed voelt. (Bv: zich terugtrekken, stil worden, sneller gefrustreerd raken)
A42: FALSE | B42: Voortdurende ondersteuning is nodig om zich veilig en goed te voelen.
A45: ONDERSTEUNING WEGENS VERMINDERDE FYSIEKE MOGELIJKHEDEN
A46: SCORE | B46: =IF(COUNTIF(A47:A51,TRUE)=0,"Selecteer een antwoord",IF(COUNTIF(A47:A51,TRUE)>1,"Je kan maar 1 antwoord selecteren",IF(A47=TRUE,0,IF(A48=TRUE,1,IF(A49=TRUE,2,IF(A50=TRUE,3,IF(A51=TRUE,4))))))) -> Selecteer een antwoord
A47: FALSE | B47: Er is geen hulp nodig.
A48: FALSE | B48: Soms hulp nodig bij korte momenten.
A49: FALSE | B49: Gedurende de dag is regelmatig hulp nodig. (Bv: begeleiden naar het toilet, ondersteuning door eten en drinken klaar te zetten, kleren klaarleggen)
A50: FALSE | B50: Constante hulp nodig. (Bv: volledige hulp nodig bij toiletbezoek, eten, drinken, aankleden, langere verplaatsingen of traplopen)
A51: FALSE | B51: Intensieve zorg: volledig afhankelijk van hulp van anderen. (Bv: toiletbezoek, eten en drinken, aankleden, verplaatsen; begeleiding moet continu aanwezig zijn en veel handelingen overnemen)
A56: VRAGEN ROND DE PERMANENTIE (niet planbare interventies)
A57: Permanentienood gaat over de mate waarin het kind met een ondersteuningsnood nood heeft aan nabijheid van een begeleider. Het gaat over de vraag of je het kind voor kortere of langere periode alleen kan laten in de groep zonder onmiddellijke beschikbaarheid van een begeleider. Wie nood heeft aan permanentie, heeft niet-planbare ondersteuning door begeleiders nodig. Het gaat dus om ondersteuning wanneer zich iets onverwachts voordoet. Dit is soms locatie afhankelijk.
A59: OVERPRIKKELING EN RUSTMOMENTEN
A60: SCORE | B60: =IF(COUNTIF(A61:A65,TRUE)=0,"Selecteer een antwoord",IF(COUNTIF(A61:A65,TRUE)>1,"Je kan maar 1 antwoord selecteren",IF(A61=TRUE,0,IF(A62=TRUE,1,IF(A63=TRUE,3,IF(A64=TRUE,5,IF(A65=TRUE,7))))))) -> Selecteer een antwoord
A61: FALSE | B61: Kan functioneren in een groep met veel prikkels.
